BEGIN:VCALENDAR
VERSION:2.0
PRODID:-//Seven Hills School - ECPv6.15.20//NONSGML v1.0//EN
CALSCALE:GREGORIAN
METHOD:PUBLISH
X-ORIGINAL-URL:https://www.7hills.org
X-WR-CALDESC:Events for Seven Hills School
REFRESH-INTERVAL;VALUE=DURATION:PT1H
X-Robots-Tag:noindex
X-PUBLISHED-TTL:PT1H
BEGIN:VTIMEZONE
TZID:America/New_York
BEGIN:DAYLIGHT
TZOFFSETFROM:-0500
TZOFFSETTO:-0400
TZNAME:EDT
DTSTART:20210314T070000
END:DAYLIGHT
BEGIN:STANDARD
TZOFFSETFROM:-0400
TZOFFSETTO:-0500
TZNAME:EST
DTSTART:20211107T060000
END:STANDARD
BEGIN:DAYLIGHT
TZOFFSETFROM:-0500
TZOFFSETTO:-0400
TZNAME:EDT
DTSTART:20220313T070000
END:DAYLIGHT
BEGIN:STANDARD
TZOFFSETFROM:-0400
TZOFFSETTO:-0500
TZNAME:EST
DTSTART:20221106T060000
END:STANDARD
BEGIN:DAYLIGHT
TZOFFSETFROM:-0500
TZOFFSETTO:-0400
TZNAME:EDT
DTSTART:20230312T070000
END:DAYLIGHT
BEGIN:STANDARD
TZOFFSETFROM:-0400
TZOFFSETTO:-0500
TZNAME:EST
DTSTART:20231105T060000
END:STANDARD
END:VTIMEZONE
BEGIN:VEVENT
DTSTART;VALUE=DATE:20220502
DTEND;VALUE=DATE:20220507
DTSTAMP:20260423T051023
CREATED:20210719T174754Z
LAST-MODIFIED:20210719T174928Z
UID:15042-1651449600-1651881599@www.7hills.org
SUMMARY:U-AP Testing
DESCRIPTION:
URL:https://www.7hills.org/event/u-ap-testing/
CATEGORIES:All School
END:VEVENT
BEGIN:VEVENT
DTSTART;VALUE=DATE:20220502
DTEND;VALUE=DATE:20220507
DTSTAMP:20260423T051023
CREATED:20220429T153354Z
LAST-MODIFIED:20220429T153354Z
UID:17361-1651449600-1651881599@www.7hills.org
SUMMARY:D/L-ERB Testing
DESCRIPTION:
URL:https://www.7hills.org/event/d-l-erb-testing/
CATEGORIES:All School
END:VEVENT
BEGIN:VEVENT
DTSTART;TZID=America/New_York:20220503T170000
DTEND;TZID=America/New_York:20220503T173000
DTSTAMP:20260423T051023
CREATED:20220429T153514Z
LAST-MODIFIED:20220429T153514Z
UID:17362-1651597200-1651599000@www.7hills.org
SUMMARY:Jacob Weinstein Memorial Dedication
DESCRIPTION:
URL:https://www.7hills.org/event/jacob-weinstein-memorial-dedication/
LOCATION:Baseball Field
CATEGORIES:All School,Alumni
END:VEVENT
BEGIN:VEVENT
DTSTART;TZID=America/New_York:20220504T183000
DTEND;TZID=America/New_York:20220504T203000
DTSTAMP:20260423T051023
CREATED:20220329T200708Z
LAST-MODIFIED:20220329T200708Z
UID:17135-1651689000-1651696200@www.7hills.org
SUMMARY:M/U-Bunco Night for Gr. 8-12 Parents
DESCRIPTION:
URL:https://www.7hills.org/event/m-u-bunco-night-for-gr-8-12-parents/
LOCATION:Schiff Center
CATEGORIES:All School
END:VEVENT
BEGIN:VEVENT
DTSTART;TZID=America/New_York:20220505T120000
DTEND;TZID=America/New_York:20220505T140000
DTSTAMP:20260423T051023
CREATED:20210719T175024Z
LAST-MODIFIED:20220325T151823Z
UID:15054-1651752000-1651759200@www.7hills.org
SUMMARY:TSHS-Advisory Council
DESCRIPTION:
URL:https://www.7hills.org/event/tshs-advisory-council/
CATEGORIES:All School
END:VEVENT
BEGIN:VEVENT
DTSTART;VALUE=DATE:20220506
DTEND;VALUE=DATE:20220507
DTSTAMP:20260423T051023
CREATED:20210719T144014Z
LAST-MODIFIED:20210719T144014Z
UID:14867-1651795200-1651881599@www.7hills.org
SUMMARY:Grades 1-8 Fall Sports Registration Ends
DESCRIPTION:
URL:https://www.7hills.org/event/grades-1-8-fall-sports-registration-ends/
CATEGORIES:All School
END:VEVENT
BEGIN:VEVENT
DTSTART;VALUE=DATE:20220506
DTEND;VALUE=DATE:20220507
DTSTAMP:20260423T051023
CREATED:20210719T175508Z
LAST-MODIFIED:20220414T125116Z
UID:15062-1651795200-1651881599@www.7hills.org
SUMMARY:D-Olympic Day
DESCRIPTION:
URL:https://www.7hills.org/event/d-olympic-day/
CATEGORIES:All School
END:VEVENT
BEGIN:VEVENT
DTSTART;VALUE=DATE:20220506
DTEND;VALUE=DATE:20220507
DTSTAMP:20260423T051023
CREATED:20220429T150842Z
LAST-MODIFIED:20220429T150842Z
UID:17360-1651795200-1651881599@www.7hills.org
SUMMARY:TSHS-Spirit Shop Sale
DESCRIPTION:
URL:https://www.7hills.org/event/tshs-spirit-shop-sale/
LOCATION:Hillsdale Campus Deck
CATEGORIES:All School
END:VEVENT
BEGIN:VEVENT
DTSTART;TZID=America/New_York:20220506T080000
DTEND;TZID=America/New_York:20220506T100000
DTSTAMP:20260423T051023
CREATED:20220429T153701Z
LAST-MODIFIED:20220429T153701Z
UID:17364-1651824000-1651831200@www.7hills.org
SUMMARY:U-Shark Tank
DESCRIPTION:
URL:https://www.7hills.org/event/u-shark-tank/
LOCATION:Founders Hall\, The Seven Hills School\, 5400 Red Bank Road\, Cincinnati\, OH\, 45227\, United States
CATEGORIES:All School
END:VEVENT
BEGIN:VEVENT
DTSTART;TZID=America/New_York:20220506T083000
DTEND;TZID=America/New_York:20220506T093000
DTSTAMP:20260423T051023
CREATED:20220414T125305Z
LAST-MODIFIED:20220414T125305Z
UID:17164-1651825800-1651829400@www.7hills.org
SUMMARY:D-Doherty Parent Community Meeting
DESCRIPTION:
URL:https://www.7hills.org/event/d-doherty-parent-community-meeting-3/
CATEGORIES:All School
END:VEVENT
BEGIN:VEVENT
DTSTART;TZID=America/New_York:20220506T173000
DTEND;TZID=America/New_York:20220506T200000
DTSTAMP:20260423T051023
CREATED:20210719T175217Z
LAST-MODIFIED:20220421T154227Z
UID:15055-1651858200-1651867200@www.7hills.org
SUMMARY:L-May Fete
DESCRIPTION:
URL:https://www.7hills.org/event/l-may-fete/
LOCATION:Kalnow Gym\, 5400 Red Bank Road\, Cincinnati\, Ohio\, 45227
CATEGORIES:All School
END:VEVENT
BEGIN:VEVENT
DTSTART;TZID=America/New_York:20220507T150000
DTEND;TZID=America/New_York:20220507T160000
DTSTAMP:20260423T051023
CREATED:20210719T154324Z
LAST-MODIFIED:20220217T202056Z
UID:14954-1651935600-1651939200@www.7hills.org
SUMMARY:M-Instrumental Concert
DESCRIPTION:
URL:https://www.7hills.org/event/m-instrumental-concert-3/
LOCATION:Schiff Center
CATEGORIES:All School
END:VEVENT
BEGIN:VEVENT
DTSTART;TZID=America/New_York:20220507T170000
DTEND;TZID=America/New_York:20220507T180000
DTSTAMP:20260423T051023
CREATED:20210719T154350Z
LAST-MODIFIED:20220217T202034Z
UID:14955-1651942800-1651946400@www.7hills.org
SUMMARY:U-Instrumental Concert
DESCRIPTION:
URL:https://www.7hills.org/event/u-instrumental-concert-2/
LOCATION:Schiff Center
CATEGORIES:All School
END:VEVENT
BEGIN:VEVENT
DTSTART;VALUE=DATE:20220509
DTEND;VALUE=DATE:20220514
DTSTAMP:20260423T051023
CREATED:20210719T174951Z
LAST-MODIFIED:20210719T174951Z
UID:15053-1652054400-1652486399@www.7hills.org
SUMMARY:U-AP Testing
DESCRIPTION:
URL:https://www.7hills.org/event/u-ap-testing-2/
CATEGORIES:All School
END:VEVENT
BEGIN:VEVENT
DTSTART;TZID=America/New_York:20220509T160000
DTEND;TZID=America/New_York:20220509T190000
DTSTAMP:20260423T051023
CREATED:20220413T183323Z
LAST-MODIFIED:20220413T183323Z
UID:17159-1652112000-1652122800@www.7hills.org
SUMMARY:TSHS-Family Food Truck at tennis & lacrosse games
DESCRIPTION:
URL:https://www.7hills.org/event/tshs-family-food-truck-at-tennis-lacrosse-games/
LOCATION:Pavilion
CATEGORIES:All School
END:VEVENT
BEGIN:VEVENT
DTSTART;TZID=America/New_York:20220510T090000
DTEND;TZID=America/New_York:20220510T100000
DTSTAMP:20260423T051023
CREATED:20210719T145920Z
LAST-MODIFIED:20210719T145920Z
UID:14895-1652173200-1652176800@www.7hills.org
SUMMARY:U-Coffee with a College Counselor "Transition to College" via Zoom
DESCRIPTION:
URL:https://www.7hills.org/event/u-coffee-with-a-college-counselor-transition-to-college-via-zoom/
CATEGORIES:All School
END:VEVENT
BEGIN:VEVENT
DTSTART;TZID=America/New_York:20220511T180000
DTEND;TZID=America/New_York:20220511T190000
DTSTAMP:20260423T051023
CREATED:20210810T160724Z
LAST-MODIFIED:20220810T171123Z
UID:15128-1652292000-1652295600@www.7hills.org
SUMMARY:TSHS-Alumni Board Meeting
DESCRIPTION:
URL:https://www.7hills.org/event/tshs-alumni-board-meeting-2022-05-11/
LOCATION:Heffner Alumni Conference Room
CATEGORIES:All School,Alumni
END:VEVENT
BEGIN:VEVENT
DTSTART;TZID=America/New_York:20220511T193000
DTEND;TZID=America/New_York:20220511T203000
DTSTAMP:20260423T051023
CREATED:20210719T154505Z
LAST-MODIFIED:20211129T195334Z
UID:14957-1652297400-1652301000@www.7hills.org
SUMMARY:M-Choral Concert
DESCRIPTION:
URL:https://www.7hills.org/event/m-choral-concert-3/
LOCATION:Schiff Center
CATEGORIES:All School
END:VEVENT
BEGIN:VEVENT
DTSTART;VALUE=DATE:20220512
DTEND;VALUE=DATE:20220514
DTSTAMP:20260423T051023
CREATED:20210719T175830Z
LAST-MODIFIED:20211118T200120Z
UID:15068-1652313600-1652486399@www.7hills.org
SUMMARY:U-Senior Retreat
DESCRIPTION:
URL:https://www.7hills.org/event/u-senior-retreat-2/
CATEGORIES:All School
END:VEVENT
BEGIN:VEVENT
DTSTART;VALUE=DATE:20220512
DTEND;VALUE=DATE:20220513
DTSTAMP:20260423T051023
CREATED:20210719T175937Z
LAST-MODIFIED:20220428T171214Z
UID:15070-1652313600-1652399999@www.7hills.org
SUMMARY:U-Seniors College Shirt Day
DESCRIPTION:
URL:https://www.7hills.org/event/u-seniors-college-shirt-day-2/
CATEGORIES:All School
END:VEVENT
BEGIN:VEVENT
DTSTART;TZID=America/New_York:20220512T081000
DTEND;TZID=America/New_York:20220512T090000
DTSTAMP:20260423T051023
CREATED:20210719T175906Z
LAST-MODIFIED:20220307T201820Z
UID:15069-1652343000-1652346000@www.7hills.org
SUMMARY:U-Senior Countdown to Graduation Breakfast
DESCRIPTION:
URL:https://www.7hills.org/event/u-senior-countdown-to-graduation-breakfast-2/
CATEGORIES:All School
END:VEVENT
BEGIN:VEVENT
DTSTART;TZID=America/New_York:20220512T140000
DTEND;TZID=America/New_York:20220512T144500
DTSTAMP:20260423T051023
CREATED:20210719T180206Z
LAST-MODIFIED:20220406T132735Z
UID:15074-1652364000-1652366700@www.7hills.org
SUMMARY:D/L-Doherty/Lotspeich Senior Reunions
DESCRIPTION:
URL:https://www.7hills.org/event/d-l-doherty-lotspeich-senior-reunions/
CATEGORIES:All School
END:VEVENT
BEGIN:VEVENT
DTSTART;TZID=America/New_York:20220512T193000
DTEND;TZID=America/New_York:20220512T203000
DTSTAMP:20260423T051023
CREATED:20210719T154536Z
LAST-MODIFIED:20211129T195305Z
UID:14958-1652383800-1652387400@www.7hills.org
SUMMARY:U-Choral Concert
DESCRIPTION:
URL:https://www.7hills.org/event/u-choral-concert-2/
LOCATION:Schiff Center
CATEGORIES:All School
END:VEVENT
BEGIN:VEVENT
DTSTART;VALUE=DATE:20220513
DTEND;VALUE=DATE:20220514
DTSTAMP:20260423T051023
CREATED:20210719T175357Z
LAST-MODIFIED:20210719T175357Z
UID:15059-1652400000-1652486399@www.7hills.org
SUMMARY:U-End of Fourth Quarter
DESCRIPTION:
URL:https://www.7hills.org/event/u-end-of-fourth-quarter-2/
CATEGORIES:All School
END:VEVENT
BEGIN:VEVENT
DTSTART;VALUE=DATE:20220513
DTEND;VALUE=DATE:20220514
DTSTAMP:20260423T051023
CREATED:20210719T175445Z
LAST-MODIFIED:20210719T175445Z
UID:15061-1652400000-1652486399@www.7hills.org
SUMMARY:U-Last Day of Classes
DESCRIPTION:
URL:https://www.7hills.org/event/u-last-day-of-classes-2/
CATEGORIES:All School
END:VEVENT
BEGIN:VEVENT
DTSTART;TZID=America/New_York:20220513T103000
DTEND;TZID=America/New_York:20220513T110000
DTSTAMP:20260423T051023
CREATED:20220428T171237Z
LAST-MODIFIED:20220428T171237Z
UID:17355-1652437800-1652439600@www.7hills.org
SUMMARY:TSHS-Senior Circle
DESCRIPTION:
URL:https://www.7hills.org/event/tshs-senior-circle-2/
CATEGORIES:All School
END:VEVENT
BEGIN:VEVENT
DTSTART;TZID=America/New_York:20220513T151500
DTEND;TZID=America/New_York:20220513T170000
DTSTAMP:20260423T051023
CREATED:20210719T175545Z
LAST-MODIFIED:20220329T200940Z
UID:15063-1652454900-1652461200@www.7hills.org
SUMMARY:U-Jr/Sr Social
DESCRIPTION:
URL:https://www.7hills.org/event/u-jr-sr-picnic-2/
CATEGORIES:All School
END:VEVENT
BEGIN:VEVENT
DTSTART;TZID=America/New_York:20220513T170000
DTEND;TZID=America/New_York:20220513T200000
DTSTAMP:20260423T051023
CREATED:20210719T175608Z
LAST-MODIFIED:20210719T175608Z
UID:15064-1652461200-1652472000@www.7hills.org
SUMMARY:D-Carnival
DESCRIPTION:
URL:https://www.7hills.org/event/d-carnival/
CATEGORIES:All School
END:VEVENT
BEGIN:VEVENT
DTSTART;VALUE=DATE:20220516
DTEND;VALUE=DATE:20220521
DTSTAMP:20260423T051023
CREATED:20210719T175632Z
LAST-MODIFIED:20210719T175632Z
UID:15065-1652659200-1653091199@www.7hills.org
SUMMARY:U-Exams
DESCRIPTION:
URL:https://www.7hills.org/event/u-exams-2/
CATEGORIES:All School
END:VEVENT
BEGIN:VEVENT
DTSTART;VALUE=DATE:20220516
DTEND;VALUE=DATE:20220520
DTSTAMP:20260423T051023
CREATED:20210719T175712Z
LAST-MODIFIED:20210719T175729Z
UID:15066-1652659200-1653004799@www.7hills.org
SUMMARY:M-8th Grade Exams
DESCRIPTION:
URL:https://www.7hills.org/event/m-8th-grade-exams-2/
CATEGORIES:All School
END:VEVENT
END:VCALENDAR