BEGIN:VCALENDAR
VERSION:2.0
PRODID:-//Seven Hills School - ECPv6.15.20//NONSGML v1.0//EN
CALSCALE:GREGORIAN
METHOD:PUBLISH
X-WR-CALNAME:Seven Hills School
X-ORIGINAL-URL:https://www.7hills.org
X-WR-CALDESC:Events for Seven Hills School
REFRESH-INTERVAL;VALUE=DURATION:PT1H
X-Robots-Tag:noindex
X-PUBLISHED-TTL:PT1H
BEGIN:VTIMEZONE
TZID:America/New_York
BEGIN:DAYLIGHT
TZOFFSETFROM:-0500
TZOFFSETTO:-0400
TZNAME:EDT
DTSTART:20190310T070000
END:DAYLIGHT
BEGIN:STANDARD
TZOFFSETFROM:-0400
TZOFFSETTO:-0500
TZNAME:EST
DTSTART:20191103T060000
END:STANDARD
BEGIN:DAYLIGHT
TZOFFSETFROM:-0500
TZOFFSETTO:-0400
TZNAME:EDT
DTSTART:20200308T070000
END:DAYLIGHT
BEGIN:STANDARD
TZOFFSETFROM:-0400
TZOFFSETTO:-0500
TZNAME:EST
DTSTART:20201101T060000
END:STANDARD
BEGIN:DAYLIGHT
TZOFFSETFROM:-0500
TZOFFSETTO:-0400
TZNAME:EDT
DTSTART:20210314T070000
END:DAYLIGHT
BEGIN:STANDARD
TZOFFSETFROM:-0400
TZOFFSETTO:-0500
TZNAME:EST
DTSTART:20211107T060000
END:STANDARD
BEGIN:DAYLIGHT
TZOFFSETFROM:-0500
TZOFFSETTO:-0400
TZNAME:EDT
DTSTART:20220313T070000
END:DAYLIGHT
BEGIN:STANDARD
TZOFFSETFROM:-0400
TZOFFSETTO:-0500
TZNAME:EST
DTSTART:20221106T060000
END:STANDARD
END:VTIMEZONE
BEGIN:VEVENT
DTSTART;VALUE=DATE:20201228
DTEND;VALUE=DATE:20210102
DTSTAMP:20260424T074432
CREATED:20200619T145941Z
LAST-MODIFIED:20200619T145941Z
UID:12517-1609113600-1609545599@www.7hills.org
SUMMARY:TSHS-Winter Break-No School
DESCRIPTION:
URL:https://www.7hills.org/event/tshs-winter-break-no-school-2/
CATEGORIES:All School
END:VEVENT
BEGIN:VEVENT
DTSTART;VALUE=DATE:20210101
DTEND;VALUE=DATE:20210102
DTSTAMP:20260424T074432
CREATED:20200619T144335Z
LAST-MODIFIED:20200619T144335Z
UID:12493-1609459200-1609545599@www.7hills.org
SUMMARY:New Year's Day
DESCRIPTION:
URL:https://www.7hills.org/event/new-years-day/
CATEGORIES:All School
END:VEVENT
BEGIN:VEVENT
DTSTART;TZID=America/New_York:20210107T190000
DTEND;TZID=America/New_York:20210107T200000
DTSTAMP:20260424T074432
CREATED:20200622T192851Z
LAST-MODIFIED:20210106T133005Z
UID:12745-1610046000-1610049600@www.7hills.org
SUMMARY:D/L-5th Grade Parents Orientation to Middle School via Zoom
DESCRIPTION:
URL:https://www.7hills.org/event/d-l-5th-grade-parents-orientation-to-middle-school/
CATEGORIES:All School
END:VEVENT
BEGIN:VEVENT
DTSTART;VALUE=DATE:20210108
DTEND;VALUE=DATE:20210109
DTSTAMP:20260424T074432
CREATED:20200619T161709Z
LAST-MODIFIED:20200619T161709Z
UID:12610-1610064000-1610150399@www.7hills.org
SUMMARY:M/U-End of Second Quarter
DESCRIPTION:
URL:https://www.7hills.org/event/m-u-end-of-second-quarter/
CATEGORIES:All School
END:VEVENT
BEGIN:VEVENT
DTSTART;TZID=America/New_York:20210108T083000
DTEND;TZID=America/New_York:20210108T093000
DTSTAMP:20260424T074432
CREATED:20200622T192942Z
LAST-MODIFIED:20210106T133026Z
UID:12746-1610094600-1610098200@www.7hills.org
SUMMARY:D/L-5th Grade Parents Orientation to Middle School via Zoom
DESCRIPTION:
URL:https://www.7hills.org/event/d-l-5th-grade-parents-orientation-to-middle-school-2/
CATEGORIES:All School
END:VEVENT
BEGIN:VEVENT
DTSTART;VALUE=DATE:20210111
DTEND;VALUE=DATE:20210112
DTSTAMP:20260424T074432
CREATED:20200619T144406Z
LAST-MODIFIED:20200619T144406Z
UID:12494-1610323200-1610409599@www.7hills.org
SUMMARY:TSHS-Reenrollment Contracts Issued
DESCRIPTION:
URL:https://www.7hills.org/event/tshs-reenrollment-contracts-issued/
CATEGORIES:Admission,All School
END:VEVENT
BEGIN:VEVENT
DTSTART;VALUE=DATE:20210111
DTEND;VALUE=DATE:20210112
DTSTAMP:20260424T074432
CREATED:20200619T161812Z
LAST-MODIFIED:20200619T161812Z
UID:12611-1610323200-1610409599@www.7hills.org
SUMMARY:U-Student-Teacher Conferences
DESCRIPTION:
URL:https://www.7hills.org/event/u-student-teacher-conferences/
CATEGORIES:All School
END:VEVENT
BEGIN:VEVENT
DTSTART;TZID=America/New_York:20210111T190000
DTEND;TZID=America/New_York:20210111T200000
DTSTAMP:20260424T074432
CREATED:20200619T161908Z
LAST-MODIFIED:20200619T161908Z
UID:12616-1610391600-1610395200@www.7hills.org
SUMMARY:U-Sophomore Parents College Counseling Meeting
DESCRIPTION:
URL:https://www.7hills.org/event/u-sophomore-parents-college-counseling-meeting/
LOCATION:Schiff Center
CATEGORIES:All School
END:VEVENT
BEGIN:VEVENT
DTSTART;VALUE=DATE:20210115
DTEND;VALUE=DATE:20210116
DTSTAMP:20260424T074432
CREATED:20200619T144436Z
LAST-MODIFIED:20201026T135040Z
UID:12495-1610668800-1610755199@www.7hills.org
SUMMARY:TSHS-Financial Aid Forms Due
DESCRIPTION:
URL:https://www.7hills.org/event/tshs-financial-aid-forms-due/
CATEGORIES:Admission,All School
END:VEVENT
BEGIN:VEVENT
DTSTART;VALUE=DATE:20210115
DTEND;VALUE=DATE:20210116
DTSTAMP:20260424T074432
CREATED:20200622T193020Z
LAST-MODIFIED:20210106T132326Z
UID:12748-1610668800-1610755199@www.7hills.org
SUMMARY:D/L-Lower School Spirit Night-Cancelled
DESCRIPTION:
URL:https://www.7hills.org/event/d-l-lower-school-spirit-night/
CATEGORIES:All School,Athletics
END:VEVENT
BEGIN:VEVENT
DTSTART;TZID=America/New_York:20210115T084500
DTEND;TZID=America/New_York:20210115T094500
DTSTAMP:20260424T074432
CREATED:20201111T185637Z
LAST-MODIFIED:20201111T190247Z
UID:13434-1610700300-1610703900@www.7hills.org
SUMMARY:D/L-Combined Parent Community Meeting via Zoom
DESCRIPTION:
URL:https://www.7hills.org/event/d-l-combined-parent-community-meeting-via-zoom/
CATEGORIES:All School
END:VEVENT
BEGIN:VEVENT
DTSTART;VALUE=DATE:20210118
DTEND;VALUE=DATE:20210119
DTSTAMP:20260424T074432
CREATED:20200619T144505Z
LAST-MODIFIED:20210115T145156Z
UID:12496-1610928000-1611014399@www.7hills.org
SUMMARY:Martin Luther King\, Jr. Day-No School
DESCRIPTION:
URL:https://www.7hills.org/event/martin-luther-king-day-no-school/
CATEGORIES:All School
END:VEVENT
BEGIN:VEVENT
DTSTART;VALUE=DATE:20210119
DTEND;VALUE=DATE:20210123
DTSTAMP:20260424T074432
CREATED:20200619T144538Z
LAST-MODIFIED:20200619T144538Z
UID:12497-1611014400-1611359999@www.7hills.org
SUMMARY:TSHS-Freedom From Chemical Dependency Week
DESCRIPTION:
URL:https://www.7hills.org/event/tshs-freedom-from-chemical-dependency-week/
CATEGORIES:All School
END:VEVENT
BEGIN:VEVENT
DTSTART;TZID=America/New_York:20210119T190000
DTEND;TZID=America/New_York:20210119T200000
DTSTAMP:20260424T074432
CREATED:20200619T173707Z
LAST-MODIFIED:20200619T173707Z
UID:12690-1611082800-1611086400@www.7hills.org
SUMMARY:M-Grades 6 & 7 Course Registration for 7th & 8th Grade
DESCRIPTION:
URL:https://www.7hills.org/event/m-grades-6-7-course-registration-for-7th-8th-grade/
LOCATION:Middle School Commons
CATEGORIES:All School
END:VEVENT
BEGIN:VEVENT
DTSTART;TZID=America/New_York:20210120T084500
DTEND;TZID=America/New_York:20210120T094500
DTSTAMP:20260424T074432
CREATED:20201130T124959Z
LAST-MODIFIED:20210120T163802Z
UID:13564-1611132300-1611135900@www.7hills.org
SUMMARY:L-Lotspeich Parent Community Town Hall Zoom Meeting
DESCRIPTION:
URL:https://www.7hills.org/event/l-lotspeich-parent-community-town-hall-zoom-meeting-2/
CATEGORIES:All School
END:VEVENT
BEGIN:VEVENT
DTSTART;TZID=America/New_York:20210120T183000
DTEND;TZID=America/New_York:20210120T203000
DTSTAMP:20260424T074432
CREATED:20200619T135159Z
LAST-MODIFIED:20210105T131953Z
UID:12436-1611167400-1611174600@www.7hills.org
SUMMARY:TSHS-Board of Trustees Meeting via Zoom
DESCRIPTION:
URL:https://www.7hills.org/event/tshs-board-of-trustees-meeting-2021-01-20/
CATEGORIES:All School
END:VEVENT
BEGIN:VEVENT
DTSTART;TZID=America/New_York:20210121T181500
DTEND;TZID=America/New_York:20210121T200000
DTSTAMP:20260424T074432
CREATED:20201111T190430Z
LAST-MODIFIED:20211129T200110Z
UID:13440-1611252900-1611259200@www.7hills.org
SUMMARY:TSHS-SHARP
DESCRIPTION:
URL:https://www.7hills.org/event/tshs-sharp-2021-01-21/
LOCATION:Young Family Library
CATEGORIES:All School
END:VEVENT
BEGIN:VEVENT
DTSTART;TZID=America/New_York:20210121T190000
DTEND;TZID=America/New_York:20210121T200000
DTSTAMP:20260424T074432
CREATED:20200916T182928Z
LAST-MODIFIED:20200916T182928Z
UID:13098-1611255600-1611259200@www.7hills.org
SUMMARY:Let's Chat! Student & Parent Panel (Gr 6-12) Virtual Admission Event
DESCRIPTION:We’re bringing our admission events to you!  \nWe have reformatted our admission events so that you may participate at times that are more convenient for you and from your own home or office! During our virtual Questions and Conversations series you’ll connect with Seven Hills teachers\, leaders\, parents\, and students – who will share what they value about Seven Hills. Register today for one or all of these informative events! \nAll virtual admission events will be presented via Zoom. Get more information about the events and register to attend at 7Hills.org/Welcome \n 
URL:https://www.7hills.org/event/lets-chat-student-parent-panel-gr-6-12-virtual-admission-event/
CATEGORIES:Admission,All School
END:VEVENT
BEGIN:VEVENT
DTSTART;VALUE=DATE:20210122
DTEND;VALUE=DATE:20210123
DTSTAMP:20260424T074432
CREATED:20200619T174026Z
LAST-MODIFIED:20210113T210657Z
UID:12692-1611273600-1611359999@www.7hills.org
SUMMARY:M-MS Parent Community Meeting-Cancelled
DESCRIPTION:
URL:https://www.7hills.org/event/m-ms-parent-community-meeting-2/
CATEGORIES:All School
END:VEVENT
BEGIN:VEVENT
DTSTART;VALUE=DATE:20210125
DTEND;VALUE=DATE:20210126
DTSTAMP:20260424T074432
CREATED:20200619T144618Z
LAST-MODIFIED:20200619T144618Z
UID:12498-1611532800-1611619199@www.7hills.org
SUMMARY:TSHS-Reenrollment Contracts Expire
DESCRIPTION:
URL:https://www.7hills.org/event/tshs-reenrollment-contracts-expire/
CATEGORIES:Admission,All School
END:VEVENT
BEGIN:VEVENT
DTSTART;TZID=America/New_York:20210125T190000
DTEND;TZID=America/New_York:20210125T200000
DTSTAMP:20260424T074432
CREATED:20200619T162004Z
LAST-MODIFIED:20200619T162004Z
UID:12617-1611601200-1611604800@www.7hills.org
SUMMARY:U-Freshman Parents College Counseling Meeting
DESCRIPTION:
URL:https://www.7hills.org/event/u-freshman-parents-college-counseling-meeting/
LOCATION:Schiff Center
CATEGORIES:All School
END:VEVENT
BEGIN:VEVENT
DTSTART;TZID=America/New_York:20210126T150000
DTEND;TZID=America/New_York:20210126T160000
DTSTAMP:20260424T074432
CREATED:20210126T185217Z
LAST-MODIFIED:20210126T185217Z
UID:13796-1611673200-1611676800@www.7hills.org
SUMMARY:U-Play
DESCRIPTION:
URL:https://www.7hills.org/event/u-play-7/
LOCATION:Schiff Center
END:VEVENT
BEGIN:VEVENT
DTSTART;TZID=America/New_York:20210127T120000
DTEND;TZID=America/New_York:20210127T130000
DTSTAMP:20260424T074432
CREATED:20200916T182818Z
LAST-MODIFIED:20210115T144540Z
UID:13097-1611748800-1611752400@www.7hills.org
SUMMARY:College Counseling Virtual Admission Event
DESCRIPTION:We’re bringing our admission events to you!  \nWe have reformatted our admission events so that you may participate at times that are more convenient for you and from your own home or office! During our virtual Questions and Conversations series you’ll connect with Seven Hills teachers\, leaders\, parents\, and students – who will share what they value about Seven Hills. Register today for one or all of these informative events! \nAll virtual admission events will be presented via Zoom. Get more information about the events and register to attend at 7Hills.org/Welcome \n 
URL:https://www.7hills.org/event/college-counseling-virtual-admission-event/
CATEGORIES:Admission,All School
END:VEVENT
BEGIN:VEVENT
DTSTART;TZID=America/New_York:20210127T183000
DTEND;TZID=America/New_York:20210127T183000
DTSTAMP:20260424T074432
CREATED:20201215T190917Z
LAST-MODIFIED:20201215T190917Z
UID:13587-1611772200-1611772200@www.7hills.org
SUMMARY:Alumni Book Discussion of "Manhattan Beach" via Zoom
DESCRIPTION:
URL:https://www.7hills.org/event/alumni-book-discussion-of-manhattan-beach-via-zoom/
CATEGORIES:Alumni
END:VEVENT
END:VCALENDAR