BEGIN:VCALENDAR
VERSION:2.0
PRODID:-//Seven Hills School - ECPv6.15.20//NONSGML v1.0//EN
CALSCALE:GREGORIAN
METHOD:PUBLISH
X-ORIGINAL-URL:https://www.7hills.org
X-WR-CALDESC:Events for Seven Hills School
REFRESH-INTERVAL;VALUE=DURATION:PT1H
X-Robots-Tag:noindex
X-PUBLISHED-TTL:PT1H
BEGIN:VTIMEZONE
TZID:America/New_York
BEGIN:DAYLIGHT
TZOFFSETFROM:-0500
TZOFFSETTO:-0400
TZNAME:EDT
DTSTART:20190310T070000
END:DAYLIGHT
BEGIN:STANDARD
TZOFFSETFROM:-0400
TZOFFSETTO:-0500
TZNAME:EST
DTSTART:20191103T060000
END:STANDARD
BEGIN:DAYLIGHT
TZOFFSETFROM:-0500
TZOFFSETTO:-0400
TZNAME:EDT
DTSTART:20200308T070000
END:DAYLIGHT
BEGIN:STANDARD
TZOFFSETFROM:-0400
TZOFFSETTO:-0500
TZNAME:EST
DTSTART:20201101T060000
END:STANDARD
BEGIN:DAYLIGHT
TZOFFSETFROM:-0500
TZOFFSETTO:-0400
TZNAME:EDT
DTSTART:20210314T070000
END:DAYLIGHT
BEGIN:STANDARD
TZOFFSETFROM:-0400
TZOFFSETTO:-0500
TZNAME:EST
DTSTART:20211107T060000
END:STANDARD
BEGIN:DAYLIGHT
TZOFFSETFROM:-0500
TZOFFSETTO:-0400
TZNAME:EDT
DTSTART:20220313T070000
END:DAYLIGHT
BEGIN:STANDARD
TZOFFSETFROM:-0400
TZOFFSETTO:-0500
TZNAME:EST
DTSTART:20221106T060000
END:STANDARD
END:VTIMEZONE
BEGIN:VEVENT
DTSTART;VALUE=DATE:20201130
DTEND;VALUE=DATE:20201204
DTSTAMP:20260424T092535
CREATED:20200619T173259Z
LAST-MODIFIED:20200619T173259Z
UID:12685-1606694400-1607039999@www.7hills.org
SUMMARY:M-Grade 7 Healthy Visions
DESCRIPTION:
URL:https://www.7hills.org/event/m-grade-7-healthy-visions/
CATEGORIES:All School
END:VEVENT
BEGIN:VEVENT
DTSTART;TZID=America/New_York:20201202T190000
DTEND;TZID=America/New_York:20201202T200000
DTSTAMP:20260424T092535
CREATED:20200619T142855Z
LAST-MODIFIED:20201105T173120Z
UID:12471-1606935600-1606939200@www.7hills.org
SUMMARY:TSHS-Young Alum Virtual Holiday Party
DESCRIPTION:
URL:https://www.7hills.org/event/tshs-young-alum-holiday-party-2/
CATEGORIES:All School,Alumni
END:VEVENT
BEGIN:VEVENT
DTSTART;TZID=America/New_York:20201203T181500
DTEND;TZID=America/New_York:20201203T200000
DTSTAMP:20260424T092535
CREATED:20201111T190430Z
LAST-MODIFIED:20201111T190430Z
UID:13435-1607019300-1607025600@www.7hills.org
SUMMARY:TSHS-SHARP
DESCRIPTION:
URL:https://www.7hills.org/event/tshs-sharp/
LOCATION:Young Family Library
CATEGORIES:All School
END:VEVENT
BEGIN:VEVENT
DTSTART;TZID=America/New_York:20201203T190000
DTEND;TZID=America/New_York:20201203T203000
DTSTAMP:20260424T092535
CREATED:20200619T140535Z
LAST-MODIFIED:20201104T141610Z
UID:12447-1607022000-1607027400@www.7hills.org
SUMMARY:TSHS-Creating Conversations via Zoom
DESCRIPTION:
URL:https://www.7hills.org/event/tshs-creating-conversations/
CATEGORIES:All School
END:VEVENT
BEGIN:VEVENT
DTSTART;TZID=America/New_York:20201204T083000
DTEND;TZID=America/New_York:20201204T093000
DTSTAMP:20260424T092535
CREATED:20200619T172040Z
LAST-MODIFIED:20201130T130309Z
UID:12663-1607070600-1607074200@www.7hills.org
SUMMARY:M-MS Parent Community Meeting via Zoom
DESCRIPTION:
URL:https://www.7hills.org/event/m-ms-parent-community-meeting-2020-12-04/
CATEGORIES:All School
END:VEVENT
BEGIN:VEVENT
DTSTART;TZID=America/New_York:20201205T180000
DTEND;TZID=America/New_York:20201205T190000
DTSTAMP:20260424T092535
CREATED:20201109T194124Z
LAST-MODIFIED:20201109T202525Z
UID:13421-1607191200-1607194800@www.7hills.org
SUMMARY:M-Family Cooking Night via Zoom
DESCRIPTION:
URL:https://www.7hills.org/event/m-family-cooking-night-via-zoom/
END:VEVENT
BEGIN:VEVENT
DTSTART;TZID=America/New_York:20201209T183000
DTEND;TZID=America/New_York:20201209T203000
DTSTAMP:20260424T092535
CREATED:20200619T135159Z
LAST-MODIFIED:20201105T170432Z
UID:12435-1607538600-1607545800@www.7hills.org
SUMMARY:TSHS-Board of Trustees Meeting via Zoom
DESCRIPTION:
URL:https://www.7hills.org/event/tshs-board-of-trustees-meeting-2020-12-16/
LOCATION:Lotspeich Library\, 5400 Red Bank Road\, Cincinnati\, Ohio\, 45227\, United States
CATEGORIES:All School
END:VEVENT
BEGIN:VEVENT
DTSTART;VALUE=DATE:20201210
DTEND;VALUE=DATE:20201211
DTSTAMP:20260424T092535
CREATED:20200619T144026Z
LAST-MODIFIED:20200814T155024Z
UID:12479-1607558400-1607644799@www.7hills.org
SUMMARY:Hanukkah Begins at Sundown
DESCRIPTION:
URL:https://www.7hills.org/event/hanukkah-begins-at-sundown/
CATEGORIES:All School
END:VEVENT
BEGIN:VEVENT
DTSTART;VALUE=DATE:20201211
DTEND;VALUE=DATE:20201212
DTSTAMP:20260424T092535
CREATED:20200619T173449Z
LAST-MODIFIED:20200619T173449Z
UID:12688-1607644800-1607731199@www.7hills.org
SUMMARY:D/L/M-Grades 1-8 Spring Sports Registration Ends
DESCRIPTION:
URL:https://www.7hills.org/event/d-l-m-grades-1-8-spring-sports-registration-ends/
CATEGORIES:All School
END:VEVENT
BEGIN:VEVENT
DTSTART;TZID=America/New_York:20201218T113000
DTEND;TZID=America/New_York:20201218T114500
DTSTAMP:20260424T092535
CREATED:20200619T145851Z
LAST-MODIFIED:20200619T145851Z
UID:12515-1608291000-1608291900@www.7hills.org
SUMMARY:TSHS-Winter Break Begins at 11:30 AM
DESCRIPTION:
URL:https://www.7hills.org/event/tshs-winter-break-begins-at-1130-am/
CATEGORIES:All School
END:VEVENT
BEGIN:VEVENT
DTSTART;VALUE=DATE:20201221
DTEND;VALUE=DATE:20201226
DTSTAMP:20260424T092535
CREATED:20200619T145917Z
LAST-MODIFIED:20200619T145917Z
UID:12516-1608508800-1608940799@www.7hills.org
SUMMARY:TSHS-Winter Break-No School
DESCRIPTION:
URL:https://www.7hills.org/event/tshs-winter-break-no-school/
CATEGORIES:All School
END:VEVENT
BEGIN:VEVENT
DTSTART;VALUE=DATE:20201225
DTEND;VALUE=DATE:20201226
DTSTAMP:20260424T092535
CREATED:20200619T144153Z
LAST-MODIFIED:20200619T144153Z
UID:12490-1608854400-1608940799@www.7hills.org
SUMMARY:Christmas
DESCRIPTION:
URL:https://www.7hills.org/event/christmas/
CATEGORIES:All School
END:VEVENT
BEGIN:VEVENT
DTSTART;VALUE=DATE:20201226
DTEND;VALUE=DATE:20201227
DTSTAMP:20260424T092535
CREATED:20200619T144256Z
LAST-MODIFIED:20200619T144256Z
UID:12492-1608940800-1609027199@www.7hills.org
SUMMARY:Kwanzaa Begins
DESCRIPTION:
URL:https://www.7hills.org/event/kwanzaa-begins/
CATEGORIES:All School
END:VEVENT
BEGIN:VEVENT
DTSTART;VALUE=DATE:20201228
DTEND;VALUE=DATE:20210102
DTSTAMP:20260424T092535
CREATED:20200619T145941Z
LAST-MODIFIED:20200619T145941Z
UID:12517-1609113600-1609545599@www.7hills.org
SUMMARY:TSHS-Winter Break-No School
DESCRIPTION:
URL:https://www.7hills.org/event/tshs-winter-break-no-school-2/
CATEGORIES:All School
END:VEVENT
END:VCALENDAR