BEGIN:VCALENDAR
VERSION:2.0
PRODID:-//Seven Hills School - ECPv6.15.20//NONSGML v1.0//EN
CALSCALE:GREGORIAN
METHOD:PUBLISH
X-ORIGINAL-URL:https://www.7hills.org
X-WR-CALDESC:Events for Seven Hills School
REFRESH-INTERVAL;VALUE=DURATION:PT1H
X-Robots-Tag:noindex
X-PUBLISHED-TTL:PT1H
BEGIN:VTIMEZONE
TZID:America/New_York
BEGIN:DAYLIGHT
TZOFFSETFROM:-0500
TZOFFSETTO:-0400
TZNAME:EDT
DTSTART:20200308T070000
END:DAYLIGHT
BEGIN:STANDARD
TZOFFSETFROM:-0400
TZOFFSETTO:-0500
TZNAME:EST
DTSTART:20201101T060000
END:STANDARD
BEGIN:DAYLIGHT
TZOFFSETFROM:-0500
TZOFFSETTO:-0400
TZNAME:EDT
DTSTART:20210314T070000
END:DAYLIGHT
BEGIN:STANDARD
TZOFFSETFROM:-0400
TZOFFSETTO:-0500
TZNAME:EST
DTSTART:20211107T060000
END:STANDARD
BEGIN:DAYLIGHT
TZOFFSETFROM:-0500
TZOFFSETTO:-0400
TZNAME:EDT
DTSTART:20220313T070000
END:DAYLIGHT
BEGIN:STANDARD
TZOFFSETFROM:-0400
TZOFFSETTO:-0500
TZNAME:EST
DTSTART:20221106T060000
END:STANDARD
END:VTIMEZONE
BEGIN:VEVENT
DTSTART;VALUE=DATE:20211024
DTEND;VALUE=DATE:20211025
DTSTAMP:20260423T051530
CREATED:20210719T150626Z
LAST-MODIFIED:20211022T185235Z
UID:14909-1635033600-1635119999@www.7hills.org
SUMMARY:D-Halloween Spooktacular POSTPONED TO 10/29
DESCRIPTION:
URL:https://www.7hills.org/event/d-halloween-spooktacular-2/
CATEGORIES:All School
END:VEVENT
BEGIN:VEVENT
DTSTART;VALUE=DATE:20211029
DTEND;VALUE=DATE:20211030
DTSTAMP:20260423T051530
CREATED:20210719T150755Z
LAST-MODIFIED:20210719T150755Z
UID:14912-1635465600-1635551999@www.7hills.org
SUMMARY:M/U-End of First Quarter
DESCRIPTION:
URL:https://www.7hills.org/event/m-u-end-of-first-quarter-2/
CATEGORIES:All School
END:VEVENT
BEGIN:VEVENT
DTSTART;VALUE=DATE:20211029
DTEND;VALUE=DATE:20211030
DTSTAMP:20260423T051530
CREATED:20210719T150810Z
LAST-MODIFIED:20210719T150810Z
UID:14913-1635465600-1635551999@www.7hills.org
SUMMARY:M-Pumpkin Day
DESCRIPTION:
URL:https://www.7hills.org/event/m-pumpkin-day-2/
CATEGORIES:All School
END:VEVENT
BEGIN:VEVENT
DTSTART;VALUE=DATE:20211029
DTEND;VALUE=DATE:20211030
DTSTAMP:20260423T051530
CREATED:20210719T150950Z
LAST-MODIFIED:20210719T150950Z
UID:14914-1635465600-1635551999@www.7hills.org
SUMMARY:U-Civic Engagement Day
DESCRIPTION:
URL:https://www.7hills.org/event/u-civic-engagement-day/
CATEGORIES:All School
END:VEVENT
BEGIN:VEVENT
DTSTART;TZID=America/New_York:20211029T090000
DTEND;TZID=America/New_York:20211029T093000
DTSTAMP:20260423T051530
CREATED:20210719T150657Z
LAST-MODIFIED:20211022T185808Z
UID:14910-1635498000-1635499800@www.7hills.org
SUMMARY:D-Halloween Car Parade
DESCRIPTION:
URL:https://www.7hills.org/event/d-halloween-parade-2/
CATEGORIES:All School
END:VEVENT
BEGIN:VEVENT
DTSTART;TZID=America/New_York:20211029T090000
DTEND;TZID=America/New_York:20211029T093000
DTSTAMP:20260423T051530
CREATED:20210719T150731Z
LAST-MODIFIED:20211022T185732Z
UID:14911-1635498000-1635499800@www.7hills.org
SUMMARY:L-Halloween Parade
DESCRIPTION:
URL:https://www.7hills.org/event/l-halloween-parade-2/
CATEGORIES:All School
END:VEVENT
BEGIN:VEVENT
DTSTART;TZID=America/New_York:20211029T170000
DTEND;TZID=America/New_York:20211029T190000
DTSTAMP:20260423T051530
CREATED:20211022T185203Z
LAST-MODIFIED:20211022T185203Z
UID:15708-1635526800-1635534000@www.7hills.org
SUMMARY:D-Halloween Spooktacular
DESCRIPTION:
URL:https://www.7hills.org/event/d-halloween-spooktacular-3/
CATEGORIES:All School
END:VEVENT
BEGIN:VEVENT
DTSTART;TZID=America/New_York:20211029T190000
DTEND;TZID=America/New_York:20211029T213000
DTSTAMP:20260423T051530
CREATED:20210719T151057Z
LAST-MODIFIED:20210719T151057Z
UID:14918-1635534000-1635543000@www.7hills.org
SUMMARY:M-Grades 7 & 8 Fall Party
DESCRIPTION:
URL:https://www.7hills.org/event/m-grades-7-8-fall-party/
CATEGORIES:All School
END:VEVENT
BEGIN:VEVENT
DTSTART;VALUE=DATE:20211031
DTEND;VALUE=DATE:20211101
DTSTAMP:20260423T051530
CREATED:20210719T151115Z
LAST-MODIFIED:20210719T151115Z
UID:14919-1635638400-1635724799@www.7hills.org
SUMMARY:Halloween
DESCRIPTION:
URL:https://www.7hills.org/event/halloween-2/
CATEGORIES:All School
END:VEVENT
BEGIN:VEVENT
DTSTART;VALUE=DATE:20211101
DTEND;VALUE=DATE:20211106
DTSTAMP:20260423T051530
CREATED:20210719T144633Z
LAST-MODIFIED:20210720T142700Z
UID:14881-1635724800-1636156799@www.7hills.org
SUMMARY:D-Book Fair
DESCRIPTION:
URL:https://www.7hills.org/event/d-book-fair/
CATEGORIES:All School
END:VEVENT
BEGIN:VEVENT
DTSTART;VALUE=DATE:20211101
DTEND;VALUE=DATE:20211106
DTSTAMP:20260423T051530
CREATED:20210719T151211Z
LAST-MODIFIED:20210719T151211Z
UID:14920-1635724800-1636156799@www.7hills.org
SUMMARY:L-Virtual Book Fair
DESCRIPTION:
URL:https://www.7hills.org/event/l-virtual-book-fair/
CATEGORIES:All School
END:VEVENT
BEGIN:VEVENT
DTSTART;VALUE=DATE:20211101
DTEND;VALUE=DATE:20211102
DTSTAMP:20260423T051530
CREATED:20210719T151358Z
LAST-MODIFIED:20210719T151459Z
UID:14921-1635724800-1635811199@www.7hills.org
SUMMARY:L/U-Thanksgiving Food Drive Begins
DESCRIPTION:
URL:https://www.7hills.org/event/l-u-thanksgiving-food-drive-begins-2/
CATEGORIES:All School
END:VEVENT
BEGIN:VEVENT
DTSTART;TZID=America/New_York:20211101T190000
DTEND;TZID=America/New_York:20211101T210000
DTSTAMP:20260423T051530
CREATED:20210719T151551Z
LAST-MODIFIED:20211026T185247Z
UID:14923-1635793200-1635800400@www.7hills.org
SUMMARY:U-Fall Athletic Awards via Zoom
DESCRIPTION:
URL:https://www.7hills.org/event/u-fall-athletic-awards/
CATEGORIES:All School
END:VEVENT
BEGIN:VEVENT
DTSTART;VALUE=DATE:20211102
DTEND;VALUE=DATE:20211103
DTSTAMP:20260423T051530
CREATED:20210719T152239Z
LAST-MODIFIED:20210719T152239Z
UID:14926-1635811200-1635897599@www.7hills.org
SUMMARY:Election Day
DESCRIPTION:
URL:https://www.7hills.org/event/election-day-2/
CATEGORIES:All School
END:VEVENT
BEGIN:VEVENT
DTSTART;TZID=America/New_York:20211103T090000
DTEND;TZID=America/New_York:20211103T100000
DTSTAMP:20260423T051530
CREATED:20211026T185411Z
LAST-MODIFIED:20211026T185411Z
UID:15714-1635930000-1635933600@www.7hills.org
SUMMARY:Walk & Talk Wednesday with Admissions
DESCRIPTION:
URL:https://www.7hills.org/event/walk-talk-wednesday-with-admissions/
CATEGORIES:Admission,All School
END:VEVENT
BEGIN:VEVENT
DTSTART;VALUE=DATE:20211104
DTEND;VALUE=DATE:20211105
DTSTAMP:20260423T051530
CREATED:20210719T152603Z
LAST-MODIFIED:20210719T152603Z
UID:14927-1635984000-1636070399@www.7hills.org
SUMMARY:Diwali
DESCRIPTION:
URL:https://www.7hills.org/event/diwali-2/
CATEGORIES:All School
END:VEVENT
BEGIN:VEVENT
DTSTART;TZID=America/New_York:20211104T170000
DTEND;TZID=America/New_York:20211104T200000
DTSTAMP:20260423T051530
CREATED:20210719T152639Z
LAST-MODIFIED:20210719T152639Z
UID:14928-1636045200-1636056000@www.7hills.org
SUMMARY:D/L-Evening Parent Conferences
DESCRIPTION:
URL:https://www.7hills.org/event/d-l-evening-parent-conferences-3/
CATEGORIES:All School
END:VEVENT
BEGIN:VEVENT
DTSTART;VALUE=DATE:20211105
DTEND;VALUE=DATE:20211106
DTSTAMP:20260423T051530
CREATED:20210719T152716Z
LAST-MODIFIED:20210719T152716Z
UID:14929-1636070400-1636156799@www.7hills.org
SUMMARY:D/L-Parent Conferences-No Classes
DESCRIPTION:
URL:https://www.7hills.org/event/d-l-parent-conferences-no-classes/
CATEGORIES:All School
END:VEVENT
BEGIN:VEVENT
DTSTART;VALUE=DATE:20211107
DTEND;VALUE=DATE:20211108
DTSTAMP:20260423T051530
CREATED:20210719T152813Z
LAST-MODIFIED:20210719T152813Z
UID:14931-1636243200-1636329599@www.7hills.org
SUMMARY:Daylight Savings Time Ends
DESCRIPTION:Move clocks back one hour
URL:https://www.7hills.org/event/daylight-savings-time-ends-2/
CATEGORIES:All School
END:VEVENT
BEGIN:VEVENT
DTSTART;TZID=America/New_York:20211108T180000
DTEND;TZID=America/New_York:20211108T190000
DTSTAMP:20260423T051530
CREATED:20210719T152849Z
LAST-MODIFIED:20210719T152849Z
UID:14932-1636394400-1636398000@www.7hills.org
SUMMARY:M-8th Grade Looking Ahead to Grades 9-12
DESCRIPTION:
URL:https://www.7hills.org/event/m-8th-grade-looking-ahead-to-grades-9-12-2/
CATEGORIES:All School
END:VEVENT
BEGIN:VEVENT
DTSTART;VALUE=DATE:20211109
DTEND;VALUE=DATE:20211110
DTSTAMP:20260423T051530
CREATED:20210719T152924Z
LAST-MODIFIED:20211026T185543Z
UID:14933-1636416000-1636502399@www.7hills.org
SUMMARY:M-8th Grade Students Upper Preview Day
DESCRIPTION:
URL:https://www.7hills.org/event/m-8th-grade-students-upper-preview-day/
CATEGORIES:All School
END:VEVENT
BEGIN:VEVENT
DTSTART;TZID=America/New_York:20211109T090000
DTEND;TZID=America/New_York:20211109T100000
DTSTAMP:20260423T051530
CREATED:20210820T152317Z
LAST-MODIFIED:20210820T152317Z
UID:15154-1636448400-1636452000@www.7hills.org
SUMMARY:Questions & Conversations: Lotspeich via Zoom
DESCRIPTION:
URL:https://www.7hills.org/event/questions-conversations-lotspeich-via-zoom/
CATEGORIES:Admission,All School
END:VEVENT
BEGIN:VEVENT
DTSTART;TZID=America/New_York:20211110T183000
DTEND;TZID=America/New_York:20211110T193000
DTSTAMP:20260423T051530
CREATED:20210810T160724Z
LAST-MODIFIED:20210810T160724Z
UID:15126-1636569000-1636572600@www.7hills.org
SUMMARY:TSHS-Alumni Board Meeting
DESCRIPTION:
URL:https://www.7hills.org/event/tshs-alumni-board-meeting/
CATEGORIES:All School,Alumni
END:VEVENT
BEGIN:VEVENT
DTSTART;VALUE=DATE:20211111
DTEND;VALUE=DATE:20211113
DTSTAMP:20260423T051530
CREATED:20210719T152743Z
LAST-MODIFIED:20211015T191447Z
UID:14930-1636588800-1636761599@www.7hills.org
SUMMARY:M/U-Parent Conferences via Zoom-No Classes
DESCRIPTION:
URL:https://www.7hills.org/event/m-u-parent-conferences-no-classes/
CATEGORIES:All School
END:VEVENT
BEGIN:VEVENT
DTSTART;VALUE=DATE:20211111
DTEND;VALUE=DATE:20211112
DTSTAMP:20260423T051530
CREATED:20210719T152942Z
LAST-MODIFIED:20210719T152942Z
UID:14934-1636588800-1636675199@www.7hills.org
SUMMARY:Veterans day
DESCRIPTION:
URL:https://www.7hills.org/event/veterans-day-2/
CATEGORIES:All School
END:VEVENT
BEGIN:VEVENT
DTSTART;TZID=America/New_York:20211111T090000
DTEND;TZID=America/New_York:20211111T100000
DTSTAMP:20260423T051530
CREATED:20210820T152345Z
LAST-MODIFIED:20210820T152345Z
UID:15155-1636621200-1636624800@www.7hills.org
SUMMARY:Questions & Conversations: Doherty via Zoom
DESCRIPTION:
URL:https://www.7hills.org/event/questions-conversations-doherty-via-zoom/
CATEGORIES:Admission,All School
END:VEVENT
BEGIN:VEVENT
DTSTART;TZID=America/New_York:20211111T180000
DTEND;TZID=America/New_York:20211111T190000
DTSTAMP:20260423T051530
CREATED:20211029T134952Z
LAST-MODIFIED:20211029T134952Z
UID:15778-1636653600-1636657200@www.7hills.org
SUMMARY:TSHS-Alumni Virtual Art Class with Jody Knoop
DESCRIPTION:Join us for a discussion of Margot Wood ’04 ‘s debut novel “Fresh\,” a coming-of-age story about a college freshmen. In-person and Zoom available.
URL:https://www.7hills.org/event/tshs-alumni-virtual-art-class-with-jody-knoop/
LOCATION:Lotspeich Library\, 5400 Red Bank Road\, Cincinnati\, Ohio\, 45227\, United States
CATEGORIES:All School,Alumni
END:VEVENT
BEGIN:VEVENT
DTSTART;TZID=America/New_York:20211115T190000
DTEND;TZID=America/New_York:20211115T200000
DTSTAMP:20260423T051530
CREATED:20210719T144958Z
LAST-MODIFIED:20211026T185641Z
UID:14883-1637002800-1637006400@www.7hills.org
SUMMARY:U-Junior Parents College Counseling Meeting via Zoom
DESCRIPTION:
URL:https://www.7hills.org/event/u-junior-parents-college-counseling-meeting-3/
CATEGORIES:All School
END:VEVENT
BEGIN:VEVENT
DTSTART;TZID=America/New_York:20211117T090000
DTEND;TZID=America/New_York:20211117T100000
DTSTAMP:20260423T051530
CREATED:20211020T231408Z
LAST-MODIFIED:20211020T231408Z
UID:15699-1637139600-1637143200@www.7hills.org
SUMMARY:Walk & Talk Wednesday for Grds 6-12 with Admissions
DESCRIPTION:
URL:https://www.7hills.org/event/walk-talk-wednesday-for-grds-6-12-with-admissions/
CATEGORIES:Admission,All School
END:VEVENT
BEGIN:VEVENT
DTSTART;TZID=America/New_York:20211118T190000
DTEND;TZID=America/New_York:20211118T200000
DTSTAMP:20260423T051530
CREATED:20210719T142803Z
LAST-MODIFIED:20211109T194712Z
UID:15202-1637262000-1637265600@www.7hills.org
SUMMARY:U-Upper Parent Community Meeting  via Zoom
DESCRIPTION:
URL:https://www.7hills.org/event/u-upper-parent-community-meeting-2021-11-04/
CATEGORIES:All School
END:VEVENT
END:VCALENDAR