BEGIN:VCALENDAR
VERSION:2.0
PRODID:-//Seven Hills School - ECPv6.15.20//NONSGML v1.0//EN
CALSCALE:GREGORIAN
METHOD:PUBLISH
X-WR-CALNAME:Seven Hills School
X-ORIGINAL-URL:https://www.7hills.org
X-WR-CALDESC:Events for Seven Hills School
REFRESH-INTERVAL;VALUE=DURATION:PT1H
X-Robots-Tag:noindex
X-PUBLISHED-TTL:PT1H
BEGIN:VTIMEZONE
TZID:America/New_York
BEGIN:DAYLIGHT
TZOFFSETFROM:-0500
TZOFFSETTO:-0400
TZNAME:EDT
DTSTART:20200308T070000
END:DAYLIGHT
BEGIN:STANDARD
TZOFFSETFROM:-0400
TZOFFSETTO:-0500
TZNAME:EST
DTSTART:20201101T060000
END:STANDARD
BEGIN:DAYLIGHT
TZOFFSETFROM:-0500
TZOFFSETTO:-0400
TZNAME:EDT
DTSTART:20210314T070000
END:DAYLIGHT
BEGIN:STANDARD
TZOFFSETFROM:-0400
TZOFFSETTO:-0500
TZNAME:EST
DTSTART:20211107T060000
END:STANDARD
BEGIN:DAYLIGHT
TZOFFSETFROM:-0500
TZOFFSETTO:-0400
TZNAME:EDT
DTSTART:20220313T070000
END:DAYLIGHT
BEGIN:STANDARD
TZOFFSETFROM:-0400
TZOFFSETTO:-0500
TZNAME:EST
DTSTART:20221106T060000
END:STANDARD
END:VTIMEZONE
BEGIN:VEVENT
DTSTART;TZID=America/New_York:20210309T120000
DTEND;TZID=America/New_York:20210309T130000
DTSTAMP:20260421T140040
CREATED:20200619T145021Z
LAST-MODIFIED:20210217T145805Z
UID:12505-1615291200-1615294800@www.7hills.org
SUMMARY:TSHS-Past Board Presidents Luncheon
DESCRIPTION:
URL:https://www.7hills.org/event/tshs-past-board-presidents-luncheon-2/
LOCATION:Heffner Alumni Conference Room
CATEGORIES:All School
END:VEVENT
BEGIN:VEVENT
DTSTART;VALUE=DATE:20210308
DTEND;VALUE=DATE:20210313
DTSTAMP:20260421T140040
CREATED:20200622T200504Z
LAST-MODIFIED:20200622T200504Z
UID:12787-1615161600-1615593599@www.7hills.org
SUMMARY:D-Cultural Connections Week
DESCRIPTION:
URL:https://www.7hills.org/event/d-cultural-connections-week/
CATEGORIES:All School
END:VEVENT
BEGIN:VEVENT
DTSTART;VALUE=DATE:20210307
DTEND;VALUE=DATE:20210308
DTSTAMP:20260421T140040
CREATED:20200619T144920Z
LAST-MODIFIED:20200619T144920Z
UID:12504-1615075200-1615161599@www.7hills.org
SUMMARY:Daylight Savings Time Begins
DESCRIPTION:
URL:https://www.7hills.org/event/daylight-savings-time-begins/
CATEGORIES:All School
END:VEVENT
BEGIN:VEVENT
DTSTART;TZID=America/New_York:20210306T120000
DTEND;TZID=America/New_York:20210306T193000
DTSTAMP:20260421T140040
CREATED:20210217T162732Z
LAST-MODIFIED:20210217T162732Z
UID:13897-1615032000-1615059000@www.7hills.org
SUMMARY:U-Virtual Latin Convention
DESCRIPTION:
URL:https://www.7hills.org/event/u-virtual-latin-convention/
END:VEVENT
BEGIN:VEVENT
DTSTART;TZID=America/New_York:20210305T121500
DTEND;TZID=America/New_York:20210305T121500
DTSTAMP:20260421T140040
CREATED:20210222T130524Z
LAST-MODIFIED:20210222T130524Z
UID:13902-1614946500-1614946500@www.7hills.org
SUMMARY:M/U-Early Release
DESCRIPTION:
URL:https://www.7hills.org/event/m-u-early-release/
CATEGORIES:All School
END:VEVENT
BEGIN:VEVENT
DTSTART;VALUE=DATE:20210305
DTEND;VALUE=DATE:20210306
DTSTAMP:20260421T140040
CREATED:20210218T161354Z
LAST-MODIFIED:20210218T161354Z
UID:13900-1614902400-1614988799@www.7hills.org
SUMMARY:No School
DESCRIPTION:
URL:https://www.7hills.org/event/no-school/
CATEGORIES:All School
END:VEVENT
BEGIN:VEVENT
DTSTART;TZID=America/New_York:20210304T093000
DTEND;TZID=America/New_York:20210304T101500
DTSTAMP:20260421T140040
CREATED:20210211T202329Z
LAST-MODIFIED:20210211T202329Z
UID:13894-1614850200-1614852900@www.7hills.org
SUMMARY:A Whole-Child Approach to Elementary Education Virtual Admissions Event
DESCRIPTION:All virtual admission events will be presented via Zoom. Get more information about the events and register to attend at 7Hills.org/Welcome
URL:https://www.7hills.org/event/a-whole-child-approach-to-elementary-education-virtual-admissions-event/
CATEGORIES:All School
END:VEVENT
BEGIN:VEVENT
DTSTART;TZID=America/New_York:20210302T190000
DTEND;TZID=America/New_York:20210302T210000
DTSTAMP:20260421T140040
CREATED:20200622T185825Z
LAST-MODIFIED:20210217T162441Z
UID:12710-1614711600-1614718800@www.7hills.org
SUMMARY:U-Winter Athletic Awards via Zoom
DESCRIPTION:
URL:https://www.7hills.org/event/u-winter-athletic-awards/
CATEGORIES:All School
END:VEVENT
BEGIN:VEVENT
DTSTART;TZID=America/New_York:20210302T133000
DTEND;TZID=America/New_York:20210302T140000
DTSTAMP:20260421T140040
CREATED:20210211T202213Z
LAST-MODIFIED:20210211T202414Z
UID:13893-1614691800-1614693600@www.7hills.org
SUMMARY:Ready for Their First Steps-Toddler/Early Childhood Virtual Admissions Event
DESCRIPTION:All virtual admission events will be presented via Zoom. Get more information about the events and register to attend at 7Hills.org/Welcome
URL:https://www.7hills.org/event/ready-for-their-first-steps-toddler-early-childhood-virtual-admissions-event/
CATEGORIES:All School
END:VEVENT
BEGIN:VEVENT
DTSTART;VALUE=DATE:20210301
DTEND;VALUE=DATE:20210305
DTSTAMP:20260421T140040
CREATED:20200622T185732Z
LAST-MODIFIED:20200622T185732Z
UID:12709-1614556800-1614902399@www.7hills.org
SUMMARY:M-Grade 6 Healthy Visions
DESCRIPTION:
URL:https://www.7hills.org/event/m-grade-6-healthy-visions/
CATEGORIES:All School
END:VEVENT
BEGIN:VEVENT
DTSTART;TZID=America/New_York:20210227T140000
DTEND;TZID=America/New_York:20210227T150000
DTSTAMP:20260421T140040
CREATED:20200622T185631Z
LAST-MODIFIED:20200622T185631Z
UID:12706-1614434400-1614438000@www.7hills.org
SUMMARY:M-Play
DESCRIPTION:
URL:https://www.7hills.org/event/m-play-2/
LOCATION:Schiff Center
CATEGORIES:All School
END:VEVENT
BEGIN:VEVENT
DTSTART;TZID=America/New_York:20210226T190000
DTEND;TZID=America/New_York:20210226T200000
DTSTAMP:20260421T140040
CREATED:20200622T185526Z
LAST-MODIFIED:20210208T153632Z
UID:12705-1614366000-1614369600@www.7hills.org
SUMMARY:M-MS Virtual Hangout
DESCRIPTION:
URL:https://www.7hills.org/event/m-7th-8th-grade-party/
CATEGORIES:All School
END:VEVENT
BEGIN:VEVENT
DTSTART;TZID=America/New_York:20210226T090000
DTEND;TZID=America/New_York:20210226T100000
DTSTAMP:20260421T140040
CREATED:20200624T202926Z
LAST-MODIFIED:20210217T162050Z
UID:12804-1614330000-1614333600@www.7hills.org
SUMMARY:M-Play Livestreamed for 4th-8th Grades
DESCRIPTION:
URL:https://www.7hills.org/event/m-play-matinee-for-4th-5th-grades-3/
LOCATION:Schiff Center
CATEGORIES:All School
END:VEVENT
BEGIN:VEVENT
DTSTART;TZID=America/New_York:20210225T190000
DTEND;TZID=America/New_York:20210225T203000
DTSTAMP:20260421T140040
CREATED:20200619T140535Z
LAST-MODIFIED:20210222T201541Z
UID:13414-1614279600-1614285000@www.7hills.org
SUMMARY:TSHS-Creating Conversations via Zoom-Postponed
DESCRIPTION:
URL:https://www.7hills.org/event/tshs-creating-conversations-2021-02-25/
CATEGORIES:All School
END:VEVENT
BEGIN:VEVENT
DTSTART;TZID=America/New_York:20210225T090000
DTEND;TZID=America/New_York:20210225T100000
DTSTAMP:20260421T140040
CREATED:20200622T185430Z
LAST-MODIFIED:20200622T185430Z
UID:12704-1614243600-1614247200@www.7hills.org
SUMMARY:M-Play Matinee for 4th & 5th Grades
DESCRIPTION:
URL:https://www.7hills.org/event/m-play-matinee-for-4th-5th-grades-2/
LOCATION:Schiff Center
CATEGORIES:All School
END:VEVENT
BEGIN:VEVENT
DTSTART;TZID=America/New_York:20210224T183000
DTEND;TZID=America/New_York:20210224T183000
DTSTAMP:20260421T140040
CREATED:20201215T191023Z
LAST-MODIFIED:20201215T191023Z
UID:13588-1614191400-1614191400@www.7hills.org
SUMMARY:Alumni Dessert Class with Glenda Jones\, owner of Coco Bites\, via Zoom
DESCRIPTION:
URL:https://www.7hills.org/event/alumni-dessert-class-with-glenda-jones-owner-of-coco-bites-via-zoom/
CATEGORIES:Alumni
END:VEVENT
BEGIN:VEVENT
DTSTART;TZID=America/New_York:20210223T160000
DTEND;TZID=America/New_York:20210223T170000
DTSTAMP:20260421T140040
CREATED:20200619T144849Z
LAST-MODIFIED:20200619T144849Z
UID:12503-1614096000-1614099600@www.7hills.org
SUMMARY:TSHS-All School Faculty Meeting
DESCRIPTION:
URL:https://www.7hills.org/event/tshs-all-school-faculty-meeting-2/
CATEGORIES:All School
END:VEVENT
BEGIN:VEVENT
DTSTART;TZID=America/New_York:20210222T190000
DTEND;TZID=America/New_York:20210222T200000
DTSTAMP:20260421T140040
CREATED:20200619T162733Z
LAST-MODIFIED:20200619T162733Z
UID:12626-1614020400-1614024000@www.7hills.org
SUMMARY:U-Evening with College Admission Deans
DESCRIPTION:
URL:https://www.7hills.org/event/u-evening-with-college-admission-deans/
LOCATION:Schiff Center
CATEGORIES:All School
END:VEVENT
BEGIN:VEVENT
DTSTART;VALUE=DATE:20210222
DTEND;VALUE=DATE:20210227
DTSTAMP:20260421T140040
CREATED:20200622T185244Z
LAST-MODIFIED:20200622T185244Z
UID:12701-1613952000-1614383999@www.7hills.org
SUMMARY:M-Student Advisory Conferences
DESCRIPTION:
URL:https://www.7hills.org/event/m-student-advisory-conferences/
CATEGORIES:All School
END:VEVENT
BEGIN:VEVENT
DTSTART;VALUE=DATE:20210219
DTEND;VALUE=DATE:20210220
DTSTAMP:20260421T140040
CREATED:20200622T193216Z
LAST-MODIFIED:20200622T193216Z
UID:12752-1613692800-1613779199@www.7hills.org
SUMMARY:D/L-No School-Parent Conferences
DESCRIPTION:
URL:https://www.7hills.org/event/d-l-no-school-parent-conferences/
CATEGORIES:All School
END:VEVENT
BEGIN:VEVENT
DTSTART;TZID=America/New_York:20210218T190000
DTEND;TZID=America/New_York:20210218T200000
DTSTAMP:20260421T140040
CREATED:20210125T201930Z
LAST-MODIFIED:20210125T201930Z
UID:13786-1613674800-1613678400@www.7hills.org
SUMMARY:M-MS Parent Community Meeting via Zoom
DESCRIPTION:
URL:https://www.7hills.org/event/m-ms-parent-community-meeting-via-zoom/
CATEGORIES:All School
END:VEVENT
BEGIN:VEVENT
DTSTART;VALUE=DATE:20210218
DTEND;VALUE=DATE:20210219
DTSTAMP:20260421T140040
CREATED:20200622T193140Z
LAST-MODIFIED:20200622T193140Z
UID:12751-1613606400-1613692799@www.7hills.org
SUMMARY:D/L-Evening Parent Conferences
DESCRIPTION:
URL:https://www.7hills.org/event/d-l-evening-parent-conferences-2/
CATEGORIES:All School
END:VEVENT
BEGIN:VEVENT
DTSTART;TZID=America/New_York:20210217T183000
DTEND;TZID=America/New_York:20210217T203000
DTSTAMP:20260421T140040
CREATED:20200619T135159Z
LAST-MODIFIED:20210105T132023Z
UID:12437-1613586600-1613593800@www.7hills.org
SUMMARY:TSHS-Board of Trustees Meeting via Zoom
DESCRIPTION:
URL:https://www.7hills.org/event/tshs-board-of-trustees-meeting-2021-02-17/
CATEGORIES:All School
END:VEVENT
BEGIN:VEVENT
DTSTART;TZID=America/New_York:20210217T090000
DTEND;TZID=America/New_York:20210217T100000
DTSTAMP:20260421T140040
CREATED:20200619T162634Z
LAST-MODIFIED:20210202T195825Z
UID:12625-1613552400-1613556000@www.7hills.org
SUMMARY:U-Coffee with a College Counselor "Thinking About Summer" via Zoom
DESCRIPTION:
URL:https://www.7hills.org/event/u-coffee-with-a-college-counselor-thinking-about-summer/
LOCATION:Heffner Alumni Conference Room
CATEGORIES:All School
END:VEVENT
BEGIN:VEVENT
DTSTART;VALUE=DATE:20210215
DTEND;VALUE=DATE:20210216
DTSTAMP:20260421T140040
CREATED:20200619T144808Z
LAST-MODIFIED:20200619T144808Z
UID:12502-1613347200-1613433599@www.7hills.org
SUMMARY:Presidents Day-No School
DESCRIPTION:
URL:https://www.7hills.org/event/presidents-day-no-school-4/
CATEGORIES:All School
END:VEVENT
BEGIN:VEVENT
DTSTART;VALUE=DATE:20210212
DTEND;VALUE=DATE:20210213
DTSTAMP:20260421T140040
CREATED:20200619T144743Z
LAST-MODIFIED:20200619T144743Z
UID:12501-1613088000-1613174399@www.7hills.org
SUMMARY:TSHS-Records Day-No Classes
DESCRIPTION:
URL:https://www.7hills.org/event/tshs-records-day-no-classes-4/
CATEGORIES:All School
END:VEVENT
BEGIN:VEVENT
DTSTART;VALUE=DATE:20210211
DTEND;VALUE=DATE:20210212
DTSTAMP:20260421T140040
CREATED:20210120T162818Z
LAST-MODIFIED:20210120T162825Z
UID:13775-1613001600-1613087999@www.7hills.org
SUMMARY:L-Online Book Fair Ends
DESCRIPTION:
URL:https://www.7hills.org/event/l-online-book-fair-ends/
CATEGORIES:All School
END:VEVENT
BEGIN:VEVENT
DTSTART;VALUE=DATE:20210211
DTEND;VALUE=DATE:20210212
DTSTAMP:20260421T140040
CREATED:20210113T210501Z
LAST-MODIFIED:20210113T210501Z
UID:13700-1613001600-1613087999@www.7hills.org
SUMMARY:D-Online Book Fair Ends
DESCRIPTION:
URL:https://www.7hills.org/event/d-online-book-fair-ends/
CATEGORIES:All School
END:VEVENT
BEGIN:VEVENT
DTSTART;TZID=America/New_York:20210208T190000
DTEND;TZID=America/New_York:20210208T200000
DTSTAMP:20260421T140040
CREATED:20200619T162534Z
LAST-MODIFIED:20210122T201340Z
UID:12624-1612810800-1612814400@www.7hills.org
SUMMARY:U-Junior Parents College Counseling Meeting via Zoom
DESCRIPTION:
URL:https://www.7hills.org/event/u-junior-parents-college-counseling-meeting-2/
CATEGORIES:All School
END:VEVENT
BEGIN:VEVENT
DTSTART;TZID=America/New_York:20210206T200000
DTEND;TZID=America/New_York:20210206T210000
DTSTAMP:20260421T140040
CREATED:20210126T185151Z
LAST-MODIFIED:20210126T185235Z
UID:13795-1612641600-1612645200@www.7hills.org
SUMMARY:U-Play
DESCRIPTION:
URL:https://www.7hills.org/event/u-play-6/
LOCATION:Schiff Center
CATEGORIES:All School
END:VEVENT
END:VCALENDAR