BEGIN:VCALENDAR
VERSION:2.0
PRODID:-//Seven Hills School - ECPv6.15.20//NONSGML v1.0//EN
CALSCALE:GREGORIAN
METHOD:PUBLISH
X-ORIGINAL-URL:https://www.7hills.org
X-WR-CALDESC:Events for Seven Hills School
REFRESH-INTERVAL;VALUE=DURATION:PT1H
X-Robots-Tag:noindex
X-PUBLISHED-TTL:PT1H
BEGIN:VTIMEZONE
TZID:America/New_York
BEGIN:DAYLIGHT
TZOFFSETFROM:-0500
TZOFFSETTO:-0400
TZNAME:EDT
DTSTART:20240310T070000
END:DAYLIGHT
BEGIN:STANDARD
TZOFFSETFROM:-0400
TZOFFSETTO:-0500
TZNAME:EST
DTSTART:20241103T060000
END:STANDARD
BEGIN:DAYLIGHT
TZOFFSETFROM:-0500
TZOFFSETTO:-0400
TZNAME:EDT
DTSTART:20250309T070000
END:DAYLIGHT
BEGIN:STANDARD
TZOFFSETFROM:-0400
TZOFFSETTO:-0500
TZNAME:EST
DTSTART:20251102T060000
END:STANDARD
BEGIN:DAYLIGHT
TZOFFSETFROM:-0500
TZOFFSETTO:-0400
TZNAME:EDT
DTSTART:20260308T070000
END:DAYLIGHT
BEGIN:STANDARD
TZOFFSETFROM:-0400
TZOFFSETTO:-0500
TZNAME:EST
DTSTART:20261101T060000
END:STANDARD
END:VTIMEZONE
BEGIN:VEVENT
DTSTART;VALUE=DATE:20250529
DTEND;VALUE=DATE:20250530
DTSTAMP:20260425T104307
CREATED:20240710T144726Z
LAST-MODIFIED:20240710T144726Z
UID:24333-1748476800-1748563199@www.7hills.org
SUMMARY:M-End of Fourth Quarter
DESCRIPTION:
URL:https://www.7hills.org/event/m-end-of-fourth-quarter-6/
CATEGORIES:All School
END:VEVENT
BEGIN:VEVENT
DTSTART;VALUE=DATE:20250529
DTEND;VALUE=DATE:20250530
DTSTAMP:20260425T104307
CREATED:20240710T154149Z
LAST-MODIFIED:20240710T154149Z
UID:24427-1748476800-1748563199@www.7hills.org
SUMMARY:M-Last Day of Classes
DESCRIPTION:
URL:https://www.7hills.org/event/m-last-day-of-classes-2/
CATEGORIES:All School
END:VEVENT
BEGIN:VEVENT
DTSTART;TZID=America/New_York:20250529T084500
DTEND;TZID=America/New_York:20250529T084500
DTSTAMP:20260425T104307
CREATED:20240710T154224Z
LAST-MODIFIED:20240710T154224Z
UID:24428-1748508300-1748508300@www.7hills.org
SUMMARY:D-Grades 1-5 Closing Exercises
DESCRIPTION:
URL:https://www.7hills.org/event/d-grades-1-5-closing-exercises-3/
LOCATION:Doherty Courtyard
CATEGORIES:All School
END:VEVENT
BEGIN:VEVENT
DTSTART;TZID=America/New_York:20250529T101500
DTEND;TZID=America/New_York:20250529T101500
DTSTAMP:20260425T104307
CREATED:20240710T154255Z
LAST-MODIFIED:20240710T154255Z
UID:24429-1748513700-1748513700@www.7hills.org
SUMMARY:L-5th Grade Closing Exercises
DESCRIPTION:
URL:https://www.7hills.org/event/l-5th-grade-closing-exercises/
LOCATION:Schiff Center
CATEGORIES:All School
END:VEVENT
BEGIN:VEVENT
DTSTART;TZID=America/New_York:20250529T110000
DTEND;TZID=America/New_York:20250529T120000
DTSTAMP:20260425T104307
CREATED:20240710T154125Z
LAST-MODIFIED:20250313T140720Z
UID:24426-1748516400-1748520000@www.7hills.org
SUMMARY:U-Graduation Rehearsal
DESCRIPTION:
URL:https://www.7hills.org/event/u-graduation-rehearsal-5/
LOCATION:Field House
CATEGORIES:All School,Alumni
END:VEVENT
BEGIN:VEVENT
DTSTART;TZID=America/New_York:20250529T190000
DTEND;TZID=America/New_York:20250529T213000
DTSTAMP:20260425T104307
CREATED:20240710T154329Z
LAST-MODIFIED:20240710T154329Z
UID:24430-1748545200-1748554200@www.7hills.org
SUMMARY:M-7th & 8th Grade Dance
DESCRIPTION:
URL:https://www.7hills.org/event/m-7th-8th-grade-dance-4/
LOCATION:Founders Hall\, The Seven Hills School\, 5400 Red Bank Road\, Cincinnati\, OH\, 45227\, United States
CATEGORIES:All School
END:VEVENT
BEGIN:VEVENT
DTSTART;VALUE=DATE:20250530
DTEND;VALUE=DATE:20250531
DTSTAMP:20260425T104307
CREATED:20240710T154355Z
LAST-MODIFIED:20240710T154355Z
UID:24431-1748563200-1748649599@www.7hills.org
SUMMARY:U-Last Day of School
DESCRIPTION:
URL:https://www.7hills.org/event/u-last-day-of-school-5/
CATEGORIES:All School
END:VEVENT
BEGIN:VEVENT
DTSTART;TZID=America/New_York:20250530T090000
DTEND;TZID=America/New_York:20250530T090000
DTSTAMP:20260425T104307
CREATED:20240710T154431Z
LAST-MODIFIED:20240710T154431Z
UID:24432-1748595600-1748595600@www.7hills.org
SUMMARY:M-8th Grade Closing Program & Reception
DESCRIPTION:
URL:https://www.7hills.org/event/m-8th-grade-closing-program-reception/
LOCATION:Schiff Center
CATEGORIES:All School
END:VEVENT
BEGIN:VEVENT
DTSTART;TZID=America/New_York:20250530T180000
DTEND;TZID=America/New_York:20250530T200000
DTSTAMP:20260425T104307
CREATED:20240710T154459Z
LAST-MODIFIED:20240710T154459Z
UID:24433-1748628000-1748635200@www.7hills.org
SUMMARY:U-Graduation
DESCRIPTION:
URL:https://www.7hills.org/event/u-graduation-5/
LOCATION:Field House
CATEGORIES:All School
END:VEVENT
BEGIN:VEVENT
DTSTART;VALUE=DATE:20250602
DTEND;VALUE=DATE:20250607
DTSTAMP:20260425T104307
CREATED:20240710T154757Z
LAST-MODIFIED:20240710T154757Z
UID:24434-1748822400-1749254399@www.7hills.org
SUMMARY:TSHS-Faculty Professional Development/Faculty Meetings
DESCRIPTION:
URL:https://www.7hills.org/event/tshs-faculty-professional-development-faculty-meetings/
CATEGORIES:All School
END:VEVENT
BEGIN:VEVENT
DTSTART;TZID=America/New_York:20250602T090000
DTEND;TZID=America/New_York:20250602T150000
DTSTAMP:20260425T104307
CREATED:20240710T154954Z
LAST-MODIFIED:20250428T150056Z
UID:24437-1748854800-1748876400@www.7hills.org
SUMMARY:U-Juniors Optional College Essay Writing Workshop
DESCRIPTION:
URL:https://www.7hills.org/event/u-juniors-optional-college-essay-writing-workshop-3/
LOCATION:Founders Hall\, The Seven Hills School\, 5400 Red Bank Road\, Cincinnati\, OH\, 45227\, United States
CATEGORIES:All School
END:VEVENT
BEGIN:VEVENT
DTSTART;VALUE=DATE:20250606
DTEND;VALUE=DATE:20250608
DTSTAMP:20260425T104307
CREATED:20240710T155017Z
LAST-MODIFIED:20240710T155017Z
UID:24438-1749168000-1749340799@www.7hills.org
SUMMARY:Eid Al-Adha
DESCRIPTION:
URL:https://www.7hills.org/event/eid-al-adha/
CATEGORIES:All School
END:VEVENT
BEGIN:VEVENT
DTSTART;TZID=America/New_York:20250606T120000
DTEND;TZID=America/New_York:20250606T120000
DTSTAMP:20260425T104307
CREATED:20240710T154842Z
LAST-MODIFIED:20241217T160532Z
UID:24435-1749211200-1749211200@www.7hills.org
SUMMARY:TSHS-Faculty & Staff Closing Luncheon
DESCRIPTION:
URL:https://www.7hills.org/event/tshs-faculty-staff-closing-luncheon-2/
LOCATION:Founders Hall\, The Seven Hills School\, 5400 Red Bank Road\, Cincinnati\, OH\, 45227\, United States
CATEGORIES:All School
END:VEVENT
BEGIN:VEVENT
DTSTART;VALUE=DATE:20250607
DTEND;VALUE=DATE:20250608
DTSTAMP:20260425T104307
CREATED:20240709T143116Z
LAST-MODIFIED:20240709T143116Z
UID:24101-1749254400-1749340799@www.7hills.org
SUMMARY:U-SATs (off campus)
DESCRIPTION:
URL:https://www.7hills.org/event/u-sats-off-campus-10/
CATEGORIES:All School
END:VEVENT
BEGIN:VEVENT
DTSTART;VALUE=DATE:20250609
DTEND;VALUE=DATE:20250610
DTSTAMP:20260425T104307
CREATED:20240710T155113Z
LAST-MODIFIED:20241007T174720Z
UID:24440-1749427200-1749513599@www.7hills.org
SUMMARY:TSHS-Summer Program Begins
DESCRIPTION:
URL:https://www.7hills.org/event/tshs-summer-program-begins-6/
CATEGORIES:All School
END:VEVENT
BEGIN:VEVENT
DTSTART;VALUE=DATE:20250614
DTEND;VALUE=DATE:20250615
DTSTAMP:20260425T104307
CREATED:20240709T143359Z
LAST-MODIFIED:20240709T143359Z
UID:24107-1749859200-1749945599@www.7hills.org
SUMMARY:U-ACTs (off campus)
DESCRIPTION:
URL:https://www.7hills.org/event/u-acts-off-campus-13/
CATEGORIES:All School
END:VEVENT
BEGIN:VEVENT
DTSTART;VALUE=DATE:20250615
DTEND;VALUE=DATE:20250616
DTSTAMP:20260425T104307
CREATED:20240710T155043Z
LAST-MODIFIED:20240710T155043Z
UID:24439-1749945600-1750031999@www.7hills.org
SUMMARY:Father's Day
DESCRIPTION:
URL:https://www.7hills.org/event/fathers-day-5/
CATEGORIES:All School
END:VEVENT
BEGIN:VEVENT
DTSTART;VALUE=DATE:20250619
DTEND;VALUE=DATE:20250620
DTSTAMP:20260425T104307
CREATED:20240710T155142Z
LAST-MODIFIED:20240710T155142Z
UID:24441-1750291200-1750377599@www.7hills.org
SUMMARY:Juneteenth
DESCRIPTION:
URL:https://www.7hills.org/event/juneteenth-3/
CATEGORIES:All School
END:VEVENT
BEGIN:VEVENT
DTSTART;VALUE=DATE:20250619
DTEND;VALUE=DATE:20250620
DTSTAMP:20260425T104307
CREATED:20240710T155227Z
LAST-MODIFIED:20240710T155227Z
UID:24442-1750291200-1750377599@www.7hills.org
SUMMARY:TSHS-No School/Summer Program
DESCRIPTION:
URL:https://www.7hills.org/event/tshs-no-school-summer-program/
CATEGORIES:All School
END:VEVENT
BEGIN:VEVENT
DTSTART;VALUE=DATE:20250704
DTEND;VALUE=DATE:20250705
DTSTAMP:20260425T104307
CREATED:20240710T155426Z
LAST-MODIFIED:20240710T155426Z
UID:24443-1751587200-1751673599@www.7hills.org
SUMMARY:Independence Day
DESCRIPTION:
URL:https://www.7hills.org/event/independence-day-4/
CATEGORIES:All School
END:VEVENT
BEGIN:VEVENT
DTSTART;VALUE=DATE:20250704
DTEND;VALUE=DATE:20250705
DTSTAMP:20260425T104307
CREATED:20240710T155442Z
LAST-MODIFIED:20240710T155442Z
UID:24444-1751587200-1751673599@www.7hills.org
SUMMARY:TSHS-No School/Summer Program
DESCRIPTION:
URL:https://www.7hills.org/event/tshs-no-school-summer-program-2/
CATEGORIES:All School
END:VEVENT
BEGIN:VEVENT
DTSTART;VALUE=DATE:20250712
DTEND;VALUE=DATE:20250713
DTSTAMP:20260425T104307
CREATED:20240709T143510Z
LAST-MODIFIED:20240709T143510Z
UID:24108-1752278400-1752364799@www.7hills.org
SUMMARY:U-ACTs (off campus)
DESCRIPTION:
URL:https://www.7hills.org/event/u-acts-off-campus-14/
CATEGORIES:All School
END:VEVENT
BEGIN:VEVENT
DTSTART;TZID=America/New_York:20250718T180000
DTEND;TZID=America/New_York:20250718T183000
DTSTAMP:20260425T104307
CREATED:20250718T145646Z
LAST-MODIFIED:20250718T145646Z
UID:27026-1752861600-1752863400@www.7hills.org
SUMMARY:U-9th Grade & New Parents Meeting
DESCRIPTION:
URL:https://www.7hills.org/event/u-9th-grade-new-parents-meeting/
CATEGORIES:All School
END:VEVENT
BEGIN:VEVENT
DTSTART;VALUE=DATE:20250801
DTEND;VALUE=DATE:20250802
DTSTAMP:20260425T104307
CREATED:20250718T144015Z
LAST-MODIFIED:20250718T144015Z
UID:27002-1754006400-1754092799@www.7hills.org
SUMMARY:TSHS-Summer Program Ends
DESCRIPTION:
URL:https://www.7hills.org/event/tshs-summer-program-ends-6/
CATEGORIES:All School
END:VEVENT
BEGIN:VEVENT
DTSTART;TZID=America/New_York:20250804T190000
DTEND;TZID=America/New_York:20250804T190000
DTSTAMP:20260425T104307
CREATED:20250718T144045Z
LAST-MODIFIED:20250718T144045Z
UID:27003-1754334000-1754334000@www.7hills.org
SUMMARY:TSHS-New Parent Orientations via Zoom
DESCRIPTION:
URL:https://www.7hills.org/event/tshs-new-parent-orientations-via-zoom/
CATEGORIES:All School
END:VEVENT
BEGIN:VEVENT
DTSTART;TZID=America/New_York:20250806T094500
DTEND;TZID=America/New_York:20250806T120000
DTSTAMP:20260425T104307
CREATED:20250718T144126Z
LAST-MODIFIED:20250718T144126Z
UID:27004-1754473500-1754481600@www.7hills.org
SUMMARY:U-Optional Common App Bootcamp for Seniors
DESCRIPTION:
URL:https://www.7hills.org/event/u-optional-common-app-bootcamp-for-seniors-8/
LOCATION:Founders Hall\, The Seven Hills School\, 5400 Red Bank Road\, Cincinnati\, OH\, 45227\, United States
CATEGORIES:All School
END:VEVENT
BEGIN:VEVENT
DTSTART;TZID=America/New_York:20250809T093000
DTEND;TZID=America/New_York:20250809T093000
DTSTAMP:20260425T104307
CREATED:20250718T144235Z
LAST-MODIFIED:20250718T144235Z
UID:27006-1754731800-1754731800@www.7hills.org
SUMMARY:D-Swing Into School for PreK2-K
DESCRIPTION:
URL:https://www.7hills.org/event/d-swing-into-school-for-prek2-k/
CATEGORIES:All School
END:VEVENT
BEGIN:VEVENT
DTSTART;VALUE=DATE:20250811
DTEND;VALUE=DATE:20250813
DTSTAMP:20260425T104307
CREATED:20250718T190906Z
LAST-MODIFIED:20250718T190906Z
UID:27298-1754870400-1755043199@www.7hills.org
SUMMARY:TSHS-New Faculty Orientation
DESCRIPTION:
URL:https://www.7hills.org/event/tshs-new-faculty-orientation-2/
CATEGORIES:All School
END:VEVENT
BEGIN:VEVENT
DTSTART;VALUE=DATE:20250813
DTEND;VALUE=DATE:20250816
DTSTAMP:20260425T104307
CREATED:20250718T190826Z
LAST-MODIFIED:20250718T190826Z
UID:27296-1755043200-1755302399@www.7hills.org
SUMMARY:TSHS-Faculty Meetings
DESCRIPTION:
URL:https://www.7hills.org/event/tshs-faculty-meetings/
CATEGORIES:All School
END:VEVENT
BEGIN:VEVENT
DTSTART;TZID=America/New_York:20250813T120000
DTEND;TZID=America/New_York:20250813T140000
DTSTAMP:20260425T104307
CREATED:20250805T114751Z
LAST-MODIFIED:20250805T114751Z
UID:27336-1755086400-1755093600@www.7hills.org
SUMMARY:M-Back to School Party
DESCRIPTION:
URL:https://www.7hills.org/event/m-back-to-school-party/
CATEGORIES:All School
END:VEVENT
END:VCALENDAR