BEGIN:VCALENDAR
VERSION:2.0
PRODID:-//Seven Hills School - ECPv6.15.20//NONSGML v1.0//EN
CALSCALE:GREGORIAN
METHOD:PUBLISH
X-WR-CALNAME:Seven Hills School
X-ORIGINAL-URL:https://www.7hills.org
X-WR-CALDESC:Events for Seven Hills School
REFRESH-INTERVAL;VALUE=DURATION:PT1H
X-Robots-Tag:noindex
X-PUBLISHED-TTL:PT1H
BEGIN:VTIMEZONE
TZID:America/New_York
BEGIN:DAYLIGHT
TZOFFSETFROM:-0500
TZOFFSETTO:-0400
TZNAME:EDT
DTSTART:20230312T070000
END:DAYLIGHT
BEGIN:STANDARD
TZOFFSETFROM:-0400
TZOFFSETTO:-0500
TZNAME:EST
DTSTART:20231105T060000
END:STANDARD
BEGIN:DAYLIGHT
TZOFFSETFROM:-0500
TZOFFSETTO:-0400
TZNAME:EDT
DTSTART:20240310T070000
END:DAYLIGHT
BEGIN:STANDARD
TZOFFSETFROM:-0400
TZOFFSETTO:-0500
TZNAME:EST
DTSTART:20241103T060000
END:STANDARD
BEGIN:DAYLIGHT
TZOFFSETFROM:-0500
TZOFFSETTO:-0400
TZNAME:EDT
DTSTART:20250309T070000
END:DAYLIGHT
BEGIN:STANDARD
TZOFFSETFROM:-0400
TZOFFSETTO:-0500
TZNAME:EST
DTSTART:20251102T060000
END:STANDARD
END:VTIMEZONE
BEGIN:VEVENT
DTSTART;VALUE=DATE:20240412
DTEND;VALUE=DATE:20240413
DTSTAMP:20260423T054001
CREATED:20240411T120458Z
LAST-MODIFIED:20240411T120539Z
UID:23134-1712880000-1712966399@www.7hills.org
SUMMARY:TSHS-Spirit Wear Day!
DESCRIPTION:
URL:https://www.7hills.org/event/tshs-spiritwear-day/
CATEGORIES:All School
END:VEVENT
BEGIN:VEVENT
DTSTART;TZID=America/New_York:20240412T083000
DTEND;TZID=America/New_York:20240412T093000
DTSTAMP:20260423T054001
CREATED:20230620T230116Z
LAST-MODIFIED:20230927T135403Z
UID:21045-1712910600-1712914200@www.7hills.org
SUMMARY:D/L-Doherty & Lotspeich Joint Parent Community Meeting
DESCRIPTION:
URL:https://www.7hills.org/event/d-l-doherty-lotspeich-joint-parent-community-meeting/
LOCATION:The BonBonerie\, 2030 Madison Rd\, Cincinnati\, Ohio\, 45208\, United States
CATEGORIES:All School
END:VEVENT
BEGIN:VEVENT
DTSTART;TZID=America/New_York:20240412T113000
DTEND;TZID=America/New_York:20240412T133000
DTSTAMP:20260423T054001
CREATED:20230620T225915Z
LAST-MODIFIED:20230620T225915Z
UID:21042-1712921400-1712928600@www.7hills.org
SUMMARY:TSHS-Reunion Classics Luncheon
DESCRIPTION:
URL:https://www.7hills.org/event/tshs-reunion-classics-luncheon-4/
CATEGORIES:All School
END:VEVENT
BEGIN:VEVENT
DTSTART;VALUE=DATE:20240413
DTEND;VALUE=DATE:20240414
DTSTAMP:20260423T054001
CREATED:20230615T191338Z
LAST-MODIFIED:20230615T191338Z
UID:20781-1712966400-1713052799@www.7hills.org
SUMMARY:U-ACTs (off campus)
DESCRIPTION:
URL:https://www.7hills.org/event/u-acts-off-campus-7-2024-04-13/
CATEGORIES:All School
END:VEVENT
BEGIN:VEVENT
DTSTART;TZID=America/New_York:20240413T190000
DTEND;TZID=America/New_York:20240413T220000
DTSTAMP:20260423T054001
CREATED:20230620T230030Z
LAST-MODIFIED:20240226T150845Z
UID:21044-1713034800-1713045600@www.7hills.org
SUMMARY:TSHS-50th Anniversary Alumni Celebration
DESCRIPTION:
URL:https://www.7hills.org/event/tshs-50th-anniversary-alumni-celebration/
LOCATION:Field House
CATEGORIES:All School
END:VEVENT
BEGIN:VEVENT
DTSTART;TZID=America/New_York:20240417T180000
DTEND;TZID=America/New_York:20240417T183000
DTSTAMP:20260423T054001
CREATED:20230620T230249Z
LAST-MODIFIED:20230620T230249Z
UID:21046-1713376800-1713378600@www.7hills.org
SUMMARY:TSHS-Corporation Meeting
DESCRIPTION:
URL:https://www.7hills.org/event/tshs-corporation-meeting-5/
CATEGORIES:All School
END:VEVENT
BEGIN:VEVENT
DTSTART;TZID=America/New_York:20240417T183000
DTEND;TZID=America/New_York:20240417T203000
DTSTAMP:20260423T054001
CREATED:20230615T184826Z
LAST-MODIFIED:20230615T184826Z
UID:20740-1713378600-1713385800@www.7hills.org
SUMMARY:TSHS-Board of Trustees Meeting
DESCRIPTION:
URL:https://www.7hills.org/event/tshs-board-of-trustees-meeting-4-2024-04-17/
CATEGORIES:All School
END:VEVENT
BEGIN:VEVENT
DTSTART;VALUE=DATE:20240418
DTEND;VALUE=DATE:20240420
DTSTAMP:20260423T054001
CREATED:20240308T202046Z
LAST-MODIFIED:20240411T115341Z
UID:22981-1713398400-1713571199@www.7hills.org
SUMMARY:TSHS-Culture Fair
DESCRIPTION:
URL:https://www.7hills.org/event/tshs-culture-week/
CATEGORIES:All School
END:VEVENT
BEGIN:VEVENT
DTSTART;TZID=America/New_York:20240418T160000
DTEND;TZID=America/New_York:20240418T183000
DTSTAMP:20260423T054001
CREATED:20230620T165758Z
LAST-MODIFIED:20230620T165758Z
UID:20859-1713456000-1713465000@www.7hills.org
SUMMARY:U-Play Free Preview/Open Dress Rehearsal
DESCRIPTION:
URL:https://www.7hills.org/event/u-play-free-preview-open-dress-rehearsal-9/
CATEGORIES:All School
END:VEVENT
BEGIN:VEVENT
DTSTART;VALUE=DATE:20240419
DTEND;VALUE=DATE:20240420
DTSTAMP:20260423T054001
CREATED:20230620T230318Z
LAST-MODIFIED:20230620T230318Z
UID:21047-1713484800-1713571199@www.7hills.org
SUMMARY:L-VIP Day
DESCRIPTION:
URL:https://www.7hills.org/event/l-vip-day/
CATEGORIES:All School
END:VEVENT
BEGIN:VEVENT
DTSTART;TZID=America/New_York:20240419T113000
DTEND;TZID=America/New_York:20240419T113000
DTSTAMP:20260423T054001
CREATED:20230620T230354Z
LAST-MODIFIED:20230620T230354Z
UID:21048-1713526200-1713526200@www.7hills.org
SUMMARY:L-Early Release at 11:30 a.m.
DESCRIPTION:
URL:https://www.7hills.org/event/l-early-release-at-1130-a-m/
CATEGORIES:All School
END:VEVENT
BEGIN:VEVENT
DTSTART;TZID=America/New_York:20240419T193000
DTEND;TZID=America/New_York:20240419T213000
DTSTAMP:20260423T054001
CREATED:20230620T165905Z
LAST-MODIFIED:20230620T165905Z
UID:20860-1713555000-1713562200@www.7hills.org
SUMMARY:U-Play
DESCRIPTION:
URL:https://www.7hills.org/event/u-play-15/
CATEGORIES:All School
END:VEVENT
BEGIN:VEVENT
DTSTART;TZID=America/New_York:20240420T193000
DTEND;TZID=America/New_York:20240420T213000
DTSTAMP:20260423T054001
CREATED:20230620T165905Z
LAST-MODIFIED:20230620T165905Z
UID:20861-1713641400-1713648600@www.7hills.org
SUMMARY:U-Play
DESCRIPTION:
URL:https://www.7hills.org/event/u-play-15-2024-04-20/
CATEGORIES:All School
END:VEVENT
BEGIN:VEVENT
DTSTART;VALUE=DATE:20240422
DTEND;VALUE=DATE:20240423
DTSTAMP:20260423T054001
CREATED:20230620T230430Z
LAST-MODIFIED:20230620T230430Z
UID:21049-1713744000-1713830399@www.7hills.org
SUMMARY:Passover Begins at Sundown
DESCRIPTION:
URL:https://www.7hills.org/event/passover-begins-at-sundown-4/
CATEGORIES:All School
END:VEVENT
BEGIN:VEVENT
DTSTART;VALUE=DATE:20240423
DTEND;VALUE=DATE:20240424
DTSTAMP:20260423T054001
CREATED:20230620T175758Z
LAST-MODIFIED:20231030T181700Z
UID:20928-1713830400-1713916799@www.7hills.org
SUMMARY:U-Personal Challenge Sharing Day
DESCRIPTION:
URL:https://www.7hills.org/event/u-personal-challenge-sharing-day-3/
CATEGORIES:All School
END:VEVENT
BEGIN:VEVENT
DTSTART;TZID=America/New_York:20240425T180000
DTEND;TZID=America/New_York:20240425T190000
DTSTAMP:20260423T054001
CREATED:20230620T230523Z
LAST-MODIFIED:20230620T230700Z
UID:21050-1714068000-1714071600@www.7hills.org
SUMMARY:TSHS-Alumni Book Discussion
DESCRIPTION:
URL:https://www.7hills.org/event/tshs-alumni-book-discussion/
CATEGORIES:All School
END:VEVENT
BEGIN:VEVENT
DTSTART;VALUE=DATE:20240426
DTEND;VALUE=DATE:20240427
DTSTAMP:20260423T054001
CREATED:20230620T230609Z
LAST-MODIFIED:20230620T230609Z
UID:21051-1714089600-1714175999@www.7hills.org
SUMMARY:TSHS-Arts Alive!
DESCRIPTION:
URL:https://www.7hills.org/event/tshs-arts-alive-3/
CATEGORIES:All School
END:VEVENT
BEGIN:VEVENT
DTSTART;VALUE=DATE:20240427
DTEND;VALUE=DATE:20240428
DTSTAMP:20260423T054001
CREATED:20230620T230744Z
LAST-MODIFIED:20230620T230744Z
UID:21052-1714176000-1714262399@www.7hills.org
SUMMARY:M/U-Track Meet
DESCRIPTION:
URL:https://www.7hills.org/event/m-u-track-meet-4/
CATEGORIES:All School,Athletics
END:VEVENT
BEGIN:VEVENT
DTSTART;VALUE=DATE:20240429
DTEND;VALUE=DATE:20240430
DTSTAMP:20260423T054001
CREATED:20230616T152826Z
LAST-MODIFIED:20230616T153104Z
UID:20808-1714348800-1714435199@www.7hills.org
SUMMARY:TSHS-Grds 1-8 Fall Sports Registration Begins
DESCRIPTION:
URL:https://www.7hills.org/event/tshs-grds-1-8-fall-sports-registration-begins/
CATEGORIES:All School,Athletics
END:VEVENT
BEGIN:VEVENT
DTSTART;TZID=America/New_York:20240430T183000
DTEND;TZID=America/New_York:20240430T193000
DTSTAMP:20260423T054001
CREATED:20231005T121421Z
LAST-MODIFIED:20231005T121421Z
UID:22010-1714501800-1714505400@www.7hills.org
SUMMARY:D-Grades K-3 Drama Night
DESCRIPTION:
URL:https://www.7hills.org/event/d-grades-k-3-drama-night/
CATEGORIES:All School
END:VEVENT
BEGIN:VEVENT
DTSTART;VALUE=DATE:20240501
DTEND;VALUE=DATE:20240502
DTSTAMP:20260423T054001
CREATED:20230620T230916Z
LAST-MODIFIED:20230620T230916Z
UID:21054-1714521600-1714607999@www.7hills.org
SUMMARY:Asian American & Native Hawaiian/Pacific Islander Heritage Month (May 1-31)
DESCRIPTION:
URL:https://www.7hills.org/event/asian-american-native-hawaiian-pacific-islander-heritage-month-may-1-31-2/
CATEGORIES:All School
END:VEVENT
BEGIN:VEVENT
DTSTART;TZID=America/New_York:20240501T180000
DTEND;TZID=America/New_York:20240501T190000
DTSTAMP:20260423T054001
CREATED:20230620T230948Z
LAST-MODIFIED:20230620T230948Z
UID:21055-1714586400-1714590000@www.7hills.org
SUMMARY:TSHS-Alumni Board Meeting
DESCRIPTION:
URL:https://www.7hills.org/event/tshs-alumni-board-meeting-9/
CATEGORIES:All School,Alumni
END:VEVENT
BEGIN:VEVENT
DTSTART;TZID=America/New_York:20240502T100000
DTEND;TZID=America/New_York:20240502T100000
DTSTAMP:20260423T054001
CREATED:20230620T171131Z
LAST-MODIFIED:20230620T171131Z
UID:20880-1714644000-1714644000@www.7hills.org
SUMMARY:TSHS-Advisory Council Meeting
DESCRIPTION:
URL:https://www.7hills.org/event/tshs-advisory-council-meeting-9/
CATEGORIES:All School
END:VEVENT
BEGIN:VEVENT
DTSTART;TZID=America/New_York:20240502T163000
DTEND;TZID=America/New_York:20240502T193000
DTSTAMP:20260423T054001
CREATED:20240411T180908Z
LAST-MODIFIED:20240417T130006Z
UID:23135-1714667400-1714678200@www.7hills.org
SUMMARY:TSHS-Family Food Truck & Youth Spirit Night
DESCRIPTION:Lower School spring athletes will be recognized after the JV lacrosse game.
URL:https://www.7hills.org/event/tshs-family-food-truck-spirit-night/
LOCATION:Pavilion
CATEGORIES:All School
END:VEVENT
BEGIN:VEVENT
DTSTART;TZID=America/New_York:20240503T081500
DTEND;TZID=America/New_York:20240503T091500
DTSTAMP:20260423T054001
CREATED:20230615T183926Z
LAST-MODIFIED:20240108T134803Z
UID:20722-1714724100-1714727700@www.7hills.org
SUMMARY:M-Middle School Parent Community Meeting
DESCRIPTION:
URL:https://www.7hills.org/event/m-middle-school-parent-community-meeting-2024-05-03/
LOCATION:6th Grade Commons
CATEGORIES:All School
END:VEVENT
BEGIN:VEVENT
DTSTART;TZID=America/New_York:20240503T173000
DTEND;TZID=America/New_York:20240503T200000
DTSTAMP:20260423T054001
CREATED:20230620T231103Z
LAST-MODIFIED:20230620T231103Z
UID:21056-1714757400-1714766400@www.7hills.org
SUMMARY:L-May Fete
DESCRIPTION:
URL:https://www.7hills.org/event/l-may-fete-3/
CATEGORIES:All School
END:VEVENT
BEGIN:VEVENT
DTSTART;VALUE=DATE:20240504
DTEND;VALUE=DATE:20240505
DTSTAMP:20260423T054001
CREATED:20230615T184407Z
LAST-MODIFIED:20230615T184407Z
UID:20728-1714780800-1714867199@www.7hills.org
SUMMARY:U-SATs (off campus)
DESCRIPTION:
URL:https://www.7hills.org/event/u-sats-off-campus-3-2024-05-04/
CATEGORIES:All School
END:VEVENT
BEGIN:VEVENT
DTSTART;TZID=America/New_York:20240504T140000
DTEND;TZID=America/New_York:20240504T150000
DTSTAMP:20260423T054001
CREATED:20230620T182434Z
LAST-MODIFIED:20230620T182434Z
UID:20958-1714831200-1714834800@www.7hills.org
SUMMARY:M-Instrumental Concert
DESCRIPTION:
URL:https://www.7hills.org/event/m-instrumental-concert-6/
CATEGORIES:All School
END:VEVENT
BEGIN:VEVENT
DTSTART;TZID=America/New_York:20240504T160000
DTEND;TZID=America/New_York:20240504T170000
DTSTAMP:20260423T054001
CREATED:20230620T182359Z
LAST-MODIFIED:20230620T182409Z
UID:20957-1714838400-1714842000@www.7hills.org
SUMMARY:U-Instrumental Concert
DESCRIPTION:
URL:https://www.7hills.org/event/u-instrumental-concert-5/
CATEGORIES:All School
END:VEVENT
BEGIN:VEVENT
DTSTART;VALUE=DATE:20240506
DTEND;VALUE=DATE:20240511
DTSTAMP:20260423T054001
CREATED:20230620T231138Z
LAST-MODIFIED:20230620T231138Z
UID:21057-1714953600-1715385599@www.7hills.org
SUMMARY:U-AP Testing
DESCRIPTION:
URL:https://www.7hills.org/event/u-ap-testing-5/
CATEGORIES:All School
END:VEVENT
END:VCALENDAR