BEGIN:VCALENDAR
VERSION:2.0
PRODID:-//Seven Hills School - ECPv6.15.20//NONSGML v1.0//EN
CALSCALE:GREGORIAN
METHOD:PUBLISH
X-WR-CALNAME:Seven Hills School
X-ORIGINAL-URL:https://www.7hills.org
X-WR-CALDESC:Events for Seven Hills School
REFRESH-INTERVAL;VALUE=DURATION:PT1H
X-Robots-Tag:noindex
X-PUBLISHED-TTL:PT1H
BEGIN:VTIMEZONE
TZID:America/New_York
BEGIN:DAYLIGHT
TZOFFSETFROM:-0500
TZOFFSETTO:-0400
TZNAME:EDT
DTSTART:20200308T070000
END:DAYLIGHT
BEGIN:STANDARD
TZOFFSETFROM:-0400
TZOFFSETTO:-0500
TZNAME:EST
DTSTART:20201101T060000
END:STANDARD
BEGIN:DAYLIGHT
TZOFFSETFROM:-0500
TZOFFSETTO:-0400
TZNAME:EDT
DTSTART:20210314T070000
END:DAYLIGHT
BEGIN:STANDARD
TZOFFSETFROM:-0400
TZOFFSETTO:-0500
TZNAME:EST
DTSTART:20211107T060000
END:STANDARD
BEGIN:DAYLIGHT
TZOFFSETFROM:-0500
TZOFFSETTO:-0400
TZNAME:EDT
DTSTART:20220313T070000
END:DAYLIGHT
BEGIN:STANDARD
TZOFFSETFROM:-0400
TZOFFSETTO:-0500
TZNAME:EST
DTSTART:20221106T060000
END:STANDARD
BEGIN:DAYLIGHT
TZOFFSETFROM:-0500
TZOFFSETTO:-0400
TZNAME:EDT
DTSTART:20230312T070000
END:DAYLIGHT
BEGIN:STANDARD
TZOFFSETFROM:-0400
TZOFFSETTO:-0500
TZNAME:EST
DTSTART:20231105T060000
END:STANDARD
END:VTIMEZONE
BEGIN:VEVENT
DTSTART;VALUE=DATE:20220124
DTEND;VALUE=DATE:20220125
DTSTAMP:20260421T155259
CREATED:20210719T155536Z
LAST-MODIFIED:20210719T155536Z
UID:14976-1642982400-1643068799@www.7hills.org
SUMMARY:TSHS-Reenrollment Contracts Expire
DESCRIPTION:
URL:https://www.7hills.org/event/tshs-reenrollment-contracts-expire-2/
LOCATION:OH
CATEGORIES:All School
END:VEVENT
BEGIN:VEVENT
DTSTART;TZID=America/New_York:20220120T190000
DTEND;TZID=America/New_York:20220120T194500
DTSTAMP:20260421T155259
CREATED:20220118T195539Z
LAST-MODIFIED:20220118T195539Z
UID:16400-1642705200-1642707900@www.7hills.org
SUMMARY:Questions & Conversations: Let's Chat! Student & Parent Panel via Zoom
DESCRIPTION:
URL:https://www.7hills.org/event/questions-conversations-lets-chat-student-parent-panel-via-zoom/
LOCATION:OH
CATEGORIES:Admission,All School
END:VEVENT
BEGIN:VEVENT
DTSTART;TZID=America/New_York:20220119T120000
DTEND;TZID=America/New_York:20220119T124500
DTSTAMP:20260421T155259
CREATED:20210820T152421Z
LAST-MODIFIED:20210820T152421Z
UID:15156-1642593600-1642596300@www.7hills.org
SUMMARY:Questions & Conversations: College Counseling via Zoom
DESCRIPTION:
URL:https://www.7hills.org/event/questions-conversations-college-counseling-via-zoom/
LOCATION:OH
CATEGORIES:Admission,All School
END:VEVENT
BEGIN:VEVENT
DTSTART;TZID=America/New_York:20220118T190000
DTEND;TZID=America/New_York:20220118T200000
DTSTAMP:20260421T155259
CREATED:20210719T155909Z
LAST-MODIFIED:20210719T171329Z
UID:14982-1642532400-1642536000@www.7hills.org
SUMMARY:M-Grades 6 & 7 Course Registration for 7th & 8th Grade
DESCRIPTION:
URL:https://www.7hills.org/event/m-grades-6-7-course-registration-for-7th-8th-grade-2/
LOCATION:OH
CATEGORIES:All School
END:VEVENT
BEGIN:VEVENT
DTSTART;VALUE=DATE:20220117
DTEND;VALUE=DATE:20220118
DTSTAMP:20260421T155259
CREATED:20210719T155804Z
LAST-MODIFIED:20210719T155804Z
UID:14981-1642377600-1642463999@www.7hills.org
SUMMARY:Martin Luther King Jr Day-No School
DESCRIPTION:
URL:https://www.7hills.org/event/martin-luther-king-jr-day-no-school-4/
LOCATION:OH
CATEGORIES:All School
END:VEVENT
BEGIN:VEVENT
DTSTART;VALUE=DATE:20220115
DTEND;VALUE=DATE:20220116
DTSTAMP:20260421T155259
CREATED:20210719T155710Z
LAST-MODIFIED:20210719T155710Z
UID:14979-1642204800-1642291199@www.7hills.org
SUMMARY:TSHS-Flexible Tuition Forms Due
DESCRIPTION:
URL:https://www.7hills.org/event/tshs-flexible-tuition-forms-due/
LOCATION:OH
CATEGORIES:All School
END:VEVENT
BEGIN:VEVENT
DTSTART;VALUE=DATE:20220114
DTEND;VALUE=DATE:20220115
DTSTAMP:20260421T155259
CREATED:20210719T155638Z
LAST-MODIFIED:20210719T155638Z
UID:14978-1642118400-1642204799@www.7hills.org
SUMMARY:M/U-End of Second Quarter
DESCRIPTION:
URL:https://www.7hills.org/event/m-u-end-of-second-quarter-2/
LOCATION:OH
CATEGORIES:All School
END:VEVENT
BEGIN:VEVENT
DTSTART;TZID=America/New_York:20220113T083000
DTEND;TZID=America/New_York:20220113T093000
DTSTAMP:20260421T155259
CREATED:20210719T142803Z
LAST-MODIFIED:20220111T153600Z
UID:15203-1642062600-1642066200@www.7hills.org
SUMMARY:U-Upper Parent Community Meeting-Cancelled
DESCRIPTION:
URL:https://www.7hills.org/event/u-upper-parent-community-meeting-2022-01-13/
LOCATION:OH
CATEGORIES:All School
END:VEVENT
BEGIN:VEVENT
DTSTART;TZID=America/New_York:20220110T190000
DTEND;TZID=America/New_York:20220110T200000
DTSTAMP:20260421T155259
CREATED:20210719T145051Z
LAST-MODIFIED:20210719T145051Z
UID:14885-1641841200-1641844800@www.7hills.org
SUMMARY:U-Sophomore Parents College Counseling Meeting
DESCRIPTION:
URL:https://www.7hills.org/event/u-sophomore-parents-college-counseling-meeting-2/
LOCATION:OH
CATEGORIES:All School
END:VEVENT
BEGIN:VEVENT
DTSTART;VALUE=DATE:20220110
DTEND;VALUE=DATE:20220115
DTSTAMP:20260421T155259
CREATED:20210719T155610Z
LAST-MODIFIED:20210719T155610Z
UID:14977-1641772800-1642204799@www.7hills.org
SUMMARY:U-Student Teacher Conferences
DESCRIPTION:
URL:https://www.7hills.org/event/u-student-teacher-conferences-2/
LOCATION:OH
CATEGORIES:All School
END:VEVENT
BEGIN:VEVENT
DTSTART;VALUE=DATE:20220110
DTEND;VALUE=DATE:20220111
DTSTAMP:20260421T155259
CREATED:20210719T155513Z
LAST-MODIFIED:20210719T155513Z
UID:14975-1641772800-1641859199@www.7hills.org
SUMMARY:TSHS-Reenrollment Contracts Issued
DESCRIPTION:
URL:https://www.7hills.org/event/tshs-reenrollment-contracts-issued-2/
LOCATION:OH
CATEGORIES:All School
END:VEVENT
BEGIN:VEVENT
DTSTART;TZID=America/New_York:20220106T190000
DTEND;TZID=America/New_York:20220106T200000
DTSTAMP:20260421T155259
CREATED:20210719T155349Z
LAST-MODIFIED:20210719T155349Z
UID:14972-1641495600-1641499200@www.7hills.org
SUMMARY:D/L-5th Grade Parents Orientation to Middle School
DESCRIPTION:
URL:https://www.7hills.org/event/d-l-5th-grade-parents-orientation-to-middle-school-3/
LOCATION:OH
CATEGORIES:All School
END:VEVENT
BEGIN:VEVENT
DTSTART;VALUE=DATE:20220104
DTEND;VALUE=DATE:20220105
DTSTAMP:20260421T155259
CREATED:20210719T155254Z
LAST-MODIFIED:20210719T155254Z
UID:14971-1641254400-1641340799@www.7hills.org
SUMMARY:TSHS-School Resumes
DESCRIPTION:
URL:https://www.7hills.org/event/tshs-school-resumes-6/
LOCATION:OH
CATEGORIES:All School
END:VEVENT
BEGIN:VEVENT
DTSTART;VALUE=DATE:20220103
DTEND;VALUE=DATE:20220104
DTSTAMP:20260421T155259
CREATED:20210719T155228Z
LAST-MODIFIED:20210719T173723Z
UID:14970-1641168000-1641254399@www.7hills.org
SUMMARY:TSHS-Faculty In-Service Day-No School
DESCRIPTION:
URL:https://www.7hills.org/event/tshs-faculty-in-service-day-no-classes/
LOCATION:OH
CATEGORIES:All School
END:VEVENT
BEGIN:VEVENT
DTSTART;VALUE=DATE:20220101
DTEND;VALUE=DATE:20220102
DTSTAMP:20260421T155259
CREATED:20210719T155204Z
LAST-MODIFIED:20210719T155204Z
UID:14969-1640995200-1641081599@www.7hills.org
SUMMARY:New Year's Day
DESCRIPTION:
URL:https://www.7hills.org/event/new-years-day-2/
LOCATION:OH
CATEGORIES:All School
END:VEVENT
BEGIN:VEVENT
DTSTART;VALUE=DATE:20211227
DTEND;VALUE=DATE:20220101
DTSTAMP:20260421T155259
CREATED:20210719T155017Z
LAST-MODIFIED:20210719T173619Z
UID:14966-1640563200-1640995199@www.7hills.org
SUMMARY:TSHS-Winter Break-No School
DESCRIPTION:
URL:https://www.7hills.org/event/tshs-winter-break-no-classes-2/
LOCATION:OH
CATEGORIES:All School
END:VEVENT
BEGIN:VEVENT
DTSTART;VALUE=DATE:20211226
DTEND;VALUE=DATE:20211227
DTSTAMP:20260421T155259
CREATED:20210719T155105Z
LAST-MODIFIED:20210719T155105Z
UID:14968-1640476800-1640563199@www.7hills.org
SUMMARY:Kwanzaa Begins
DESCRIPTION:
URL:https://www.7hills.org/event/kwanzaa-begins-2/
LOCATION:OH
CATEGORIES:All School
END:VEVENT
BEGIN:VEVENT
DTSTART;VALUE=DATE:20211225
DTEND;VALUE=DATE:20211226
DTSTAMP:20260421T155259
CREATED:20210719T155042Z
LAST-MODIFIED:20210719T155042Z
UID:14967-1640390400-1640476799@www.7hills.org
SUMMARY:Christmas
DESCRIPTION:
URL:https://www.7hills.org/event/christmas-2/
LOCATION:OH
CATEGORIES:All School
END:VEVENT
BEGIN:VEVENT
DTSTART;TZID=America/New_York:20211222T180000
DTEND;TZID=America/New_York:20211222T200000
DTSTAMP:20260421T155259
CREATED:20210719T154858Z
LAST-MODIFIED:20210719T154858Z
UID:14964-1640196000-1640203200@www.7hills.org
SUMMARY:TSHS-Young Alum Holiday Party
DESCRIPTION:
URL:https://www.7hills.org/event/tshs-young-alum-holiday-party-3/
LOCATION:off campus
CATEGORIES:All School,Alumni
END:VEVENT
BEGIN:VEVENT
DTSTART;VALUE=DATE:20211220
DTEND;VALUE=DATE:20211226
DTSTAMP:20260421T155259
CREATED:20210719T154952Z
LAST-MODIFIED:20210719T173639Z
UID:14965-1639958400-1640476799@www.7hills.org
SUMMARY:TSHS-Winter Break-No School
DESCRIPTION:
URL:https://www.7hills.org/event/tshs-winter-break-no-classes/
LOCATION:OH
CATEGORIES:All School
END:VEVENT
BEGIN:VEVENT
DTSTART;TZID=America/New_York:20211217T113000
DTEND;TZID=America/New_York:20211217T113000
DTSTAMP:20260421T155259
CREATED:20210719T154806Z
LAST-MODIFIED:20210719T154806Z
UID:14963-1639740600-1639740600@www.7hills.org
SUMMARY:TSHS-Winter Break Begins at 11:30 a.m.
DESCRIPTION:
URL:https://www.7hills.org/event/tshs-winter-break-begins-at-1130-a-m/
LOCATION:OH
CATEGORIES:All School
END:VEVENT
BEGIN:VEVENT
DTSTART;TZID=America/New_York:20211217T090000
DTEND;TZID=America/New_York:20211217T100000
DTSTAMP:20260421T155259
CREATED:20210719T154730Z
LAST-MODIFIED:20211119T135422Z
UID:14962-1639731600-1639735200@www.7hills.org
SUMMARY:D-Grades 1-5 Winter Holiday Music Program
DESCRIPTION:
URL:https://www.7hills.org/event/d-music-progam-prek-5th-grade/
LOCATION:Doherty Gym
CATEGORIES:All School
END:VEVENT
BEGIN:VEVENT
DTSTART;TZID=America/New_York:20211216T090000
DTEND;TZID=America/New_York:20211216T100000
DTSTAMP:20260421T155259
CREATED:20211119T135459Z
LAST-MODIFIED:20211119T135459Z
UID:15918-1639645200-1639648800@www.7hills.org
SUMMARY:D-PreK & K Winter Holiday Music Program
DESCRIPTION:
URL:https://www.7hills.org/event/d-prek-k-winter-holiday-music-program/
LOCATION:Doherty Gym
CATEGORIES:All School
END:VEVENT
BEGIN:VEVENT
DTSTART;VALUE=DATE:20211213
DTEND;VALUE=DATE:20211218
DTSTAMP:20260421T155259
CREATED:20210719T154654Z
LAST-MODIFIED:20210719T154654Z
UID:14961-1639353600-1639785599@www.7hills.org
SUMMARY:U-Exams
DESCRIPTION:
URL:https://www.7hills.org/event/u-exams/
LOCATION:OH
CATEGORIES:All School
END:VEVENT
BEGIN:VEVENT
DTSTART;VALUE=DATE:20211210
DTEND;VALUE=DATE:20211211
DTSTAMP:20260421T155259
CREATED:20210719T144134Z
LAST-MODIFIED:20210719T144134Z
UID:14869-1639094400-1639180799@www.7hills.org
SUMMARY:Grades 1-8 Spring Sports Registration Ends
DESCRIPTION:
URL:https://www.7hills.org/event/grades-1-8-spring-sports-registration-ends/
LOCATION:OH
CATEGORIES:All School
END:VEVENT
BEGIN:VEVENT
DTSTART;TZID=America/New_York:20211209T190000
DTEND;TZID=America/New_York:20211209T200000
DTSTAMP:20260421T155259
CREATED:20210719T154425Z
LAST-MODIFIED:20211129T195436Z
UID:14956-1639076400-1639080000@www.7hills.org
SUMMARY:M-Choral Concert
DESCRIPTION:
URL:https://www.7hills.org/event/m-choral-concert/
LOCATION:Schiff Center
CATEGORIES:All School
END:VEVENT
BEGIN:VEVENT
DTSTART;TZID=America/New_York:20211209T173000
DTEND;TZID=America/New_York:20211209T190000
DTSTAMP:20260421T155259
CREATED:20211129T201625Z
LAST-MODIFIED:20211129T201625Z
UID:16161-1639071000-1639076400@www.7hills.org
SUMMARY:L-Lotspeich Piano Recital
DESCRIPTION:
URL:https://www.7hills.org/event/l-lotspeich-piano-recital/
LOCATION:Lotspeich Library\, 5400 Red Bank Road\, Cincinnati\, Ohio\, 45227\, United States
CATEGORIES:All School
END:VEVENT
BEGIN:VEVENT
DTSTART;TZID=America/New_York:20211208T190000
DTEND;TZID=America/New_York:20211208T200000
DTSTAMP:20260421T155259
CREATED:20210719T154602Z
LAST-MODIFIED:20211129T195400Z
UID:14959-1638990000-1638993600@www.7hills.org
SUMMARY:U-Choral Concert
DESCRIPTION:
URL:https://www.7hills.org/event/u-choral-concert-3/
LOCATION:Schiff Center
CATEGORIES:All School
END:VEVENT
BEGIN:VEVENT
DTSTART;VALUE=DATE:20211207
DTEND;VALUE=DATE:20211208
DTSTAMP:20260421T155259
CREATED:20210719T154629Z
LAST-MODIFIED:20210719T154629Z
UID:14960-1638835200-1638921599@www.7hills.org
SUMMARY:U-Chorus Tour
DESCRIPTION:
URL:https://www.7hills.org/event/u-chorus-tour/
LOCATION:OH
CATEGORIES:All School
END:VEVENT
BEGIN:VEVENT
DTSTART;TZID=America/New_York:20211206T190000
DTEND;TZID=America/New_York:20211206T203000
DTSTAMP:20260421T155259
CREATED:20211102T150150Z
LAST-MODIFIED:20211102T150150Z
UID:15864-1638817200-1638822600@www.7hills.org
SUMMARY:U- Books for Lunch Book Club Meeting
DESCRIPTION:
URL:https://www.7hills.org/event/u-books-for-lunch-book-club-meeting/
LOCATION:Young Family Library
CATEGORIES:All School
END:VEVENT
END:VCALENDAR