BEGIN:VCALENDAR
VERSION:2.0
PRODID:-//Seven Hills School - ECPv6.15.20//NONSGML v1.0//EN
CALSCALE:GREGORIAN
METHOD:PUBLISH
X-ORIGINAL-URL:https://www.7hills.org
X-WR-CALDESC:Events for Seven Hills School
REFRESH-INTERVAL;VALUE=DURATION:PT1H
X-Robots-Tag:noindex
X-PUBLISHED-TTL:PT1H
BEGIN:VTIMEZONE
TZID:America/New_York
BEGIN:DAYLIGHT
TZOFFSETFROM:-0500
TZOFFSETTO:-0400
TZNAME:EDT
DTSTART:20210314T070000
END:DAYLIGHT
BEGIN:STANDARD
TZOFFSETFROM:-0400
TZOFFSETTO:-0500
TZNAME:EST
DTSTART:20211107T060000
END:STANDARD
BEGIN:DAYLIGHT
TZOFFSETFROM:-0500
TZOFFSETTO:-0400
TZNAME:EDT
DTSTART:20220313T070000
END:DAYLIGHT
BEGIN:STANDARD
TZOFFSETFROM:-0400
TZOFFSETTO:-0500
TZNAME:EST
DTSTART:20221106T060000
END:STANDARD
BEGIN:DAYLIGHT
TZOFFSETFROM:-0500
TZOFFSETTO:-0400
TZNAME:EDT
DTSTART:20230312T070000
END:DAYLIGHT
BEGIN:STANDARD
TZOFFSETFROM:-0400
TZOFFSETTO:-0500
TZNAME:EST
DTSTART:20231105T060000
END:STANDARD
END:VTIMEZONE
BEGIN:VEVENT
DTSTART;VALUE=DATE:20220228
DTEND;VALUE=DATE:20220305
DTSTAMP:20260421T051739
CREATED:20210719T172930Z
LAST-MODIFIED:20210719T172930Z
UID:15006-1646006400-1646438399@www.7hills.org
SUMMARY:M-Student Advisory Conferences
DESCRIPTION:
URL:https://www.7hills.org/event/m-student-advisory-conferences-2/
CATEGORIES:All School
END:VEVENT
BEGIN:VEVENT
DTSTART;TZID=America/New_York:20220304T090000
DTEND;TZID=America/New_York:20220304T100000
DTSTAMP:20260421T051739
CREATED:20210719T173053Z
LAST-MODIFIED:20210719T173053Z
UID:15008-1646384400-1646388000@www.7hills.org
SUMMARY:M-Play Matinee for 4th & 5th Grades
DESCRIPTION:
URL:https://www.7hills.org/event/m-play-matinee-for-4th-5th-grades/
CATEGORIES:All School
END:VEVENT
BEGIN:VEVENT
DTSTART;TZID=America/New_York:20220304T190000
DTEND;TZID=America/New_York:20220304T200000
DTSTAMP:20260421T051739
CREATED:20210719T173133Z
LAST-MODIFIED:20210719T173133Z
UID:15009-1646420400-1646424000@www.7hills.org
SUMMARY:M-Play
DESCRIPTION:
URL:https://www.7hills.org/event/m-play-4/
CATEGORIES:All School
END:VEVENT
BEGIN:VEVENT
DTSTART;VALUE=DATE:20220307
DTEND;VALUE=DATE:20220311
DTSTAMP:20260421T051739
CREATED:20210719T173156Z
LAST-MODIFIED:20210719T173207Z
UID:15011-1646611200-1646956799@www.7hills.org
SUMMARY:E-ERB Testing
DESCRIPTION:
URL:https://www.7hills.org/event/e-erb-testing/
CATEGORIES:All School
END:VEVENT
BEGIN:VEVENT
DTSTART;TZID=America/New_York:20220308T190000
DTEND;TZID=America/New_York:20220308T210000
DTSTAMP:20260421T051739
CREATED:20210719T151629Z
LAST-MODIFIED:20210719T151629Z
UID:14924-1646766000-1646773200@www.7hills.org
SUMMARY:U-Winter Athletic Awards
DESCRIPTION:
URL:https://www.7hills.org/event/u-winter-athletic-awards-2/
CATEGORIES:All School
END:VEVENT
BEGIN:VEVENT
DTSTART;TZID=America/New_York:20220310T140000
DTEND;TZID=America/New_York:20220310T150000
DTSTAMP:20260421T051739
CREATED:20210719T173310Z
LAST-MODIFIED:20210719T173310Z
UID:15013-1646920800-1646924400@www.7hills.org
SUMMARY:L-Grades 3-5 Recorder Concert
DESCRIPTION:
URL:https://www.7hills.org/event/l-grades-3-5-recorder-concert/
CATEGORIES:All School
END:VEVENT
BEGIN:VEVENT
DTSTART;VALUE=DATE:20220311
DTEND;VALUE=DATE:20220312
DTSTAMP:20260421T051739
CREATED:20210719T173329Z
LAST-MODIFIED:20210719T173329Z
UID:15014-1646956800-1647043199@www.7hills.org
SUMMARY:M-Global Ed Day
DESCRIPTION:
URL:https://www.7hills.org/event/m-global-ed-day/
CATEGORIES:All School
END:VEVENT
BEGIN:VEVENT
DTSTART;VALUE=DATE:20220311
DTEND;VALUE=DATE:20220312
DTSTAMP:20260421T051739
CREATED:20210719T150950Z
LAST-MODIFIED:20210810T123538Z
UID:14915-1646956800-1647043199@www.7hills.org
SUMMARY:U-Civic Engagement Day
DESCRIPTION:
URL:https://www.7hills.org/event/u-civic-engagement-day-2022-03-04/
CATEGORIES:All School
END:VEVENT
BEGIN:VEVENT
DTSTART;VALUE=DATE:20220314
DTEND;VALUE=DATE:20220319
DTSTAMP:20260421T051739
CREATED:20210719T173420Z
LAST-MODIFIED:20210719T173420Z
UID:15016-1647216000-1647647999@www.7hills.org
SUMMARY:D-Cultural Connections Week
DESCRIPTION:
URL:https://www.7hills.org/event/d-cultural-connections-week-2/
CATEGORIES:All School
END:VEVENT
BEGIN:VEVENT
DTSTART;VALUE=DATE:20220316
DTEND;VALUE=DATE:20220321
DTSTAMP:20260421T051739
CREATED:20210826T125631Z
LAST-MODIFIED:20210826T125631Z
UID:15165-1647388800-1647820799@www.7hills.org
SUMMARY:U-Chorus Trip
DESCRIPTION:
URL:https://www.7hills.org/event/u-chorus-trip/
CATEGORIES:All School
END:VEVENT
BEGIN:VEVENT
DTSTART;VALUE=DATE:20220318
DTEND;VALUE=DATE:20220319
DTSTAMP:20260421T051739
CREATED:20210719T173513Z
LAST-MODIFIED:20210719T173513Z
UID:15017-1647561600-1647647999@www.7hills.org
SUMMARY:M/U-End of Third Quarter
DESCRIPTION:
URL:https://www.7hills.org/event/m-u-end-of-third-quarter-2/
CATEGORIES:All School
END:VEVENT
BEGIN:VEVENT
DTSTART;TZID=America/New_York:20220318T151500
DTEND;TZID=America/New_York:20220318T151500
DTSTAMP:20260421T051739
CREATED:20210719T173541Z
LAST-MODIFIED:20210719T173541Z
UID:15018-1647616500-1647616500@www.7hills.org
SUMMARY:TSHS-Spring Break Begins at 3:15 p.m.
DESCRIPTION:
URL:https://www.7hills.org/event/tshs-spring-break-begins-at-315-p-m/
CATEGORIES:All School
END:VEVENT
BEGIN:VEVENT
DTSTART;VALUE=DATE:20220321
DTEND;VALUE=DATE:20220326
DTSTAMP:20260421T051739
CREATED:20210719T173738Z
LAST-MODIFIED:20210719T173738Z
UID:15019-1647820800-1648252799@www.7hills.org
SUMMARY:TSHS-Spring Break-No School
DESCRIPTION:
URL:https://www.7hills.org/event/tshs-spring-break-no-school-2/
END:VEVENT
BEGIN:VEVENT
DTSTART;VALUE=DATE:20220328
DTEND;VALUE=DATE:20220402
DTSTAMP:20260421T051739
CREATED:20210719T173801Z
LAST-MODIFIED:20210719T173801Z
UID:15020-1648425600-1648857599@www.7hills.org
SUMMARY:TSHS-Spring Break-No School
DESCRIPTION:
URL:https://www.7hills.org/event/tshs-spring-break-no-school-3/
CATEGORIES:All School
END:VEVENT
BEGIN:VEVENT
DTSTART;VALUE=DATE:20220402
DTEND;VALUE=DATE:20220403
DTSTAMP:20260421T051739
CREATED:20210719T173839Z
LAST-MODIFIED:20210719T173839Z
UID:15021-1648857600-1648943999@www.7hills.org
SUMMARY:Ramadan Begins
DESCRIPTION:
URL:https://www.7hills.org/event/ramadan-begins/
CATEGORIES:All School
END:VEVENT
BEGIN:VEVENT
DTSTART;VALUE=DATE:20220404
DTEND;VALUE=DATE:20220405
DTSTAMP:20260421T051739
CREATED:20210719T173919Z
LAST-MODIFIED:20210719T173919Z
UID:15022-1649030400-1649116799@www.7hills.org
SUMMARY:TSHS-School Resumes
DESCRIPTION:
URL:https://www.7hills.org/event/tshs-school-resumes-7/
CATEGORIES:All School
END:VEVENT
BEGIN:VEVENT
DTSTART;TZID=America/New_York:20220408T083000
DTEND;TZID=America/New_York:20220408T093000
DTSTAMP:20260421T051739
CREATED:20210719T143117Z
LAST-MODIFIED:20211001T191834Z
UID:14855-1649406600-1649410200@www.7hills.org
SUMMARY:D-Doherty Parent Community Meeting
DESCRIPTION:
URL:https://www.7hills.org/event/d-doherty-parent-community-meeting-2-2022-04-15/
CATEGORIES:All School
END:VEVENT
BEGIN:VEVENT
DTSTART;TZID=America/New_York:20220409T090000
DTEND;TZID=America/New_York:20220409T130000
DTSTAMP:20260421T051739
CREATED:20210719T173941Z
LAST-MODIFIED:20220329T195857Z
UID:15023-1649494800-1649509200@www.7hills.org
SUMMARY:TSHS-Arts Alive (Grds 6-12)
DESCRIPTION:
URL:https://www.7hills.org/event/tshs-arts-alive/
CATEGORIES:All School
END:VEVENT
BEGIN:VEVENT
DTSTART;VALUE=DATE:20220410
DTEND;VALUE=DATE:20220411
DTSTAMP:20260421T051739
CREATED:20210719T174001Z
LAST-MODIFIED:20210719T174001Z
UID:15024-1649548800-1649635199@www.7hills.org
SUMMARY:Palm Sunday
DESCRIPTION:
URL:https://www.7hills.org/event/palm-sunday/
CATEGORIES:All School
END:VEVENT
BEGIN:VEVENT
DTSTART;TZID=America/New_York:20220411T190000
DTEND;TZID=America/New_York:20220411T200000
DTSTAMP:20260421T051739
CREATED:20210820T154447Z
LAST-MODIFIED:20210820T154447Z
UID:15157-1649703600-1649707200@www.7hills.org
SUMMARY:U-Mock Admissions Workshop via Zoom
DESCRIPTION:
URL:https://www.7hills.org/event/u-mock-admissions-workshop-via-zoom/
CATEGORIES:All School
END:VEVENT
BEGIN:VEVENT
DTSTART;TZID=America/New_York:20220412T111000
DTEND;TZID=America/New_York:20220412T115000
DTSTAMP:20260421T051739
CREATED:20220329T200125Z
LAST-MODIFIED:20220329T200125Z
UID:17130-1649761800-1649764200@www.7hills.org
SUMMARY:U-Alumni Career Panel
DESCRIPTION:
URL:https://www.7hills.org/event/u-alumni-career-panel-2/
CATEGORIES:All School
END:VEVENT
BEGIN:VEVENT
DTSTART;TZID=America/New_York:20220414T080000
DTEND;TZID=America/New_York:20220414T170000
DTSTAMP:20260421T051739
CREATED:20220414T122913Z
LAST-MODIFIED:20220414T122913Z
UID:17162-1649923200-1649955600@www.7hills.org
SUMMARY:L-Last Day for PreK-Grade 4
DESCRIPTION:
URL:https://www.7hills.org/event/l-last-day-for-prek-grade-4/
END:VEVENT
BEGIN:VEVENT
DTSTART;TZID=America/New_York:20220414T084500
DTEND;TZID=America/New_York:20220414T094500
DTSTAMP:20260421T051739
CREATED:20210719T142803Z
LAST-MODIFIED:20220407T154533Z
UID:15204-1649925900-1649929500@www.7hills.org
SUMMARY:U-Upper Parent Community Meeting
DESCRIPTION:
URL:https://www.7hills.org/event/u-upper-parent-community-meeting-2022-04-14/
LOCATION:Briggs Building Conference Room
CATEGORIES:All School
END:VEVENT
BEGIN:VEVENT
DTSTART;VALUE=DATE:20220415
DTEND;VALUE=DATE:20220416
DTSTAMP:20260421T051739
CREATED:20210719T174037Z
LAST-MODIFIED:20210719T174037Z
UID:15026-1649980800-1650067199@www.7hills.org
SUMMARY:Good Friday
DESCRIPTION:
URL:https://www.7hills.org/event/good-friday/
CATEGORIES:All School
END:VEVENT
BEGIN:VEVENT
DTSTART;VALUE=DATE:20220415
DTEND;VALUE=DATE:20220416
DTSTAMP:20260421T051739
CREATED:20210719T174059Z
LAST-MODIFIED:20210719T174059Z
UID:15027-1649980800-1650067199@www.7hills.org
SUMMARY:Passover Begins at Sundown
DESCRIPTION:
URL:https://www.7hills.org/event/passover-begins-at-sundown-2/
CATEGORIES:All School
END:VEVENT
BEGIN:VEVENT
DTSTART;TZID=America/New_York:20220415T120000
DTEND;TZID=America/New_York:20220415T123000
DTSTAMP:20260421T051739
CREATED:20220329T200305Z
LAST-MODIFIED:20220329T200305Z
UID:17131-1650024000-1650025800@www.7hills.org
SUMMARY:M-Middle School Ribbon-Cutting Ceremony
DESCRIPTION:
URL:https://www.7hills.org/event/m-middle-school-ribbon-cutting-ceremony/
CATEGORIES:All School
END:VEVENT
BEGIN:VEVENT
DTSTART;TZID=America/New_York:20220415T123000
DTEND;TZID=America/New_York:20220415T133000
DTSTAMP:20260421T051739
CREATED:20210719T173239Z
LAST-MODIFIED:20220329T200228Z
UID:15012-1650025800-1650029400@www.7hills.org
SUMMARY:TSHS-Past Board Presidents Luncheon
DESCRIPTION:
URL:https://www.7hills.org/event/tshs-past-board-presidents-luncheon-3/
CATEGORIES:All School
END:VEVENT
BEGIN:VEVENT
DTSTART;VALUE=DATE:20220416
DTEND;VALUE=DATE:20220417
DTSTAMP:20260421T051739
CREATED:20210719T174126Z
LAST-MODIFIED:20210719T174126Z
UID:15029-1650067200-1650153599@www.7hills.org
SUMMARY:Passover
DESCRIPTION:
URL:https://www.7hills.org/event/passover/
CATEGORIES:All School
END:VEVENT
BEGIN:VEVENT
DTSTART;VALUE=DATE:20220417
DTEND;VALUE=DATE:20220418
DTSTAMP:20260421T051739
CREATED:20210719T174018Z
LAST-MODIFIED:20210719T174018Z
UID:15025-1650153600-1650239999@www.7hills.org
SUMMARY:Easter
DESCRIPTION:
URL:https://www.7hills.org/event/easter-2/
CATEGORIES:All School
END:VEVENT
BEGIN:VEVENT
DTSTART;VALUE=DATE:20220418
DTEND;VALUE=DATE:20220419
DTSTAMP:20260421T051739
CREATED:20210719T143947Z
LAST-MODIFIED:20210719T143947Z
UID:14866-1650240000-1650326399@www.7hills.org
SUMMARY:Grades 1-8 Fall Sports Registration Begins
DESCRIPTION:
URL:https://www.7hills.org/event/grades-1-8-fall-sports-registration-begins/
CATEGORIES:All School
END:VEVENT
END:VCALENDAR