BEGIN:VCALENDAR
VERSION:2.0
PRODID:-//Seven Hills School - ECPv6.15.20//NONSGML v1.0//EN
CALSCALE:GREGORIAN
METHOD:PUBLISH
X-WR-CALNAME:Seven Hills School
X-ORIGINAL-URL:https://www.7hills.org
X-WR-CALDESC:Events for Seven Hills School
REFRESH-INTERVAL;VALUE=DURATION:PT1H
X-Robots-Tag:noindex
X-PUBLISHED-TTL:PT1H
BEGIN:VTIMEZONE
TZID:America/New_York
BEGIN:DAYLIGHT
TZOFFSETFROM:-0500
TZOFFSETTO:-0400
TZNAME:EDT
DTSTART:20210314T070000
END:DAYLIGHT
BEGIN:STANDARD
TZOFFSETFROM:-0400
TZOFFSETTO:-0500
TZNAME:EST
DTSTART:20211107T060000
END:STANDARD
BEGIN:DAYLIGHT
TZOFFSETFROM:-0500
TZOFFSETTO:-0400
TZNAME:EDT
DTSTART:20220313T070000
END:DAYLIGHT
BEGIN:STANDARD
TZOFFSETFROM:-0400
TZOFFSETTO:-0500
TZNAME:EST
DTSTART:20221106T060000
END:STANDARD
BEGIN:DAYLIGHT
TZOFFSETFROM:-0500
TZOFFSETTO:-0400
TZNAME:EDT
DTSTART:20230312T070000
END:DAYLIGHT
BEGIN:STANDARD
TZOFFSETFROM:-0400
TZOFFSETTO:-0500
TZNAME:EST
DTSTART:20231105T060000
END:STANDARD
END:VTIMEZONE
BEGIN:VEVENT
DTSTART;VALUE=DATE:20220117
DTEND;VALUE=DATE:20220118
DTSTAMP:20260421T034601
CREATED:20210719T155804Z
LAST-MODIFIED:20210719T155804Z
UID:14981-1642377600-1642463999@www.7hills.org
SUMMARY:Martin Luther King Jr Day-No School
DESCRIPTION:
URL:https://www.7hills.org/event/martin-luther-king-jr-day-no-school-4/
CATEGORIES:All School
END:VEVENT
BEGIN:VEVENT
DTSTART;TZID=America/New_York:20220118T190000
DTEND;TZID=America/New_York:20220118T200000
DTSTAMP:20260421T034601
CREATED:20210719T155909Z
LAST-MODIFIED:20210719T171329Z
UID:14982-1642532400-1642536000@www.7hills.org
SUMMARY:M-Grades 6 & 7 Course Registration for 7th & 8th Grade
DESCRIPTION:
URL:https://www.7hills.org/event/m-grades-6-7-course-registration-for-7th-8th-grade-2/
CATEGORIES:All School
END:VEVENT
BEGIN:VEVENT
DTSTART;TZID=America/New_York:20220119T120000
DTEND;TZID=America/New_York:20220119T124500
DTSTAMP:20260421T034601
CREATED:20210820T152421Z
LAST-MODIFIED:20210820T152421Z
UID:15156-1642593600-1642596300@www.7hills.org
SUMMARY:Questions & Conversations: College Counseling via Zoom
DESCRIPTION:
URL:https://www.7hills.org/event/questions-conversations-college-counseling-via-zoom/
CATEGORIES:Admission,All School
END:VEVENT
BEGIN:VEVENT
DTSTART;TZID=America/New_York:20220120T190000
DTEND;TZID=America/New_York:20220120T194500
DTSTAMP:20260421T034601
CREATED:20220118T195539Z
LAST-MODIFIED:20220118T195539Z
UID:16400-1642705200-1642707900@www.7hills.org
SUMMARY:Questions & Conversations: Let's Chat! Student & Parent Panel via Zoom
DESCRIPTION:
URL:https://www.7hills.org/event/questions-conversations-lets-chat-student-parent-panel-via-zoom/
CATEGORIES:Admission,All School
END:VEVENT
BEGIN:VEVENT
DTSTART;VALUE=DATE:20220124
DTEND;VALUE=DATE:20220125
DTSTAMP:20260421T034601
CREATED:20210719T155536Z
LAST-MODIFIED:20210719T155536Z
UID:14976-1642982400-1643068799@www.7hills.org
SUMMARY:TSHS-Reenrollment Contracts Expire
DESCRIPTION:
URL:https://www.7hills.org/event/tshs-reenrollment-contracts-expire-2/
CATEGORIES:All School
END:VEVENT
BEGIN:VEVENT
DTSTART;TZID=America/New_York:20220124T190000
DTEND;TZID=America/New_York:20220124T200000
DTSTAMP:20260421T034601
CREATED:20210719T145114Z
LAST-MODIFIED:20210719T145114Z
UID:14886-1643050800-1643054400@www.7hills.org
SUMMARY:U-Freshmen Parents College Counseling Meeting
DESCRIPTION:
URL:https://www.7hills.org/event/u-freshmen-parents-college-counseling-meeting/
CATEGORIES:All School
END:VEVENT
BEGIN:VEVENT
DTSTART;VALUE=DATE:20220125
DTEND;VALUE=DATE:20220130
DTSTAMP:20260421T034601
CREATED:20220118T195632Z
LAST-MODIFIED:20220118T195649Z
UID:16401-1643068800-1643500799@www.7hills.org
SUMMARY:Freedom from Chemical Dependency Week
DESCRIPTION:
URL:https://www.7hills.org/event/freedom-from-chemical-dependency-week/
CATEGORIES:All School
END:VEVENT
BEGIN:VEVENT
DTSTART;TZID=America/New_York:20220126T083000
DTEND;TZID=America/New_York:20220126T093000
DTSTAMP:20260421T034601
CREATED:20220106T125648Z
LAST-MODIFIED:20220106T125706Z
UID:16360-1643185800-1643189400@www.7hills.org
SUMMARY:L-5th Grade Parent Coffee
DESCRIPTION:
URL:https://www.7hills.org/event/l-5th-grade-parent-coffee/
LOCATION:Lotspeich Library\, 5400 Red Bank Road\, Cincinnati\, Ohio\, 45227\, United States
CATEGORIES:All School
END:VEVENT
BEGIN:VEVENT
DTSTART;TZID=America/New_York:20220127T190000
DTEND;TZID=America/New_York:20220127T200000
DTSTAMP:20260421T034601
CREATED:20220118T195811Z
LAST-MODIFIED:20220118T195811Z
UID:16402-1643310000-1643313600@www.7hills.org
SUMMARY:TSHS-Alumni "A Night of Magic" with Dennis Watkins via Zoom
DESCRIPTION:
URL:https://www.7hills.org/event/tshs-alumni-a-night-of-magic-with-dennis-watkins-via-zoom/
CATEGORIES:Alumni
END:VEVENT
BEGIN:VEVENT
DTSTART;VALUE=DATE:20220128
DTEND;VALUE=DATE:20220129
DTSTAMP:20260421T034601
CREATED:20210719T153208Z
LAST-MODIFIED:20211012T125050Z
UID:14939-1643328000-1643414399@www.7hills.org
SUMMARY:D-Virtual Grandperson's Day
DESCRIPTION:
URL:https://www.7hills.org/event/d-grandpersons-day/
CATEGORIES:All School
END:VEVENT
BEGIN:VEVENT
DTSTART;TZID=America/New_York:20220128T083000
DTEND;TZID=America/New_York:20220128T093000
DTSTAMP:20260421T034601
CREATED:20210719T133054Z
LAST-MODIFIED:20220112T124011Z
UID:16157-1643358600-1643362200@www.7hills.org
SUMMARY:M-Middle Parent Community Meeting via Zoom
DESCRIPTION:
URL:https://www.7hills.org/event/m-middle-parent-community-meeting-2021-10-01-2022-01-21/
CATEGORIES:All School
END:VEVENT
BEGIN:VEVENT
DTSTART;TZID=America/New_York:20220128T083000
DTEND;TZID=America/New_York:20220128T093000
DTSTAMP:20260421T034601
CREATED:20220106T125607Z
LAST-MODIFIED:20220119T162614Z
UID:16359-1643358600-1643362200@www.7hills.org
SUMMARY:L-3rd & 4th Grade Parent Coffee
DESCRIPTION:
URL:https://www.7hills.org/event/l-3rd-4th-grade-parent-coffee/
LOCATION:Lotspeich Library\, 5400 Red Bank Road\, Cincinnati\, Ohio\, 45227\, United States
CATEGORIES:All School
END:VEVENT
BEGIN:VEVENT
DTSTART;VALUE=DATE:20220201
DTEND;VALUE=DATE:20220202
DTSTAMP:20260421T034601
CREATED:20210719T171434Z
LAST-MODIFIED:20210719T171434Z
UID:14985-1643673600-1643759999@www.7hills.org
SUMMARY:Black History Month
DESCRIPTION:
URL:https://www.7hills.org/event/black-history-month-2/
CATEGORIES:All School
END:VEVENT
BEGIN:VEVENT
DTSTART;TZID=America/New_York:20220201T190000
DTEND;TZID=America/New_York:20220201T200000
DTSTAMP:20260421T034601
CREATED:20210719T171410Z
LAST-MODIFIED:20210719T171410Z
UID:14984-1643742000-1643745600@www.7hills.org
SUMMARY:M-Grade 8 Parents & Students Registration for 9th Grade
DESCRIPTION:
URL:https://www.7hills.org/event/m-grade-8-parents-students-registration-for-9th-grade-2/
CATEGORIES:All School
END:VEVENT
BEGIN:VEVENT
DTSTART;TZID=America/New_York:20220202T160000
DTEND;TZID=America/New_York:20220202T190000
DTSTAMP:20260421T034601
CREATED:20210719T171510Z
LAST-MODIFIED:20220119T141940Z
UID:14986-1643817600-1643828400@www.7hills.org
SUMMARY:U-Play Free Preview/Open Dress Rehearsal
DESCRIPTION:
URL:https://www.7hills.org/event/u-play-free-preview-open-dress-rehearsal-4/
CATEGORIES:All School
END:VEVENT
BEGIN:VEVENT
DTSTART;VALUE=DATE:20220203
DTEND;VALUE=DATE:20220204
DTSTAMP:20260421T034601
CREATED:20210719T171706Z
LAST-MODIFIED:20220113T125822Z
UID:14990-1643846400-1643932799@www.7hills.org
SUMMARY:U-Books for Lunch Dinner with the Author-Cancelled
DESCRIPTION:
URL:https://www.7hills.org/event/u-books-for-lunch-dinner-with-the-author/
CATEGORIES:All School
END:VEVENT
BEGIN:VEVENT
DTSTART;TZID=America/New_York:20220203T111000
DTEND;TZID=America/New_York:20220203T115000
DTSTAMP:20260421T034601
CREATED:20220118T200315Z
LAST-MODIFIED:20220118T200315Z
UID:16403-1643886600-1643889000@www.7hills.org
SUMMARY:U-Alumni Career Panel
DESCRIPTION:
URL:https://www.7hills.org/event/u-alumni-career-panel/
LOCATION:Hillsdale Commons\, 5400 Red Bank Road\, Cincinnati\, OH\, 45227\, United States
CATEGORIES:All School,Alumni
END:VEVENT
BEGIN:VEVENT
DTSTART;TZID=America/New_York:20220203T190000
DTEND;TZID=America/New_York:20220203T210000
DTSTAMP:20260421T034601
CREATED:20210719T171631Z
LAST-MODIFIED:20220204T155133Z
UID:14987-1643914800-1643922000@www.7hills.org
SUMMARY:U-Play-Cancelled
DESCRIPTION:
URL:https://www.7hills.org/event/u-play-10/
CATEGORIES:All School
END:VEVENT
BEGIN:VEVENT
DTSTART;VALUE=DATE:20220204
DTEND;VALUE=DATE:20220205
DTSTAMP:20260421T034601
CREATED:20210719T171734Z
LAST-MODIFIED:20220113T125758Z
UID:14991-1643932800-1644019199@www.7hills.org
SUMMARY:U-Books for Lunch-Cancelled
DESCRIPTION:
URL:https://www.7hills.org/event/u-books-for-lunch-2/
CATEGORIES:All School
END:VEVENT
BEGIN:VEVENT
DTSTART;VALUE=DATE:20220205
DTEND;VALUE=DATE:20220206
DTSTAMP:20260421T034601
CREATED:20210719T171808Z
LAST-MODIFIED:20210719T171808Z
UID:14992-1644019200-1644105599@www.7hills.org
SUMMARY:M-MVC Boys Basketball Tournament at Seven Hills
DESCRIPTION:
URL:https://www.7hills.org/event/m-mvc-boys-basketball-tournament-at-seven-hills/
CATEGORIES:All School
END:VEVENT
BEGIN:VEVENT
DTSTART;VALUE=DATE:20220205
DTEND;VALUE=DATE:20220206
DTSTAMP:20260421T034601
CREATED:20220118T200421Z
LAST-MODIFIED:20220118T200421Z
UID:16404-1644019200-1644105599@www.7hills.org
SUMMARY:TSHS-Admission Testing for Grades 5-12
DESCRIPTION:
URL:https://www.7hills.org/event/tshs-admission-testing-for-grades-5-12-2/
CATEGORIES:Admission,All School
END:VEVENT
BEGIN:VEVENT
DTSTART;TZID=America/New_York:20220205T170000
DTEND;TZID=America/New_York:20220205T190000
DTSTAMP:20260421T034601
CREATED:20220204T155224Z
LAST-MODIFIED:20220204T155224Z
UID:16668-1644080400-1644087600@www.7hills.org
SUMMARY:U-Play
DESCRIPTION:
URL:https://www.7hills.org/event/u-play-12/
LOCATION:Schiff Center
CATEGORIES:All School
END:VEVENT
BEGIN:VEVENT
DTSTART;TZID=America/New_York:20220206T140000
DTEND;TZID=America/New_York:20220206T160000
DTSTAMP:20260421T034601
CREATED:20220204T155255Z
LAST-MODIFIED:20220204T155255Z
UID:16669-1644156000-1644163200@www.7hills.org
SUMMARY:U-Play
DESCRIPTION:
URL:https://www.7hills.org/event/u-play-13/
LOCATION:Schiff Center
CATEGORIES:All School
END:VEVENT
BEGIN:VEVENT
DTSTART;TZID=America/New_York:20220207T144000
DTEND;TZID=America/New_York:20220207T151500
DTSTAMP:20260421T034601
CREATED:20210719T171924Z
LAST-MODIFIED:20210719T171924Z
UID:14993-1644244800-1644246900@www.7hills.org
SUMMARY:U-Personal Challenge Sharing
DESCRIPTION:
URL:https://www.7hills.org/event/u-personal-challenge-sharing/
CATEGORIES:All School
END:VEVENT
BEGIN:VEVENT
DTSTART;TZID=America/New_York:20220209T083000
DTEND;TZID=America/New_York:20220209T090000
DTSTAMP:20260421T034601
CREATED:20220106T125439Z
LAST-MODIFIED:20220131T162623Z
UID:16356-1644395400-1644397200@www.7hills.org
SUMMARY:L-PreK & K Parent Coffee
DESCRIPTION:
URL:https://www.7hills.org/event/l-prek-k-parent-coffee/
LOCATION:ECC Commons
CATEGORIES:All School
END:VEVENT
BEGIN:VEVENT
DTSTART;TZID=America/New_York:20220211T083000
DTEND;TZID=America/New_York:20220211T090000
DTSTAMP:20260421T034601
CREATED:20220106T125533Z
LAST-MODIFIED:20220131T162602Z
UID:16358-1644568200-1644570000@www.7hills.org
SUMMARY:L-1st & 2nd Grade Parent Coffee
DESCRIPTION:
URL:https://www.7hills.org/event/l-1st-2nd-grade-parent-coffee/
LOCATION:Lotspeich Library\, 5400 Red Bank Road\, Cincinnati\, Ohio\, 45227\, United States
CATEGORIES:All School
END:VEVENT
BEGIN:VEVENT
DTSTART;TZID=America/New_York:20220216T090000
DTEND;TZID=America/New_York:20220216T100000
DTSTAMP:20260421T034601
CREATED:20210719T145837Z
LAST-MODIFIED:20210719T145837Z
UID:14894-1645002000-1645005600@www.7hills.org
SUMMARY:U-Coffee with a College Counselor "Thinking About Summer" via Zoom
DESCRIPTION:
URL:https://www.7hills.org/event/u-coffee-with-a-college-counselor-thinking-about-summer-via-zoom/
CATEGORIES:All School
END:VEVENT
BEGIN:VEVENT
DTSTART;VALUE=DATE:20220218
DTEND;VALUE=DATE:20220219
DTSTAMP:20260421T034601
CREATED:20210719T172125Z
LAST-MODIFIED:20210719T173704Z
UID:14997-1645142400-1645228799@www.7hills.org
SUMMARY:TSHS-Records Day-No School
DESCRIPTION:
URL:https://www.7hills.org/event/tshs-records-day-no-classes-7/
CATEGORIES:All School
END:VEVENT
BEGIN:VEVENT
DTSTART;VALUE=DATE:20220221
DTEND;VALUE=DATE:20220222
DTSTAMP:20260421T034601
CREATED:20210719T172225Z
LAST-MODIFIED:20210719T172225Z
UID:14998-1645401600-1645487999@www.7hills.org
SUMMARY:Presidents Day-No School
DESCRIPTION:
URL:https://www.7hills.org/event/presidents-day-no-school-5/
CATEGORIES:All School
END:VEVENT
BEGIN:VEVENT
DTSTART;TZID=America/New_York:20220224T170000
DTEND;TZID=America/New_York:20220224T200000
DTSTAMP:20260421T034601
CREATED:20210719T172640Z
LAST-MODIFIED:20210719T172640Z
UID:15001-1645722000-1645732800@www.7hills.org
SUMMARY:D/L-Evening Parent Conferences
DESCRIPTION:
URL:https://www.7hills.org/event/d-l-evening-parent-conferences-4/
CATEGORIES:All School
END:VEVENT
END:VCALENDAR