BEGIN:VCALENDAR
VERSION:2.0
PRODID:-//Seven Hills School - ECPv6.15.20//NONSGML v1.0//EN
CALSCALE:GREGORIAN
METHOD:PUBLISH
X-WR-CALNAME:Seven Hills School
X-ORIGINAL-URL:https://www.7hills.org
X-WR-CALDESC:Events for Seven Hills School
REFRESH-INTERVAL;VALUE=DURATION:PT1H
X-Robots-Tag:noindex
X-PUBLISHED-TTL:PT1H
BEGIN:VTIMEZONE
TZID:America/New_York
BEGIN:DAYLIGHT
TZOFFSETFROM:-0500
TZOFFSETTO:-0400
TZNAME:EDT
DTSTART:20230312T070000
END:DAYLIGHT
BEGIN:STANDARD
TZOFFSETFROM:-0400
TZOFFSETTO:-0500
TZNAME:EST
DTSTART:20231105T060000
END:STANDARD
BEGIN:DAYLIGHT
TZOFFSETFROM:-0500
TZOFFSETTO:-0400
TZNAME:EDT
DTSTART:20240310T070000
END:DAYLIGHT
BEGIN:STANDARD
TZOFFSETFROM:-0400
TZOFFSETTO:-0500
TZNAME:EST
DTSTART:20241103T060000
END:STANDARD
BEGIN:DAYLIGHT
TZOFFSETFROM:-0500
TZOFFSETTO:-0400
TZNAME:EDT
DTSTART:20250309T070000
END:DAYLIGHT
BEGIN:STANDARD
TZOFFSETFROM:-0400
TZOFFSETTO:-0500
TZNAME:EST
DTSTART:20251102T060000
END:STANDARD
END:VTIMEZONE
BEGIN:VEVENT
DTSTART;VALUE=DATE:20240219
DTEND;VALUE=DATE:20240220
DTSTAMP:20260421T060513
CREATED:20230620T191758Z
LAST-MODIFIED:20230620T191841Z
UID:21009-1708300800-1708387199@www.7hills.org
SUMMARY:Presidents' Day
DESCRIPTION:
URL:https://www.7hills.org/event/presidents-day/
CATEGORIES:All School
END:VEVENT
BEGIN:VEVENT
DTSTART;TZID=America/New_York:20240216T100000
DTEND;TZID=America/New_York:20240216T120000
DTSTAMP:20260421T060513
CREATED:20231108T180026Z
LAST-MODIFIED:20231108T180026Z
UID:22178-1708077600-1708084800@www.7hills.org
SUMMARY:D-Winter Family Playdate
DESCRIPTION:
URL:https://www.7hills.org/event/d-winter-family-playdate/
LOCATION:Urban Air
CATEGORIES:All School
END:VEVENT
BEGIN:VEVENT
DTSTART;VALUE=DATE:20240216
DTEND;VALUE=DATE:20240217
DTSTAMP:20260421T060513
CREATED:20230616T171447Z
LAST-MODIFIED:20230616T171447Z
UID:20837-1708041600-1708127999@www.7hills.org
SUMMARY:TSHS-Faculty Professional Development-No School
DESCRIPTION:
URL:https://www.7hills.org/event/tshs-faculty-professional-development-no-school-3/
CATEGORIES:All School
END:VEVENT
BEGIN:VEVENT
DTSTART;TZID=America/New_York:20240214T120000
DTEND;TZID=America/New_York:20240214T130000
DTSTAMP:20260421T060513
CREATED:20230615T192040Z
LAST-MODIFIED:20230928T192635Z
UID:20794-1707912000-1707915600@www.7hills.org
SUMMARY:TSHS-Athletic Boosters Meeting
DESCRIPTION:
URL:https://www.7hills.org/event/tshs-athletic-boosters-meeting-4-2024-02-14/
CATEGORIES:All School
END:VEVENT
BEGIN:VEVENT
DTSTART;TZID=America/New_York:20240214T114500
DTEND;TZID=America/New_York:20240214T122000
DTSTAMP:20260421T060513
CREATED:20230620T175727Z
LAST-MODIFIED:20240206T160353Z
UID:20927-1707911100-1707913200@www.7hills.org
SUMMARY:U-Personal Challenge Sharing Day
DESCRIPTION:
URL:https://www.7hills.org/event/u-personal-challenge-sharing-day-2-2024-02-14/
LOCATION:Upper School\, 5400 Red Bank Road\, Cincinnati\, Ohio\, 45227
CATEGORIES:All School
END:VEVENT
BEGIN:VEVENT
DTSTART;TZID=America/New_York:20240214T090000
DTEND;TZID=America/New_York:20240214T220000
DTSTAMP:20260421T060513
CREATED:20230615T191709Z
LAST-MODIFIED:20230615T191709Z
UID:20787-1707901200-1707948000@www.7hills.org
SUMMARY:U-Coffee with a College Counselor: Thinking About Summer via Zoom
DESCRIPTION:
URL:https://www.7hills.org/event/u-coffee-with-a-college-counselor-thinking-about-summer-via-zoom-3/
CATEGORIES:All School
END:VEVENT
BEGIN:VEVENT
DTSTART;TZID=America/New_York:20240214T081500
DTEND;TZID=America/New_York:20240214T090000
DTSTAMP:20260421T060513
CREATED:20240205T125713Z
LAST-MODIFIED:20240205T125713Z
UID:22762-1707898500-1707901200@www.7hills.org
SUMMARY:L-3rd Grd Writing Gallery
DESCRIPTION:
URL:https://www.7hills.org/event/l-3rd-grd-writing-gallery/
LOCATION:Lotspeich\, 5400 Red Bank Road\, Cincinnati\, OH\, 45227\, United States
CATEGORIES:All School
END:VEVENT
BEGIN:VEVENT
DTSTART;TZID=America/New_York:20240213T183000
DTEND;TZID=America/New_York:20240213T193000
DTSTAMP:20260421T060513
CREATED:20220902T151534Z
LAST-MODIFIED:20240205T125259Z
UID:18334-1707849000-1707852600@www.7hills.org
SUMMARY:U-French Exchange Trip Parent Meeting
DESCRIPTION:
URL:https://www.7hills.org/event/u-french-exchange-trip-parent-meeting/
LOCATION:Young Family Library
CATEGORIES:All School
END:VEVENT
BEGIN:VEVENT
DTSTART;VALUE=DATE:20240210
DTEND;VALUE=DATE:20240211
DTSTAMP:20260421T060513
CREATED:20230615T191338Z
LAST-MODIFIED:20230615T191338Z
UID:20780-1707523200-1707609599@www.7hills.org
SUMMARY:U-ACTs (off campus)
DESCRIPTION:
URL:https://www.7hills.org/event/u-acts-off-campus-7-2024-02-10/
CATEGORIES:All School
END:VEVENT
BEGIN:VEVENT
DTSTART;TZID=America/New_York:20240209T180000
DTEND;TZID=America/New_York:20240209T213000
DTSTAMP:20260421T060513
CREATED:20240205T125134Z
LAST-MODIFIED:20240205T125134Z
UID:22761-1707501600-1707514200@www.7hills.org
SUMMARY:M/U-AAA Club Movie Night
DESCRIPTION:
URL:https://www.7hills.org/event/m-u-aaa-club-movie-night/
CATEGORIES:All School
END:VEVENT
BEGIN:VEVENT
DTSTART;TZID=America/New_York:20240209T083000
DTEND;TZID=America/New_York:20240209T093000
DTSTAMP:20260421T060513
CREATED:20230620T191433Z
LAST-MODIFIED:20240205T124650Z
UID:21004-1707467400-1707471000@www.7hills.org
SUMMARY:D-Doherty Parent Community Meeting
DESCRIPTION:
URL:https://www.7hills.org/event/d-doherty-parent-community-meeting-5/
CATEGORIES:All School
END:VEVENT
BEGIN:VEVENT
DTSTART;TZID=America/New_York:20240208T190000
DTEND;TZID=America/New_York:20240208T200000
DTSTAMP:20260421T060513
CREATED:20240122T181906Z
LAST-MODIFIED:20240122T181906Z
UID:22617-1707418800-1707422400@www.7hills.org
SUMMARY:4th-8th Grd-Delay the Phone! Parent Meeting
DESCRIPTION:
URL:https://www.7hills.org/event/4th-8th-grd-delay-the-phone-parent-meeting/
LOCATION:Schiff Center
CATEGORIES:All School
END:VEVENT
BEGIN:VEVENT
DTSTART;TZID=America/New_York:20240207T083000
DTEND;TZID=America/New_York:20240207T093000
DTSTAMP:20260421T060513
CREATED:20230615T190442Z
LAST-MODIFIED:20230615T190442Z
UID:20898-1707294600-1707298200@www.7hills.org
SUMMARY:TSHS-Parent Community Board Meeting
DESCRIPTION:
URL:https://www.7hills.org/event/tshs-parent-community-board-meeting-4-2024-02-07/
CATEGORIES:All School
END:VEVENT
BEGIN:VEVENT
DTSTART;TZID=America/New_York:20240205T190000
DTEND;TZID=America/New_York:20240205T200000
DTSTAMP:20260421T060513
CREATED:20230615T190137Z
LAST-MODIFIED:20240108T124736Z
UID:20757-1707159600-1707163200@www.7hills.org
SUMMARY:U-Freshmen Parents College Counseling Meeting
DESCRIPTION:
URL:https://www.7hills.org/event/u-freshmen-parents-college-counseling-meeting-3/
CATEGORIES:All School
END:VEVENT
BEGIN:VEVENT
DTSTART;TZID=America/New_York:20240203T193000
DTEND;TZID=America/New_York:20240203T213000
DTSTAMP:20260421T060513
CREATED:20230620T170010Z
LAST-MODIFIED:20240116T145835Z
UID:20862-1706988600-1706995800@www.7hills.org
SUMMARY:U-Play
DESCRIPTION:
URL:https://www.7hills.org/event/u-play-16/
CATEGORIES:All School
END:VEVENT
BEGIN:VEVENT
DTSTART;VALUE=DATE:20240203
DTEND;VALUE=DATE:20240204
DTSTAMP:20260421T060513
CREATED:20230620T191520Z
LAST-MODIFIED:20230620T191520Z
UID:21005-1706918400-1707004799@www.7hills.org
SUMMARY:M-MVC MS Boys Basketball Tournament at Seven Hills
DESCRIPTION:
URL:https://www.7hills.org/event/m-mvc-ms-boys-basketball-tournament-at-seven-hills/
CATEGORIES:All School,Athletics
END:VEVENT
BEGIN:VEVENT
DTSTART;TZID=America/New_York:20240202T193000
DTEND;TZID=America/New_York:20240202T213000
DTSTAMP:20260421T060513
CREATED:20240116T145859Z
LAST-MODIFIED:20240116T145859Z
UID:22600-1706902200-1706909400@www.7hills.org
SUMMARY:U-Play
DESCRIPTION:
URL:https://www.7hills.org/event/u-play-18/
CATEGORIES:All School
END:VEVENT
BEGIN:VEVENT
DTSTART;TZID=America/New_York:20240202T120000
DTEND;TZID=America/New_York:20240202T133000
DTSTAMP:20260421T060513
CREATED:20230620T191255Z
LAST-MODIFIED:20230620T191255Z
UID:21003-1706875200-1706880600@www.7hills.org
SUMMARY:U-Books for Lunch
DESCRIPTION:
URL:https://www.7hills.org/event/u-books-for-lunch-4/
CATEGORIES:All School
END:VEVENT
BEGIN:VEVENT
DTSTART;TZID=America/New_York:20240201T160000
DTEND;TZID=America/New_York:20240201T180000
DTSTAMP:20260421T060513
CREATED:20240116T145643Z
LAST-MODIFIED:20240125T170246Z
UID:22597-1706803200-1706810400@www.7hills.org
SUMMARY:U-Play-Invited Preview
DESCRIPTION:
URL:https://www.7hills.org/event/u-play-invited-preview/
LOCATION:Schiff Center
CATEGORIES:All School
END:VEVENT
BEGIN:VEVENT
DTSTART;TZID=America/New_York:20240129T111000
DTEND;TZID=America/New_York:20240129T115000
DTSTAMP:20260421T060513
CREATED:20221216T135404Z
LAST-MODIFIED:20240122T123911Z
UID:19265-1706526600-1706529000@www.7hills.org
SUMMARY:U-Lifers Lunch
DESCRIPTION:
URL:https://www.7hills.org/event/u-lifers-lunch/
LOCATION:Hillsdale Commons\, 5400 Red Bank Road\, Cincinnati\, OH\, 45227\, United States
CATEGORIES:All School,Alumni
END:VEVENT
BEGIN:VEVENT
DTSTART;VALUE=DATE:20240129
DTEND;VALUE=DATE:20240203
DTSTAMP:20260421T060513
CREATED:20230620T191013Z
LAST-MODIFIED:20230620T191013Z
UID:20999-1706486400-1706918399@www.7hills.org
SUMMARY:TSHS-Prevention Solutions Week
DESCRIPTION:
URL:https://www.7hills.org/event/tshs-prevention-solutions-week/
CATEGORIES:All School
END:VEVENT
BEGIN:VEVENT
DTSTART;TZID=America/New_York:20240128T100000
DTEND;TZID=America/New_York:20240128T120000
DTSTAMP:20260421T060513
CREATED:20230620T190941Z
LAST-MODIFIED:20240108T133821Z
UID:20998-1706436000-1706443200@www.7hills.org
SUMMARY:D/L-STEAM Fair
DESCRIPTION:
URL:https://www.7hills.org/event/d-l-steam-fair-2/
LOCATION:Middle School
CATEGORIES:All School
END:VEVENT
BEGIN:VEVENT
DTSTART;TZID=America/New_York:20240127T083000
DTEND;TZID=America/New_York:20240127T120000
DTSTAMP:20260421T060513
CREATED:20240108T133503Z
LAST-MODIFIED:20240108T133535Z
UID:22579-1706344200-1706356800@www.7hills.org
SUMMARY:U-Certamen
DESCRIPTION:
URL:https://www.7hills.org/event/u-certamen/
LOCATION:Upper School\, 5400 Red Bank Road\, Cincinnati\, Ohio\, 45227
CATEGORIES:All School
END:VEVENT
BEGIN:VEVENT
DTSTART;TZID=America/New_York:20240126T083000
DTEND;TZID=America/New_York:20240126T093000
DTSTAMP:20260421T060513
CREATED:20230615T191019Z
LAST-MODIFIED:20230929T192705Z
UID:20906-1706257800-1706261400@www.7hills.org
SUMMARY:L-Lotspeich Parent Community Meeting
DESCRIPTION:
URL:https://www.7hills.org/event/l-lotspeich-parent-community-meeting-3-2024-01-26/
CATEGORIES:All School
END:VEVENT
BEGIN:VEVENT
DTSTART;TZID=America/New_York:20240124T190000
DTEND;TZID=America/New_York:20240124T200000
DTSTAMP:20260421T060513
CREATED:20230620T190837Z
LAST-MODIFIED:20240116T191118Z
UID:20996-1706122800-1706126400@www.7hills.org
SUMMARY:M-Grades 6 & 7 Looking Ahead to 7th & 8th Grade via Zoom
DESCRIPTION:
URL:https://www.7hills.org/event/m-grades-6-7-looking-ahead-to-7th-8th-grade-via-zoom-2/
CATEGORIES:All School
END:VEVENT
BEGIN:VEVENT
DTSTART;TZID=America/New_York:20240122T190000
DTEND;TZID=America/New_York:20240122T200000
DTSTAMP:20260421T060513
CREATED:20230615T190113Z
LAST-MODIFIED:20240108T133237Z
UID:20756-1705950000-1705953600@www.7hills.org
SUMMARY:U-Sophomore Parents College Counseling Meeting via Zoom
DESCRIPTION:
URL:https://www.7hills.org/event/u-sophomore-parents-college-counseling-meeting-4/
CATEGORIES:All School
END:VEVENT
BEGIN:VEVENT
DTSTART;VALUE=DATE:20240122
DTEND;VALUE=DATE:20240123
DTSTAMP:20260421T060513
CREATED:20230620T185553Z
LAST-MODIFIED:20230620T185553Z
UID:20987-1705881600-1705967999@www.7hills.org
SUMMARY:TSHS-Re-enrollment Contracts Expire
DESCRIPTION:
URL:https://www.7hills.org/event/tshs-re-enrollment-contracts-expire/
CATEGORIES:Admission,All School
END:VEVENT
BEGIN:VEVENT
DTSTART;TZID=America/New_York:20240119T081500
DTEND;TZID=America/New_York:20240119T091500
DTSTAMP:20260421T060513
CREATED:20230615T183926Z
LAST-MODIFIED:20240108T134801Z
UID:20719-1705652100-1705655700@www.7hills.org
SUMMARY:M-Middle School Parent Community Meeting
DESCRIPTION:
URL:https://www.7hills.org/event/m-middle-school-parent-community-meeting-2024-01-19/
LOCATION:6th Grade Commons
CATEGORIES:All School
END:VEVENT
BEGIN:VEVENT
DTSTART;TZID=America/New_York:20240118T190000
DTEND;TZID=America/New_York:20240118T194500
DTSTAMP:20260421T060513
CREATED:20230616T154710Z
LAST-MODIFIED:20230818T183803Z
UID:20829-1705604400-1705607100@www.7hills.org
SUMMARY:Admissions-Questions & Conversations: Let's Chat Student & Parent Panel via Zoom
DESCRIPTION:
URL:https://www.7hills.org/event/admissions-questions-conversations-lets-chat-student-parent-panel-via-zoom/
CATEGORIES:All School
END:VEVENT
BEGIN:VEVENT
DTSTART;TZID=America/New_York:20240118T183000
DTEND;TZID=America/New_York:20240118T193000
DTSTAMP:20260421T060513
CREATED:20230620T190920Z
LAST-MODIFIED:20230620T190920Z
UID:20997-1705602600-1705606200@www.7hills.org
SUMMARY:TSHS-Alumni Magic Show via Zoom
DESCRIPTION:
URL:https://www.7hills.org/event/tshs-alumni-magic-show-via-zoom/
CATEGORIES:All School,Alumni
END:VEVENT
END:VCALENDAR