BEGIN:VCALENDAR
VERSION:2.0
PRODID:-//Seven Hills School - ECPv6.15.20//NONSGML v1.0//EN
CALSCALE:GREGORIAN
METHOD:PUBLISH
X-WR-CALNAME:Seven Hills School
X-ORIGINAL-URL:https://www.7hills.org
X-WR-CALDESC:Events for Seven Hills School
REFRESH-INTERVAL;VALUE=DURATION:PT1H
X-Robots-Tag:noindex
X-PUBLISHED-TTL:PT1H
BEGIN:VTIMEZONE
TZID:America/New_York
BEGIN:DAYLIGHT
TZOFFSETFROM:-0500
TZOFFSETTO:-0400
TZNAME:EDT
DTSTART:20220313T070000
END:DAYLIGHT
BEGIN:STANDARD
TZOFFSETFROM:-0400
TZOFFSETTO:-0500
TZNAME:EST
DTSTART:20221106T060000
END:STANDARD
BEGIN:DAYLIGHT
TZOFFSETFROM:-0500
TZOFFSETTO:-0400
TZNAME:EDT
DTSTART:20230312T070000
END:DAYLIGHT
BEGIN:STANDARD
TZOFFSETFROM:-0400
TZOFFSETTO:-0500
TZNAME:EST
DTSTART:20231105T060000
END:STANDARD
BEGIN:DAYLIGHT
TZOFFSETFROM:-0500
TZOFFSETTO:-0400
TZNAME:EDT
DTSTART:20240310T070000
END:DAYLIGHT
BEGIN:STANDARD
TZOFFSETFROM:-0400
TZOFFSETTO:-0500
TZNAME:EST
DTSTART:20241103T060000
END:STANDARD
BEGIN:DAYLIGHT
TZOFFSETFROM:-0500
TZOFFSETTO:-0400
TZNAME:EDT
DTSTART:20250309T070000
END:DAYLIGHT
BEGIN:STANDARD
TZOFFSETFROM:-0400
TZOFFSETTO:-0500
TZNAME:EST
DTSTART:20251102T060000
END:STANDARD
END:VTIMEZONE
BEGIN:VEVENT
DTSTART;TZID=America/New_York:20240118T090000
DTEND;TZID=America/New_York:20240118T220000
DTSTAMP:20260419T104216
CREATED:20230616T153745Z
LAST-MODIFIED:20230616T153745Z
UID:20816-1705568400-1705615200@www.7hills.org
SUMMARY:Admissions-Walk & Talk for Grds 6-12
DESCRIPTION:
URL:https://www.7hills.org/event/admissions-walk-talk-for-grds-6-12-3/
CATEGORIES:Admission,All School
END:VEVENT
BEGIN:VEVENT
DTSTART;TZID=America/New_York:20240117T183000
DTEND;TZID=America/New_York:20240117T203000
DTSTAMP:20260419T104216
CREATED:20230615T184826Z
LAST-MODIFIED:20230615T184826Z
UID:20737-1705516200-1705523400@www.7hills.org
SUMMARY:TSHS-Board of Trustees Meeting
DESCRIPTION:
URL:https://www.7hills.org/event/tshs-board-of-trustees-meeting-4-2024-01-17/
CATEGORIES:All School
END:VEVENT
BEGIN:VEVENT
DTSTART;VALUE=DATE:20240116
DTEND;VALUE=DATE:20240121
DTSTAMP:20260419T104216
CREATED:20230620T185927Z
LAST-MODIFIED:20230620T185927Z
UID:20991-1705363200-1705795199@www.7hills.org
SUMMARY:M-7th Grd Healthy Visions
DESCRIPTION:
URL:https://www.7hills.org/event/m-7th-grd-healthy-visions/
CATEGORIES:All School
END:VEVENT
BEGIN:VEVENT
DTSTART;VALUE=DATE:20240115
DTEND;VALUE=DATE:20240116
DTSTAMP:20260419T104216
CREATED:20230620T185842Z
LAST-MODIFIED:20230620T185842Z
UID:20990-1705276800-1705363199@www.7hills.org
SUMMARY:TSHS-No School
DESCRIPTION:
URL:https://www.7hills.org/event/tshs-no-school-6/
CATEGORIES:All School
END:VEVENT
BEGIN:VEVENT
DTSTART;VALUE=DATE:20240115
DTEND;VALUE=DATE:20240116
DTSTAMP:20260419T104216
CREATED:20230620T185813Z
LAST-MODIFIED:20230620T185813Z
UID:20989-1705276800-1705363199@www.7hills.org
SUMMARY:Martin Luther King Jr. Day
DESCRIPTION:
URL:https://www.7hills.org/event/martin-luther-king-jr-day/
CATEGORIES:All School
END:VEVENT
BEGIN:VEVENT
DTSTART;VALUE=DATE:20240115
DTEND;VALUE=DATE:20240116
DTSTAMP:20260419T104216
CREATED:20230620T185515Z
LAST-MODIFIED:20230620T185515Z
UID:20986-1705276800-1705363199@www.7hills.org
SUMMARY:TSHS-Flexible Tuition Forms Due
DESCRIPTION:
URL:https://www.7hills.org/event/tshs-flexible-tuition-forms-due-3/
CATEGORIES:Admission,All School
END:VEVENT
BEGIN:VEVENT
DTSTART;VALUE=DATE:20240112
DTEND;VALUE=DATE:20240113
DTSTAMP:20260419T104216
CREATED:20230620T170416Z
LAST-MODIFIED:20230620T170609Z
UID:20871-1705017600-1705103999@www.7hills.org
SUMMARY:U-End of Second Quarter
DESCRIPTION:
URL:https://www.7hills.org/event/u-end-of-first-quarter-3/
CATEGORIES:All School
END:VEVENT
BEGIN:VEVENT
DTSTART;VALUE=DATE:20240112
DTEND;VALUE=DATE:20240113
DTSTAMP:20260419T104216
CREATED:20230620T170241Z
LAST-MODIFIED:20230620T170634Z
UID:20869-1705017600-1705103999@www.7hills.org
SUMMARY:M-End of Second Quarter
DESCRIPTION:
URL:https://www.7hills.org/event/m-end-of-first-quarter-3/
CATEGORIES:All School
END:VEVENT
BEGIN:VEVENT
DTSTART;TZID=America/New_York:20240111T173000
DTEND;TZID=America/New_York:20240111T190000
DTSTAMP:20260419T104216
CREATED:20230620T185651Z
LAST-MODIFIED:20230620T185730Z
UID:20988-1704994200-1704999600@www.7hills.org
SUMMARY:TSHS-New Parents Cocktail Social
DESCRIPTION:
URL:https://www.7hills.org/event/tshs-new-parent-cocktail-social-2/
CATEGORIES:All School
END:VEVENT
BEGIN:VEVENT
DTSTART;TZID=America/New_York:20240110T120000
DTEND;TZID=America/New_York:20240110T130000
DTSTAMP:20260419T104216
CREATED:20230615T192040Z
LAST-MODIFIED:20230928T192635Z
UID:20793-1704888000-1704891600@www.7hills.org
SUMMARY:TSHS-Athletic Boosters Meeting
DESCRIPTION:
URL:https://www.7hills.org/event/tshs-athletic-boosters-meeting-4-2024-01-10/
CATEGORIES:All School
END:VEVENT
BEGIN:VEVENT
DTSTART;TZID=America/New_York:20240108T190000
DTEND;TZID=America/New_York:20240108T200000
DTSTAMP:20260419T104216
CREATED:20230615T190048Z
LAST-MODIFIED:20230620T172738Z
UID:20755-1704740400-1704744000@www.7hills.org
SUMMARY:U-Junior Parents College Counseling Meeting
DESCRIPTION:
URL:https://www.7hills.org/event/u-junior-parents-college-counseling-meeting-7/
CATEGORIES:All School
END:VEVENT
BEGIN:VEVENT
DTSTART;VALUE=DATE:20240108
DTEND;VALUE=DATE:20240109
DTSTAMP:20260419T104216
CREATED:20230620T185440Z
LAST-MODIFIED:20230620T185440Z
UID:20985-1704672000-1704758399@www.7hills.org
SUMMARY:TSHS-Re-enrollment Contracts Issued
DESCRIPTION:
URL:https://www.7hills.org/event/tshs-re-enrollment-contracts-issued/
CATEGORIES:Admission,All School
END:VEVENT
BEGIN:VEVENT
DTSTART;VALUE=DATE:20240106
DTEND;VALUE=DATE:20240107
DTSTAMP:20260419T104216
CREATED:20230620T185358Z
LAST-MODIFIED:20230620T185358Z
UID:20984-1704499200-1704585599@www.7hills.org
SUMMARY:L-FIRST Lego League Qualifier Competition
DESCRIPTION:
URL:https://www.7hills.org/event/l-first-lego-league-qualifier-competition/
CATEGORIES:All School
END:VEVENT
BEGIN:VEVENT
DTSTART;VALUE=DATE:20240105
DTEND;VALUE=DATE:20240106
DTSTAMP:20260419T104216
CREATED:20230620T182834Z
LAST-MODIFIED:20230620T182834Z
UID:20965-1704412800-1704499199@www.7hills.org
SUMMARY:D/L-Lower School Spirit Night
DESCRIPTION:
URL:https://www.7hills.org/event/d-l-lower-school-spirit-night-4/
CATEGORIES:All School,Athletics
END:VEVENT
BEGIN:VEVENT
DTSTART;TZID=America/New_York:20240104T190000
DTEND;TZID=America/New_York:20240104T200000
DTSTAMP:20260419T104216
CREATED:20230620T185322Z
LAST-MODIFIED:20230620T185322Z
UID:20983-1704394800-1704398400@www.7hills.org
SUMMARY:D/L-5th Grd Parents Orientation to MS via Zoom
DESCRIPTION:
URL:https://www.7hills.org/event/d-l-5th-grd-parents-orientation-to-ms-via-zoom/
CATEGORIES:All School
END:VEVENT
BEGIN:VEVENT
DTSTART;VALUE=DATE:20240103
DTEND;VALUE=DATE:20240104
DTSTAMP:20260419T104216
CREATED:20230620T183956Z
LAST-MODIFIED:20230620T183956Z
UID:20981-1704240000-1704326399@www.7hills.org
SUMMARY:TSHS-School Resumes
DESCRIPTION:
URL:https://www.7hills.org/event/tshs-school-resumes-9/
CATEGORIES:All School
END:VEVENT
BEGIN:VEVENT
DTSTART;VALUE=DATE:20240102
DTEND;VALUE=DATE:20240103
DTSTAMP:20260419T104216
CREATED:20230616T171412Z
LAST-MODIFIED:20230616T171412Z
UID:20836-1704153600-1704239999@www.7hills.org
SUMMARY:TSHS-Faculty Professional Development-No School
DESCRIPTION:
URL:https://www.7hills.org/event/tshs-faculty-professional-development-no-school-2/
CATEGORIES:All School
END:VEVENT
BEGIN:VEVENT
DTSTART;VALUE=DATE:20240101
DTEND;VALUE=DATE:20240102
DTSTAMP:20260419T104216
CREATED:20230620T183930Z
LAST-MODIFIED:20230620T183930Z
UID:20980-1704067200-1704153599@www.7hills.org
SUMMARY:New Year's Day
DESCRIPTION:
URL:https://www.7hills.org/event/new-years-day-4/
CATEGORIES:All School
END:VEVENT
BEGIN:VEVENT
DTSTART;VALUE=DATE:20240101
DTEND;VALUE=DATE:20240102
DTSTAMP:20260419T104216
CREATED:20230620T183624Z
LAST-MODIFIED:20230620T183624Z
UID:20974-1704067200-1704153599@www.7hills.org
SUMMARY:TSHS-No School
DESCRIPTION:
URL:https://www.7hills.org/event/tshs-no-school-3/
CATEGORIES:All School
END:VEVENT
BEGIN:VEVENT
DTSTART;VALUE=DATE:20240101
DTEND;VALUE=DATE:20240102
DTSTAMP:20260419T104216
CREATED:20230620T183600Z
LAST-MODIFIED:20230620T183600Z
UID:20973-1704067200-1704153599@www.7hills.org
SUMMARY:TSHS-Winter Break
DESCRIPTION:
URL:https://www.7hills.org/event/tshs-winter-break-4/
CATEGORIES:All School
END:VEVENT
BEGIN:VEVENT
DTSTART;VALUE=DATE:20231226
DTEND;VALUE=DATE:20231227
DTSTAMP:20260419T104216
CREATED:20230620T183859Z
LAST-MODIFIED:20230620T183859Z
UID:20979-1703548800-1703635199@www.7hills.org
SUMMARY:Kwanzaa Begins
DESCRIPTION:
URL:https://www.7hills.org/event/kwanzaa-begins-4/
CATEGORIES:All School
END:VEVENT
BEGIN:VEVENT
DTSTART;VALUE=DATE:20231225
DTEND;VALUE=DATE:20231226
DTSTAMP:20260419T104216
CREATED:20230620T183835Z
LAST-MODIFIED:20230620T183835Z
UID:20978-1703462400-1703548799@www.7hills.org
SUMMARY:Christmas
DESCRIPTION:
URL:https://www.7hills.org/event/christmas-4/
CATEGORIES:All School
END:VEVENT
BEGIN:VEVENT
DTSTART;VALUE=DATE:20231225
DTEND;VALUE=DATE:20231230
DTSTAMP:20260419T104216
CREATED:20230620T183700Z
LAST-MODIFIED:20230620T183700Z
UID:20975-1703462400-1703894399@www.7hills.org
SUMMARY:TSHS-No School
DESCRIPTION:
URL:https://www.7hills.org/event/tshs-no-school-4/
CATEGORIES:All School
END:VEVENT
BEGIN:VEVENT
DTSTART;VALUE=DATE:20231225
DTEND;VALUE=DATE:20231230
DTSTAMP:20260419T104216
CREATED:20230620T183529Z
LAST-MODIFIED:20230620T183529Z
UID:20972-1703462400-1703894399@www.7hills.org
SUMMARY:TSHS-Winter Break
DESCRIPTION:
URL:https://www.7hills.org/event/tshs-winter-break-3/
CATEGORIES:All School
END:VEVENT
BEGIN:VEVENT
DTSTART;VALUE=DATE:20231218
DTEND;VALUE=DATE:20231223
DTSTAMP:20260419T104216
CREATED:20230620T183728Z
LAST-MODIFIED:20230620T183729Z
UID:20976-1702857600-1703289599@www.7hills.org
SUMMARY:TSHS-No School
DESCRIPTION:
URL:https://www.7hills.org/event/tshs-no-school-5/
CATEGORIES:All School
END:VEVENT
BEGIN:VEVENT
DTSTART;VALUE=DATE:20231218
DTEND;VALUE=DATE:20231223
DTSTAMP:20260419T104216
CREATED:20230620T183427Z
LAST-MODIFIED:20230620T183427Z
UID:20971-1702857600-1703289599@www.7hills.org
SUMMARY:TSHS-Winter Break
DESCRIPTION:
URL:https://www.7hills.org/event/tshs-winter-break-2/
CATEGORIES:All School
END:VEVENT
BEGIN:VEVENT
DTSTART;TZID=America/New_York:20231215T113000
DTEND;TZID=America/New_York:20231215T113000
DTSTAMP:20260419T104216
CREATED:20230620T183131Z
LAST-MODIFIED:20230620T183131Z
UID:20970-1702639800-1702639800@www.7hills.org
SUMMARY:TSHS-Winter Break Begins at 11:30 a.m.
DESCRIPTION:
URL:https://www.7hills.org/event/tshs-winter-break-begins-at-1130-a-m-2/
CATEGORIES:All School
END:VEVENT
BEGIN:VEVENT
DTSTART;TZID=America/New_York:20231215T093000
DTEND;TZID=America/New_York:20231215T103000
DTSTAMP:20260419T104216
CREATED:20230620T183035Z
LAST-MODIFIED:20230620T183327Z
UID:20969-1702632600-1702636200@www.7hills.org
SUMMARY:D-Grades K-5 Winter Holiday Music Program
DESCRIPTION:
URL:https://www.7hills.org/event/d-grades-k-5-winter-holiday-music-program/
CATEGORIES:All School
END:VEVENT
BEGIN:VEVENT
DTSTART;VALUE=DATE:20231215
DTEND;VALUE=DATE:20231216
DTSTAMP:20260419T104216
CREATED:20230616T152611Z
LAST-MODIFIED:20230616T153154Z
UID:20806-1702598400-1702684799@www.7hills.org
SUMMARY:TSHS-Grds 1-8 Spring Sports Registration Ends
DESCRIPTION:
URL:https://www.7hills.org/event/tshs-grds-1-8-spring-sports-registration-ends/
CATEGORIES:All School,Athletics
END:VEVENT
BEGIN:VEVENT
DTSTART;TZID=America/New_York:20231213T183000
DTEND;TZID=America/New_York:20231213T203000
DTSTAMP:20260419T104216
CREATED:20230615T184826Z
LAST-MODIFIED:20230615T184826Z
UID:20736-1702492200-1702499400@www.7hills.org
SUMMARY:TSHS-Board of Trustees Meeting
DESCRIPTION:
URL:https://www.7hills.org/event/tshs-board-of-trustees-meeting-4-2023-12-13/
CATEGORIES:All School
END:VEVENT
END:VCALENDAR