BEGIN:VCALENDAR
VERSION:2.0
PRODID:-//Seven Hills School - ECPv6.15.20//NONSGML v1.0//EN
CALSCALE:GREGORIAN
METHOD:PUBLISH
X-WR-CALNAME:Seven Hills School
X-ORIGINAL-URL:https://www.7hills.org
X-WR-CALDESC:Events for Seven Hills School
REFRESH-INTERVAL;VALUE=DURATION:PT1H
X-Robots-Tag:noindex
X-PUBLISHED-TTL:PT1H
BEGIN:VTIMEZONE
TZID:America/New_York
BEGIN:DAYLIGHT
TZOFFSETFROM:-0500
TZOFFSETTO:-0400
TZNAME:EDT
DTSTART:20220313T070000
END:DAYLIGHT
BEGIN:STANDARD
TZOFFSETFROM:-0400
TZOFFSETTO:-0500
TZNAME:EST
DTSTART:20221106T060000
END:STANDARD
BEGIN:DAYLIGHT
TZOFFSETFROM:-0500
TZOFFSETTO:-0400
TZNAME:EDT
DTSTART:20230312T070000
END:DAYLIGHT
BEGIN:STANDARD
TZOFFSETFROM:-0400
TZOFFSETTO:-0500
TZNAME:EST
DTSTART:20231105T060000
END:STANDARD
BEGIN:DAYLIGHT
TZOFFSETFROM:-0500
TZOFFSETTO:-0400
TZNAME:EDT
DTSTART:20240310T070000
END:DAYLIGHT
BEGIN:STANDARD
TZOFFSETFROM:-0400
TZOFFSETTO:-0500
TZNAME:EST
DTSTART:20241103T060000
END:STANDARD
END:VTIMEZONE
BEGIN:VEVENT
DTSTART;VALUE=DATE:20231111
DTEND;VALUE=DATE:20231112
DTSTAMP:20260421T212040
CREATED:20230620T175928Z
LAST-MODIFIED:20230620T175928Z
UID:20934-1699660800-1699747199@www.7hills.org
SUMMARY:Veteran's Day
DESCRIPTION:
URL:https://www.7hills.org/event/veterans-day-4/
CATEGORIES:All School
END:VEVENT
BEGIN:VEVENT
DTSTART;VALUE=DATE:20231110
DTEND;VALUE=DATE:20231111
DTSTAMP:20260421T212040
CREATED:20230620T172128Z
LAST-MODIFIED:20230620T172128Z
UID:20895-1699574400-1699660799@www.7hills.org
SUMMARY:D/L-Combined Book Fair Ends
DESCRIPTION:
URL:https://www.7hills.org/event/d-l-combined-book-fair-ends-2/
CATEGORIES:All School
END:VEVENT
BEGIN:VEVENT
DTSTART;VALUE=DATE:20231110
DTEND;VALUE=DATE:20231111
DTSTAMP:20260421T212040
CREATED:20230620T175910Z
LAST-MODIFIED:20230620T175910Z
UID:20933-1699574400-1699660799@www.7hills.org
SUMMARY:M/U-Parent Conferences
DESCRIPTION:
URL:https://www.7hills.org/event/m-u-parent-conferences-2-2023-11-10/
CATEGORIES:All School
END:VEVENT
BEGIN:VEVENT
DTSTART;VALUE=DATE:20231110
DTEND;VALUE=DATE:20231111
DTSTAMP:20260421T212040
CREATED:20230620T175839Z
LAST-MODIFIED:20230620T175839Z
UID:20931-1699574400-1699660799@www.7hills.org
SUMMARY:M/U-No School
DESCRIPTION:
URL:https://www.7hills.org/event/m-u-no-school-2023-11-10/
CATEGORIES:All School
END:VEVENT
BEGIN:VEVENT
DTSTART;VALUE=DATE:20231109
DTEND;VALUE=DATE:20231110
DTSTAMP:20260421T212040
CREATED:20230620T175910Z
LAST-MODIFIED:20230620T175910Z
UID:20932-1699488000-1699574399@www.7hills.org
SUMMARY:M/U-Parent Conferences
DESCRIPTION:
URL:https://www.7hills.org/event/m-u-parent-conferences-2/
CATEGORIES:All School
END:VEVENT
BEGIN:VEVENT
DTSTART;VALUE=DATE:20231109
DTEND;VALUE=DATE:20231110
DTSTAMP:20260421T212040
CREATED:20230620T175839Z
LAST-MODIFIED:20230620T175839Z
UID:20930-1699488000-1699574399@www.7hills.org
SUMMARY:M/U-No School
DESCRIPTION:
URL:https://www.7hills.org/event/m-u-no-school/
CATEGORIES:All School
END:VEVENT
BEGIN:VEVENT
DTSTART;TZID=America/New_York:20231108T120000
DTEND;TZID=America/New_York:20231108T130000
DTSTAMP:20260421T212040
CREATED:20230615T192040Z
LAST-MODIFIED:20230928T192634Z
UID:20791-1699444800-1699448400@www.7hills.org
SUMMARY:TSHS-Athletic Boosters Meeting
DESCRIPTION:
URL:https://www.7hills.org/event/tshs-athletic-boosters-meeting-4-2023-11-08/
CATEGORIES:All School
END:VEVENT
BEGIN:VEVENT
DTSTART;VALUE=DATE:20231108
DTEND;VALUE=DATE:20231109
DTSTAMP:20260421T212040
CREATED:20230620T175651Z
LAST-MODIFIED:20230620T175651Z
UID:20925-1699401600-1699487999@www.7hills.org
SUMMARY:U-Personal Challenge Sharing Day
DESCRIPTION:
URL:https://www.7hills.org/event/u-personal-challenge-sharing-day-2023-11-08/
CATEGORIES:All School
END:VEVENT
BEGIN:VEVENT
DTSTART;VALUE=DATE:20231108
DTEND;VALUE=DATE:20231109
DTSTAMP:20260421T212040
CREATED:20230620T175603Z
LAST-MODIFIED:20230620T175603Z
UID:20923-1699401600-1699487999@www.7hills.org
SUMMARY:M-8th Grd US Preview Day
DESCRIPTION:
URL:https://www.7hills.org/event/m-8th-grd-us-preview-day-2023-11-08/
CATEGORIES:All School
END:VEVENT
BEGIN:VEVENT
DTSTART;VALUE=DATE:20231107
DTEND;VALUE=DATE:20231108
DTSTAMP:20260421T212040
CREATED:20230620T175651Z
LAST-MODIFIED:20230620T175651Z
UID:20924-1699315200-1699401599@www.7hills.org
SUMMARY:U-Personal Challenge Sharing Day
DESCRIPTION:
URL:https://www.7hills.org/event/u-personal-challenge-sharing-day/
CATEGORIES:All School
END:VEVENT
BEGIN:VEVENT
DTSTART;VALUE=DATE:20231107
DTEND;VALUE=DATE:20231108
DTSTAMP:20260421T212040
CREATED:20230620T175603Z
LAST-MODIFIED:20230620T175603Z
UID:20922-1699315200-1699401599@www.7hills.org
SUMMARY:M-8th Grd US Preview Day
DESCRIPTION:
URL:https://www.7hills.org/event/m-8th-grd-us-preview-day/
CATEGORIES:All School
END:VEVENT
BEGIN:VEVENT
DTSTART;VALUE=DATE:20231107
DTEND;VALUE=DATE:20231108
DTSTAMP:20260421T212040
CREATED:20230620T175453Z
LAST-MODIFIED:20230620T175453Z
UID:20921-1699315200-1699401599@www.7hills.org
SUMMARY:Election Day
DESCRIPTION:
URL:https://www.7hills.org/event/election-day-4/
CATEGORIES:All School
END:VEVENT
BEGIN:VEVENT
DTSTART;VALUE=DATE:20231107
DTEND;VALUE=DATE:20231108
DTSTAMP:20260421T212040
CREATED:20230620T174615Z
LAST-MODIFIED:20231102T142315Z
UID:20912-1699315200-1699401599@www.7hills.org
SUMMARY:L/U-Thanksgiving Food Drive Ends
DESCRIPTION:
URL:https://www.7hills.org/event/l-u-thanksgiving-food-drive-ends-3/
CATEGORIES:All School
END:VEVENT
BEGIN:VEVENT
DTSTART;TZID=America/New_York:20231106T190000
DTEND;TZID=America/New_York:20231106T210000
DTSTAMP:20260421T212040
CREATED:20230620T174700Z
LAST-MODIFIED:20231026T115737Z
UID:20913-1699297200-1699304400@www.7hills.org
SUMMARY:U-Fall Athletic Awards
DESCRIPTION:
URL:https://www.7hills.org/event/u-fall-athletic-awards-3/
CATEGORIES:All School,Athletics
END:VEVENT
BEGIN:VEVENT
DTSTART;VALUE=DATE:20231105
DTEND;VALUE=DATE:20231106
DTSTAMP:20260421T212040
CREATED:20220718T163348Z
LAST-MODIFIED:20230620T175419Z
UID:17910-1699142400-1699228799@www.7hills.org
SUMMARY:Daylight Savings Time Ends-move clock back 1 hour
DESCRIPTION:
URL:https://www.7hills.org/event/daylight-savings-time-ends-move-clock-back-1-hour/
CATEGORIES:All School
END:VEVENT
BEGIN:VEVENT
DTSTART;VALUE=DATE:20231104
DTEND;VALUE=DATE:20231105
DTSTAMP:20260421T212040
CREATED:20230615T184407Z
LAST-MODIFIED:20230615T184407Z
UID:20725-1699056000-1699142399@www.7hills.org
SUMMARY:U-SATs (off campus)
DESCRIPTION:
URL:https://www.7hills.org/event/u-sats-off-campus-3-2023-11-04/
CATEGORIES:All School
END:VEVENT
BEGIN:VEVENT
DTSTART;VALUE=DATE:20231103
DTEND;VALUE=DATE:20231104
DTSTAMP:20260421T212040
CREATED:20230620T175340Z
LAST-MODIFIED:20230620T175340Z
UID:20918-1698969600-1699055999@www.7hills.org
SUMMARY:TSHS-Faculty Professional Development-No School
DESCRIPTION:
URL:https://www.7hills.org/event/tshs-faculty-professional-development-no-school-4/
CATEGORIES:All School
END:VEVENT
BEGIN:VEVENT
DTSTART;TZID=America/New_York:20231102T090000
DTEND;TZID=America/New_York:20231102T220000
DTSTAMP:20260421T212040
CREATED:20230620T175230Z
LAST-MODIFIED:20230620T175230Z
UID:20917-1698915600-1698962400@www.7hills.org
SUMMARY:Admissions-Walk & Talk for Grds 6-12
DESCRIPTION:
URL:https://www.7hills.org/event/admissions-walk-talk-for-grds-6-12-4/
CATEGORIES:Admission,All School
END:VEVENT
BEGIN:VEVENT
DTSTART;TZID=America/New_York:20231102T080000
DTEND;TZID=America/New_York:20231102T120000
DTSTAMP:20260421T212040
CREATED:20230620T174330Z
LAST-MODIFIED:20230620T174343Z
UID:20909-1698912000-1698926400@www.7hills.org
SUMMARY:D/L-Parent Conferences
DESCRIPTION:
URL:https://www.7hills.org/event/d-l-parent-conferences-3/
CATEGORIES:All School
END:VEVENT
BEGIN:VEVENT
DTSTART;TZID=America/New_York:20231101T120000
DTEND;TZID=America/New_York:20231101T200000
DTSTAMP:20260421T212040
CREATED:20230620T174415Z
LAST-MODIFIED:20230620T174415Z
UID:20910-1698840000-1698868800@www.7hills.org
SUMMARY:D/L-Parent Conferences
DESCRIPTION:
URL:https://www.7hills.org/event/d-l-parent-conferences-4/
CATEGORIES:All School
END:VEVENT
BEGIN:VEVENT
DTSTART;TZID=America/New_York:20231101T083000
DTEND;TZID=America/New_York:20231101T093000
DTSTAMP:20260421T212040
CREATED:20230615T190442Z
LAST-MODIFIED:20230615T190442Z
UID:20897-1698827400-1698831000@www.7hills.org
SUMMARY:TSHS-Parent Community Board Meeting
DESCRIPTION:
URL:https://www.7hills.org/event/tshs-parent-community-board-meeting-4-2023-11-01/
CATEGORIES:All School
END:VEVENT
BEGIN:VEVENT
DTSTART;VALUE=DATE:20231101
DTEND;VALUE=DATE:20231102
DTSTAMP:20260421T212040
CREATED:20230620T174544Z
LAST-MODIFIED:20230620T174544Z
UID:20911-1698796800-1698883199@www.7hills.org
SUMMARY:L/U-Thanksgiving Food Drive Begins
DESCRIPTION:
URL:https://www.7hills.org/event/l-u-thanksgiving-food-drive-begins-4/
CATEGORIES:All School
END:VEVENT
BEGIN:VEVENT
DTSTART;VALUE=DATE:20231101
DTEND;VALUE=DATE:20231103
DTSTAMP:20260421T212040
CREATED:20230620T174249Z
LAST-MODIFIED:20230620T174454Z
UID:20908-1698796800-1698969599@www.7hills.org
SUMMARY:D/L-No School
DESCRIPTION:
URL:https://www.7hills.org/event/d-l-no-classes/
CATEGORIES:All School
END:VEVENT
BEGIN:VEVENT
DTSTART;VALUE=DATE:20231101
DTEND;VALUE=DATE:20231102
DTSTAMP:20260421T212040
CREATED:20230620T173816Z
LAST-MODIFIED:20230620T173816Z
UID:20907-1698796800-1698883199@www.7hills.org
SUMMARY:Native American Heritage Month (Nov. 1-30)
DESCRIPTION:
URL:https://www.7hills.org/event/native-american-heritage-month-nov-1-30-2/
CATEGORIES:All School
END:VEVENT
BEGIN:VEVENT
DTSTART;TZID=America/New_York:20231031T091500
DTEND;TZID=America/New_York:20231031T094500
DTSTAMP:20260421T212040
CREATED:20230620T171842Z
LAST-MODIFIED:20230620T172226Z
UID:20891-1698743700-1698745500@www.7hills.org
SUMMARY:L-Halloween Parade
DESCRIPTION:
URL:https://www.7hills.org/event/l-halloween-parade-4/
CATEGORIES:All School
END:VEVENT
BEGIN:VEVENT
DTSTART;TZID=America/New_York:20231031T084000
DTEND;TZID=America/New_York:20231031T093000
DTSTAMP:20260421T212040
CREATED:20230620T171811Z
LAST-MODIFIED:20230620T172403Z
UID:20890-1698741600-1698744600@www.7hills.org
SUMMARY:D-Halloween Parade
DESCRIPTION:
URL:https://www.7hills.org/event/d-halloween-parade-4/
CATEGORIES:All School
END:VEVENT
BEGIN:VEVENT
DTSTART;TZID=America/New_York:20231031T083000
DTEND;TZID=America/New_York:20231031T091500
DTSTAMP:20260421T212040
CREATED:20230620T171921Z
LAST-MODIFIED:20230620T172432Z
UID:20892-1698741000-1698743700@www.7hills.org
SUMMARY:L-Parent Coffee
DESCRIPTION:
URL:https://www.7hills.org/event/l-parent-coffee-2/
CATEGORIES:All School
END:VEVENT
BEGIN:VEVENT
DTSTART;VALUE=DATE:20231031
DTEND;VALUE=DATE:20231101
DTSTAMP:20260421T212040
CREATED:20230620T172053Z
LAST-MODIFIED:20230620T172053Z
UID:20894-1698710400-1698796799@www.7hills.org
SUMMARY:D/L-Combined Book Fair Begins
DESCRIPTION:
URL:https://www.7hills.org/event/d-l-combined-book-fair-begins-2/
CATEGORIES:All School
END:VEVENT
BEGIN:VEVENT
DTSTART;VALUE=DATE:20231031
DTEND;VALUE=DATE:20231101
DTSTAMP:20260421T212040
CREATED:20230620T172003Z
LAST-MODIFIED:20230620T172843Z
UID:20893-1698710400-1698796799@www.7hills.org
SUMMARY:Halloween
DESCRIPTION:
URL:https://www.7hills.org/event/halloween-5/
CATEGORIES:All School
END:VEVENT
BEGIN:VEVENT
DTSTART;TZID=America/New_York:20231028T150000
DTEND;TZID=America/New_York:20231028T170000
DTSTAMP:20260421T212040
CREATED:20230620T171608Z
LAST-MODIFIED:20230620T172520Z
UID:20887-1698505200-1698512400@www.7hills.org
SUMMARY:L-Trunk or Treat
DESCRIPTION:
URL:https://www.7hills.org/event/l-trunk-or-treat-3/
CATEGORIES:All School
END:VEVENT
END:VCALENDAR