BEGIN:VCALENDAR
VERSION:2.0
PRODID:-//Seven Hills School - ECPv6.15.20//NONSGML v1.0//EN
CALSCALE:GREGORIAN
METHOD:PUBLISH
X-ORIGINAL-URL:https://www.7hills.org
X-WR-CALDESC:Events for Seven Hills School
REFRESH-INTERVAL;VALUE=DURATION:PT1H
X-Robots-Tag:noindex
X-PUBLISHED-TTL:PT1H
BEGIN:VTIMEZONE
TZID:America/New_York
BEGIN:DAYLIGHT
TZOFFSETFROM:-0500
TZOFFSETTO:-0400
TZNAME:EDT
DTSTART:20230312T070000
END:DAYLIGHT
BEGIN:STANDARD
TZOFFSETFROM:-0400
TZOFFSETTO:-0500
TZNAME:EST
DTSTART:20231105T060000
END:STANDARD
BEGIN:DAYLIGHT
TZOFFSETFROM:-0500
TZOFFSETTO:-0400
TZNAME:EDT
DTSTART:20240310T070000
END:DAYLIGHT
BEGIN:STANDARD
TZOFFSETFROM:-0400
TZOFFSETTO:-0500
TZNAME:EST
DTSTART:20241103T060000
END:STANDARD
BEGIN:DAYLIGHT
TZOFFSETFROM:-0500
TZOFFSETTO:-0400
TZNAME:EDT
DTSTART:20250309T070000
END:DAYLIGHT
BEGIN:STANDARD
TZOFFSETFROM:-0400
TZOFFSETTO:-0500
TZNAME:EST
DTSTART:20251102T060000
END:STANDARD
END:VTIMEZONE
BEGIN:VEVENT
DTSTART;TZID=America/New_York:20241005T193000
DTEND;TZID=America/New_York:20241005T193000
DTSTAMP:20260420T045709
CREATED:20240710T124730Z
LAST-MODIFIED:20240710T131050Z
UID:24217-1728156600-1728156600@www.7hills.org
SUMMARY:TSHS-Alumni at FC Cincinnati Game
DESCRIPTION:
URL:https://www.7hills.org/event/tshs-alumni-at-fc-cincinnati-game/
CATEGORIES:All School,Alumni
END:VEVENT
BEGIN:VEVENT
DTSTART;TZID=America/New_York:20241017T170000
DTEND;TZID=America/New_York:20241017T190000
DTSTAMP:20260420T045709
CREATED:20240710T125037Z
LAST-MODIFIED:20240710T131035Z
UID:24224-1729184400-1729191600@www.7hills.org
SUMMARY:TSHS-Alumni Happy Hour Before BLINK
DESCRIPTION:
URL:https://www.7hills.org/event/tshs-alumni-happy-hour-before-blink/
CATEGORIES:All School,Alumni
END:VEVENT
END:VCALENDAR