BEGIN:VCALENDAR
VERSION:2.0
PRODID:-//Seven Hills School - ECPv6.15.20//NONSGML v1.0//EN
CALSCALE:GREGORIAN
METHOD:PUBLISH
X-ORIGINAL-URL:https://www.7hills.org
X-WR-CALDESC:Events for Seven Hills School
REFRESH-INTERVAL;VALUE=DURATION:PT1H
X-Robots-Tag:noindex
X-PUBLISHED-TTL:PT1H
BEGIN:VTIMEZONE
TZID:America/New_York
BEGIN:DAYLIGHT
TZOFFSETFROM:-0500
TZOFFSETTO:-0400
TZNAME:EDT
DTSTART:20230312T070000
END:DAYLIGHT
BEGIN:STANDARD
TZOFFSETFROM:-0400
TZOFFSETTO:-0500
TZNAME:EST
DTSTART:20231105T060000
END:STANDARD
BEGIN:DAYLIGHT
TZOFFSETFROM:-0500
TZOFFSETTO:-0400
TZNAME:EDT
DTSTART:20240310T070000
END:DAYLIGHT
BEGIN:STANDARD
TZOFFSETFROM:-0400
TZOFFSETTO:-0500
TZNAME:EST
DTSTART:20241103T060000
END:STANDARD
BEGIN:DAYLIGHT
TZOFFSETFROM:-0500
TZOFFSETTO:-0400
TZNAME:EDT
DTSTART:20250309T070000
END:DAYLIGHT
BEGIN:STANDARD
TZOFFSETFROM:-0400
TZOFFSETTO:-0500
TZNAME:EST
DTSTART:20251102T060000
END:STANDARD
END:VTIMEZONE
BEGIN:VEVENT
DTSTART;TZID=America/New_York:20240810T093000
DTEND;TZID=America/New_York:20240810T093000
DTSTAMP:20260420T161936
CREATED:20240709T140817Z
LAST-MODIFIED:20240726T134459Z
UID:24074-1723282200-1723282200@www.7hills.org
SUMMARY:D-Swing Into School for Grades PreK2-K
DESCRIPTION:
URL:https://www.7hills.org/event/d-swing-into-school-2/
LOCATION:Doherty Courtyard
CATEGORIES:All School
END:VEVENT
BEGIN:VEVENT
DTSTART;TZID=America/New_York:20240810T100000
DTEND;TZID=America/New_York:20240810T100000
DTSTAMP:20260420T161936
CREATED:20240709T140905Z
LAST-MODIFIED:20240726T134442Z
UID:24075-1723284000-1723284000@www.7hills.org
SUMMARY:L-Swing Into School for Grades PreK2-K
DESCRIPTION:
URL:https://www.7hills.org/event/l-swing-into-school-2/
CATEGORIES:All School
END:VEVENT
BEGIN:VEVENT
DTSTART;TZID=America/New_York:20240816T080000
DTEND;TZID=America/New_York:20240816T090000
DTSTAMP:20260420T161936
CREATED:20240709T140952Z
LAST-MODIFIED:20240709T140952Z
UID:24076-1723795200-1723798800@www.7hills.org
SUMMARY:M-6th Grade Parent Meeting (optional)
DESCRIPTION:
URL:https://www.7hills.org/event/m-6th-grade-parent-meeting-optional-4/
LOCATION:6th Grade Commons
CATEGORIES:All School
END:VEVENT
BEGIN:VEVENT
DTSTART;TZID=America/New_York:20240816T160000
DTEND;TZID=America/New_York:20240816T170000
DTSTAMP:20260420T161936
CREATED:20240726T141538Z
LAST-MODIFIED:20240726T141538Z
UID:24476-1723824000-1723827600@www.7hills.org
SUMMARY:L-New Students Grades 1-5 Meet Up
DESCRIPTION:
URL:https://www.7hills.org/event/l-new-students-grades-1-5-meet-up/
LOCATION:Pavilion
CATEGORIES:All School
END:VEVENT
BEGIN:VEVENT
DTSTART;TZID=America/New_York:20240817T100000
DTEND;TZID=America/New_York:20240817T120000
DTSTAMP:20260420T161936
CREATED:20240709T140710Z
LAST-MODIFIED:20240709T140710Z
UID:24072-1723888800-1723896000@www.7hills.org
SUMMARY:U-Optional Common App Bootcamp for Seniors
DESCRIPTION:
URL:https://www.7hills.org/event/u-optional-common-app-bootcamp-for-seniors-7/
LOCATION:Founders Hall\, The Seven Hills School\, 5400 Red Bank Road\, Cincinnati\, OH\, 45227\, United States
CATEGORIES:All School
END:VEVENT
BEGIN:VEVENT
DTSTART;TZID=America/New_York:20240819T123000
DTEND;TZID=America/New_York:20240819T130000
DTSTAMP:20260420T161936
CREATED:20240709T141029Z
LAST-MODIFIED:20240709T141029Z
UID:24077-1724070600-1724072400@www.7hills.org
SUMMARY:D-Student Welcome
DESCRIPTION:
URL:https://www.7hills.org/event/d-student-welcome-2/
LOCATION:Doherty Courtyard
CATEGORIES:All School
END:VEVENT
BEGIN:VEVENT
DTSTART;TZID=America/New_York:20240819T130000
DTEND;TZID=America/New_York:20240819T143000
DTSTAMP:20260420T161936
CREATED:20240709T141106Z
LAST-MODIFIED:20240709T141106Z
UID:24078-1724072400-1724077800@www.7hills.org
SUMMARY:D-Parent Community Summer Social
DESCRIPTION:
URL:https://www.7hills.org/event/d-parent-community-summer-social/
LOCATION:Doherty Courtyard
CATEGORIES:All School
END:VEVENT
BEGIN:VEVENT
DTSTART;TZID=America/New_York:20240819T180000
DTEND;TZID=America/New_York:20240819T210000
DTSTAMP:20260420T161936
CREATED:20240709T141737Z
LAST-MODIFIED:20240709T141737Z
UID:24079-1724090400-1724101200@www.7hills.org
SUMMARY:TSHS-Parent Community Volunteer Training
DESCRIPTION:
URL:https://www.7hills.org/event/tshs-parent-community-volunteer-training/
LOCATION:Hillsdale Commons\, 5400 Red Bank Road\, Cincinnati\, OH\, 45227\, United States
CATEGORIES:All School
END:VEVENT
BEGIN:VEVENT
DTSTART;TZID=America/New_York:20240820T130000
DTEND;TZID=America/New_York:20240820T140000
DTSTAMP:20260420T161936
CREATED:20240709T141835Z
LAST-MODIFIED:20240709T141835Z
UID:24080-1724158800-1724162400@www.7hills.org
SUMMARY:L-Meet the Teacher for Grades 2-5
DESCRIPTION:Meet the Teacher for Grades PreK-1st grade is by appointment
URL:https://www.7hills.org/event/l-meet-the-teacher-for-grades-2-5/
CATEGORIES:All School
END:VEVENT
BEGIN:VEVENT
DTSTART;TZID=America/New_York:20240820T130000
DTEND;TZID=America/New_York:20240820T150000
DTSTAMP:20260420T161936
CREATED:20240709T141953Z
LAST-MODIFIED:20240709T141953Z
UID:24082-1724158800-1724166000@www.7hills.org
SUMMARY:L-Parent Community Meet-Up
DESCRIPTION:
URL:https://www.7hills.org/event/l-parent-community-meet-up-2/
LOCATION:Pavilion
CATEGORIES:All School
END:VEVENT
BEGIN:VEVENT
DTSTART;TZID=America/New_York:20240820T130000
DTEND;TZID=America/New_York:20240820T150000
DTSTAMP:20260420T161936
CREATED:20240709T142019Z
LAST-MODIFIED:20240709T142019Z
UID:24083-1724158800-1724166000@www.7hills.org
SUMMARY:M-New Student Orientation
DESCRIPTION:
URL:https://www.7hills.org/event/m-new-student-orientation-5/
CATEGORIES:All School
END:VEVENT
BEGIN:VEVENT
DTSTART;TZID=America/New_York:20240820T130000
DTEND;TZID=America/New_York:20240820T151500
DTSTAMP:20260420T161936
CREATED:20240709T142103Z
LAST-MODIFIED:20240709T142103Z
UID:24084-1724158800-1724166900@www.7hills.org
SUMMARY:U-9th Grade & New Students Orientation
DESCRIPTION:
URL:https://www.7hills.org/event/u-9th-grade-new-students-orientation/
CATEGORIES:All School
END:VEVENT
BEGIN:VEVENT
DTSTART;VALUE=DATE:20240821
DTEND;VALUE=DATE:20240822
DTSTAMP:20260420T161936
CREATED:20240709T142231Z
LAST-MODIFIED:20240709T142231Z
UID:24087-1724198400-1724284799@www.7hills.org
SUMMARY:TSHS-First Day of School
DESCRIPTION:
URL:https://www.7hills.org/event/tshs-first-day-of-school-6/
CATEGORIES:All School
END:VEVENT
BEGIN:VEVENT
DTSTART;TZID=America/New_York:20240821T083000
DTEND;TZID=America/New_York:20240821T093000
DTSTAMP:20260420T161936
CREATED:20240709T142140Z
LAST-MODIFIED:20240709T142140Z
UID:24085-1724229000-1724232600@www.7hills.org
SUMMARY:D-Parent Community Coffee
DESCRIPTION:
URL:https://www.7hills.org/event/d-parent-community-coffee-2/
LOCATION:Doherty Courtyard
CATEGORIES:All School
END:VEVENT
BEGIN:VEVENT
DTSTART;TZID=America/New_York:20240821T093000
DTEND;TZID=America/New_York:20240821T103000
DTSTAMP:20260420T161936
CREATED:20240709T142213Z
LAST-MODIFIED:20240709T142213Z
UID:24086-1724232600-1724236200@www.7hills.org
SUMMARY:TSHS-Grades 4-12 Opening Assembly
DESCRIPTION:
URL:https://www.7hills.org/event/tshs-grades-4-12-opening-assembly-3/
LOCATION:Kalnow Gym\, 5400 Red Bank Road\, Cincinnati\, Ohio\, 45227
CATEGORIES:All School
END:VEVENT
BEGIN:VEVENT
DTSTART;TZID=America/New_York:20240822T083000
DTEND;TZID=America/New_York:20240822T093000
DTSTAMP:20260420T161936
CREATED:20240709T142320Z
LAST-MODIFIED:20240709T142320Z
UID:24088-1724315400-1724319000@www.7hills.org
SUMMARY:M-6th Grade & New Parents Meeting on Social Media
DESCRIPTION:
URL:https://www.7hills.org/event/m-6th-grade-new-parents-meeting-on-social-media-5/
CATEGORIES:All School
END:VEVENT
BEGIN:VEVENT
DTSTART;TZID=America/New_York:20240822T174500
DTEND;TZID=America/New_York:20240822T174500
DTSTAMP:20260420T161936
CREATED:20240709T145420Z
LAST-MODIFIED:20240709T145420Z
UID:24135-1724348700-1724348700@www.7hills.org
SUMMARY:L-Parent Night
DESCRIPTION:
URL:https://www.7hills.org/event/l-parent-night-5/
CATEGORIES:All School
END:VEVENT
BEGIN:VEVENT
DTSTART;TZID=America/New_York:20240822T183000
DTEND;TZID=America/New_York:20240822T183000
DTSTAMP:20260420T161936
CREATED:20240709T142551Z
LAST-MODIFIED:20240709T142711Z
UID:24092-1724351400-1724351400@www.7hills.org
SUMMARY:D-Parent Night
DESCRIPTION:
URL:https://www.7hills.org/event/l-parent-night-4/
CATEGORIES:All School
END:VEVENT
BEGIN:VEVENT
DTSTART;VALUE=DATE:20240823
DTEND;VALUE=DATE:20240824
DTSTAMP:20260420T161936
CREATED:20240709T142809Z
LAST-MODIFIED:20240709T142809Z
UID:24094-1724371200-1724457599@www.7hills.org
SUMMARY:TSHS-Show Your Spirit! Spirit Wear Day
DESCRIPTION:
URL:https://www.7hills.org/event/tshs-show-your-spirit-spirit-wear-day/
CATEGORIES:All School
END:VEVENT
BEGIN:VEVENT
DTSTART;VALUE=DATE:20240824
DTEND;VALUE=DATE:20240825
DTSTAMP:20260420T161936
CREATED:20240709T142838Z
LAST-MODIFIED:20240709T142838Z
UID:24095-1724457600-1724543999@www.7hills.org
SUMMARY:U-SATs (off campus)
DESCRIPTION:
URL:https://www.7hills.org/event/u-sats-off-campus-4/
CATEGORIES:All School
END:VEVENT
BEGIN:VEVENT
DTSTART;TZID=America/New_York:20240826T180000
DTEND;TZID=America/New_York:20240826T183000
DTSTAMP:20260420T161936
CREATED:20240709T143733Z
LAST-MODIFIED:20240709T143733Z
UID:24110-1724695200-1724697000@www.7hills.org
SUMMARY:U-9th Grade Parent Meeting
DESCRIPTION:
URL:https://www.7hills.org/event/u-9th-grade-parent-meeting-3/
LOCATION:Schiff Center
CATEGORIES:All School
END:VEVENT
BEGIN:VEVENT
DTSTART;TZID=America/New_York:20240826T183000
DTEND;TZID=America/New_York:20240826T183000
DTSTAMP:20260420T161936
CREATED:20240709T143805Z
LAST-MODIFIED:20240709T143805Z
UID:24111-1724697000-1724697000@www.7hills.org
SUMMARY:U-Parent Night
DESCRIPTION:
URL:https://www.7hills.org/event/u-parent-night-4/
LOCATION:Schiff Center
CATEGORIES:All School
END:VEVENT
BEGIN:VEVENT
DTSTART;VALUE=DATE:20240827
DTEND;VALUE=DATE:20240828
DTSTAMP:20260420T161936
CREATED:20240709T143921Z
LAST-MODIFIED:20240802T005047Z
UID:24113-1724716800-1724803199@www.7hills.org
SUMMARY:L-PreK & K Student & Class Picture Day
DESCRIPTION:
URL:https://www.7hills.org/event/l-prek-k-student-class-picture-day-3/
CATEGORIES:All School
END:VEVENT
BEGIN:VEVENT
DTSTART;TZID=America/New_York:20240827T171500
DTEND;TZID=America/New_York:20240827T174500
DTSTAMP:20260420T161936
CREATED:20240709T142407Z
LAST-MODIFIED:20240709T142407Z
UID:24089-1724778900-1724780700@www.7hills.org
SUMMARY:M-6th Grade & New Parents Meeting on Social Media
DESCRIPTION:
URL:https://www.7hills.org/event/m-6th-grade-new-parents-meeting-on-social-media-6/
CATEGORIES:All School
END:VEVENT
BEGIN:VEVENT
DTSTART;TZID=America/New_York:20240827T180000
DTEND;TZID=America/New_York:20240827T180000
DTSTAMP:20260420T161936
CREATED:20240709T142515Z
LAST-MODIFIED:20240709T142515Z
UID:24091-1724781600-1724781600@www.7hills.org
SUMMARY:M-Parent Night
DESCRIPTION:
URL:https://www.7hills.org/event/m-parent-night-5/
CATEGORIES:All School
END:VEVENT
BEGIN:VEVENT
DTSTART;VALUE=DATE:20240828
DTEND;VALUE=DATE:20240829
DTSTAMP:20260420T161936
CREATED:20240709T145524Z
LAST-MODIFIED:20240802T004854Z
UID:24136-1724803200-1724889599@www.7hills.org
SUMMARY:L-Grades 1-5 Student & Class Picture Day
DESCRIPTION:
URL:https://www.7hills.org/event/l-grades-1-5-student-class-picture-day-3/
CATEGORIES:All School
END:VEVENT
BEGIN:VEVENT
DTSTART;TZID=America/New_York:20240828T183000
DTEND;TZID=America/New_York:20240828T203000
DTSTAMP:20260420T161936
CREATED:20240709T144620Z
LAST-MODIFIED:20240709T144620Z
UID:24121-1724869800-1724877000@www.7hills.org
SUMMARY:TSHS-Board of Trustees Meeting
DESCRIPTION:
URL:https://www.7hills.org/event/tshs-board-of-trustees-meeting-5/
LOCATION:Lotspeich Library
CATEGORIES:All School
END:VEVENT
BEGIN:VEVENT
DTSTART;TZID=America/New_York:20240828T190000
DTEND;TZID=America/New_York:20240828T190000
DTSTAMP:20260420T161936
CREATED:20240726T143105Z
LAST-MODIFIED:20240726T143105Z
UID:24477-1724871600-1724871600@www.7hills.org
SUMMARY:U-Performing Arts Trip Parent Meeting via Zoom
DESCRIPTION:
URL:https://www.7hills.org/event/u-performing-arts-trip-parent-meeting-via-zoom/
CATEGORIES:All School
END:VEVENT
BEGIN:VEVENT
DTSTART;VALUE=DATE:20240829
DTEND;VALUE=DATE:20240830
DTSTAMP:20260420T161936
CREATED:20240709T143848Z
LAST-MODIFIED:20240709T144012Z
UID:24112-1724889600-1724975999@www.7hills.org
SUMMARY:D-Grades PreK-5 Student & Class Picture Day
DESCRIPTION:
URL:https://www.7hills.org/event/l-grades-1-5-student-class-picture-day-2/
CATEGORIES:All School
END:VEVENT
BEGIN:VEVENT
DTSTART;VALUE=DATE:20240829
DTEND;VALUE=DATE:20240831
DTSTAMP:20260420T161936
CREATED:20240709T145126Z
LAST-MODIFIED:20240709T145126Z
UID:24132-1724889600-1725062399@www.7hills.org
SUMMARY:U-9th Grade Retreat
DESCRIPTION:
URL:https://www.7hills.org/event/u-9th-grade-retreat/
CATEGORIES:All School
END:VEVENT
END:VCALENDAR