BEGIN:VCALENDAR
VERSION:2.0
PRODID:-//Seven Hills School - ECPv6.15.20//NONSGML v1.0//EN
CALSCALE:GREGORIAN
METHOD:PUBLISH
X-WR-CALNAME:Seven Hills School
X-ORIGINAL-URL:https://www.7hills.org
X-WR-CALDESC:Events for Seven Hills School
REFRESH-INTERVAL;VALUE=DURATION:PT1H
X-Robots-Tag:noindex
X-PUBLISHED-TTL:PT1H
BEGIN:VTIMEZONE
TZID:America/New_York
BEGIN:DAYLIGHT
TZOFFSETFROM:-0500
TZOFFSETTO:-0400
TZNAME:EDT
DTSTART:20230312T070000
END:DAYLIGHT
BEGIN:STANDARD
TZOFFSETFROM:-0400
TZOFFSETTO:-0500
TZNAME:EST
DTSTART:20231105T060000
END:STANDARD
BEGIN:DAYLIGHT
TZOFFSETFROM:-0500
TZOFFSETTO:-0400
TZNAME:EDT
DTSTART:20240310T070000
END:DAYLIGHT
BEGIN:STANDARD
TZOFFSETFROM:-0400
TZOFFSETTO:-0500
TZNAME:EST
DTSTART:20241103T060000
END:STANDARD
BEGIN:DAYLIGHT
TZOFFSETFROM:-0500
TZOFFSETTO:-0400
TZNAME:EDT
DTSTART:20250309T070000
END:DAYLIGHT
BEGIN:STANDARD
TZOFFSETFROM:-0400
TZOFFSETTO:-0500
TZNAME:EST
DTSTART:20251102T060000
END:STANDARD
END:VTIMEZONE
BEGIN:VEVENT
DTSTART;VALUE=DATE:20240601
DTEND;VALUE=DATE:20240602
DTSTAMP:20260420T110558
CREATED:20230615T184407Z
LAST-MODIFIED:20230615T184407Z
UID:20729-1717200000-1717286399@www.7hills.org
SUMMARY:U-SATs (off campus)
DESCRIPTION:
URL:https://www.7hills.org/event/u-sats-off-campus-3-2024-06-01/
CATEGORIES:All School
END:VEVENT
BEGIN:VEVENT
DTSTART;TZID=America/New_York:20240601T140000
DTEND;TZID=America/New_York:20240601T160000
DTSTAMP:20260420T110558
CREATED:20230620T233424Z
LAST-MODIFIED:20240411T114754Z
UID:21094-1717250400-1717257600@www.7hills.org
SUMMARY:TSHS-SNAAP Year-End Celebration
DESCRIPTION:
URL:https://www.7hills.org/event/tshs-snaap-year-end-celebration-4/
LOCATION:Founders Hall\, The Seven Hills School\, 5400 Red Bank Road\, Cincinnati\, OH\, 45227\, United States
CATEGORIES:All School
END:VEVENT
BEGIN:VEVENT
DTSTART;VALUE=DATE:20240603
DTEND;VALUE=DATE:20240604
DTSTAMP:20260420T110558
CREATED:20230620T232736Z
LAST-MODIFIED:20230620T232736Z
UID:21083-1717372800-1717459199@www.7hills.org
SUMMARY:M-Last Day of Classes
DESCRIPTION:
URL:https://www.7hills.org/event/m-last-day-of-classes/
CATEGORIES:All School
END:VEVENT
BEGIN:VEVENT
DTSTART;TZID=America/New_York:20240603T084500
DTEND;TZID=America/New_York:20240603T100000
DTSTAMP:20260420T110558
CREATED:20230620T232815Z
LAST-MODIFIED:20230620T232815Z
UID:21084-1717404300-1717408800@www.7hills.org
SUMMARY:D-Grds 1-5 Closing Exercises
DESCRIPTION:
URL:https://www.7hills.org/event/d-grds-1-5-closing-exercises/
CATEGORIES:All School
END:VEVENT
BEGIN:VEVENT
DTSTART;TZID=America/New_York:20240603T101500
DTEND;TZID=America/New_York:20240603T113000
DTSTAMP:20260420T110558
CREATED:20230620T232849Z
LAST-MODIFIED:20230620T232849Z
UID:21085-1717409700-1717414200@www.7hills.org
SUMMARY:L-5th Grd Closing Exercises
DESCRIPTION:
URL:https://www.7hills.org/event/l-5th-grd-closing-exercises/
CATEGORIES:All School
END:VEVENT
BEGIN:VEVENT
DTSTART;TZID=America/New_York:20240603T190000
DTEND;TZID=America/New_York:20240603T213000
DTSTAMP:20260420T110558
CREATED:20230620T233007Z
LAST-MODIFIED:20230620T233007Z
UID:21087-1717441200-1717450200@www.7hills.org
SUMMARY:M-7th & 8th Grd Dance
DESCRIPTION:
URL:https://www.7hills.org/event/m-7th-8th-grd-dance/
CATEGORIES:All School
END:VEVENT
BEGIN:VEVENT
DTSTART;TZID=America/New_York:20240604T090000
DTEND;TZID=America/New_York:20240604T110000
DTSTAMP:20260420T110558
CREATED:20230620T232927Z
LAST-MODIFIED:20230620T232927Z
UID:21086-1717491600-1717498800@www.7hills.org
SUMMARY:M-8th Grd Closing Program & Reception
DESCRIPTION:
URL:https://www.7hills.org/event/m-8th-grd-closing-program-reception/
CATEGORIES:All School
END:VEVENT
BEGIN:VEVENT
DTSTART;TZID=America/New_York:20240605T110000
DTEND;TZID=America/New_York:20240605T120000
DTSTAMP:20260420T110558
CREATED:20230620T233040Z
LAST-MODIFIED:20230620T233040Z
UID:21088-1717585200-1717588800@www.7hills.org
SUMMARY:U-Graduation Rehearsal
DESCRIPTION:
URL:https://www.7hills.org/event/u-graduation-rehearsal-4/
CATEGORIES:All School
END:VEVENT
BEGIN:VEVENT
DTSTART;TZID=America/New_York:20240605T130000
DTEND;TZID=America/New_York:20240605T150000
DTSTAMP:20260420T110558
CREATED:20230620T233207Z
LAST-MODIFIED:20230620T233207Z
UID:21090-1717592400-1717599600@www.7hills.org
SUMMARY:U-Jrs Optional College Essay Writing Workshop
DESCRIPTION:
URL:https://www.7hills.org/event/u-jrs-optional-college-essay-writing-workshop/
CATEGORIES:All School
END:VEVENT
BEGIN:VEVENT
DTSTART;VALUE=DATE:20240606
DTEND;VALUE=DATE:20240607
DTSTAMP:20260420T110558
CREATED:20230620T233232Z
LAST-MODIFIED:20230620T233232Z
UID:21091-1717632000-1717718399@www.7hills.org
SUMMARY:U-Awards Day
DESCRIPTION:
URL:https://www.7hills.org/event/u-awards-day-4/
CATEGORIES:All School
END:VEVENT
BEGIN:VEVENT
DTSTART;VALUE=DATE:20240606
DTEND;VALUE=DATE:20240607
DTSTAMP:20260420T110558
CREATED:20230620T233257Z
LAST-MODIFIED:20230620T233257Z
UID:21092-1717632000-1717718399@www.7hills.org
SUMMARY:U-Exam Return & Review
DESCRIPTION:
URL:https://www.7hills.org/event/u-exam-return-review/
CATEGORIES:All School
END:VEVENT
BEGIN:VEVENT
DTSTART;TZID=America/New_York:20240606T120000
DTEND;TZID=America/New_York:20240606T120000
DTSTAMP:20260420T110558
CREATED:20230620T233335Z
LAST-MODIFIED:20230620T233335Z
UID:21093-1717675200-1717675200@www.7hills.org
SUMMARY:U-Early Dismissal at 12:00 p.m.
DESCRIPTION:
URL:https://www.7hills.org/event/u-early-dismissal-at-1200-p-m/
CATEGORIES:All School
END:VEVENT
BEGIN:VEVENT
DTSTART;TZID=America/New_York:20240607T180000
DTEND;TZID=America/New_York:20240607T193000
DTSTAMP:20260420T110558
CREATED:20230620T233117Z
LAST-MODIFIED:20230620T233117Z
UID:21089-1717783200-1717788600@www.7hills.org
SUMMARY:U-Graduation
DESCRIPTION:
URL:https://www.7hills.org/event/u-graduation-4/
CATEGORIES:All School
END:VEVENT
BEGIN:VEVENT
DTSTART;VALUE=DATE:20240608
DTEND;VALUE=DATE:20240609
DTSTAMP:20260420T110558
CREATED:20230615T191338Z
LAST-MODIFIED:20230615T191338Z
UID:20782-1717804800-1717891199@www.7hills.org
SUMMARY:U-ACTs (off campus)
DESCRIPTION:
URL:https://www.7hills.org/event/u-acts-off-campus-7-2024-06-08/
CATEGORIES:All School
END:VEVENT
BEGIN:VEVENT
DTSTART;VALUE=DATE:20240616
DTEND;VALUE=DATE:20240617
DTSTAMP:20260420T110558
CREATED:20230620T233455Z
LAST-MODIFIED:20230620T233455Z
UID:21095-1718496000-1718582399@www.7hills.org
SUMMARY:Father's Day
DESCRIPTION:
URL:https://www.7hills.org/event/fathers-day-4/
CATEGORIES:All School
END:VEVENT
BEGIN:VEVENT
DTSTART;VALUE=DATE:20240617
DTEND;VALUE=DATE:20240618
DTSTAMP:20260420T110559
CREATED:20230620T233520Z
LAST-MODIFIED:20231030T144835Z
UID:21096-1718582400-1718668799@www.7hills.org
SUMMARY:TSHS-Summer Program Begins
DESCRIPTION:
URL:https://www.7hills.org/event/tshs-summer-program-begins-5/
CATEGORIES:All School
END:VEVENT
BEGIN:VEVENT
DTSTART;VALUE=DATE:20240619
DTEND;VALUE=DATE:20240620
DTSTAMP:20260420T110559
CREATED:20230620T233557Z
LAST-MODIFIED:20230620T233557Z
UID:21097-1718755200-1718841599@www.7hills.org
SUMMARY:TSHS-All Buildings and Offices Closed
DESCRIPTION:
URL:https://www.7hills.org/event/tshs-all-buildings-and-offices-closed/
CATEGORIES:All School
END:VEVENT
BEGIN:VEVENT
DTSTART;VALUE=DATE:20240619
DTEND;VALUE=DATE:20240620
DTSTAMP:20260420T110559
CREATED:20230620T233704Z
LAST-MODIFIED:20230620T233704Z
UID:21098-1718755200-1718841599@www.7hills.org
SUMMARY:Juneteenth
DESCRIPTION:
URL:https://www.7hills.org/event/juneteenth-2/
CATEGORIES:All School
END:VEVENT
BEGIN:VEVENT
DTSTART;VALUE=DATE:20240704
DTEND;VALUE=DATE:20240705
DTSTAMP:20260420T110559
CREATED:20230620T233735Z
LAST-MODIFIED:20230620T233735Z
UID:21099-1720051200-1720137599@www.7hills.org
SUMMARY:Independence Day
DESCRIPTION:
URL:https://www.7hills.org/event/independence-day-3/
CATEGORIES:All School
END:VEVENT
BEGIN:VEVENT
DTSTART;VALUE=DATE:20240704
DTEND;VALUE=DATE:20240705
DTSTAMP:20260420T110559
CREATED:20230620T233805Z
LAST-MODIFIED:20230620T233805Z
UID:21100-1720051200-1720137599@www.7hills.org
SUMMARY:TSHS-All Buildings and Offices Closed
DESCRIPTION:
URL:https://www.7hills.org/event/tshs-all-buildings-and-offices-closed-2/
CATEGORIES:All School
END:VEVENT
BEGIN:VEVENT
DTSTART;VALUE=DATE:20240713
DTEND;VALUE=DATE:20240714
DTSTAMP:20260420T110559
CREATED:20230615T191338Z
LAST-MODIFIED:20230615T191338Z
UID:20783-1720828800-1720915199@www.7hills.org
SUMMARY:U-ACTs (off campus)
DESCRIPTION:
URL:https://www.7hills.org/event/u-acts-off-campus-7-2024-07-13/
CATEGORIES:All School
END:VEVENT
BEGIN:VEVENT
DTSTART;TZID=America/New_York:20240801T190000
DTEND;TZID=America/New_York:20240801T190000
DTSTAMP:20260420T110559
CREATED:20240709T140521Z
LAST-MODIFIED:20240709T140521Z
UID:24069-1722538800-1722538800@www.7hills.org
SUMMARY:TSHS-New Parent Orientation via Zoom
DESCRIPTION:
URL:https://www.7hills.org/event/tshs-new-parent-orientation-via-zoom/
CATEGORIES:All School
END:VEVENT
BEGIN:VEVENT
DTSTART;VALUE=DATE:20240803
DTEND;VALUE=DATE:20240804
DTSTAMP:20260420T110559
CREATED:20240709T140559Z
LAST-MODIFIED:20240709T140559Z
UID:24070-1722643200-1722729599@www.7hills.org
SUMMARY:TSHS-Sam Dillard Soccer Tournament
DESCRIPTION:
URL:https://www.7hills.org/event/tshs-sam-dillard-soccer-tournament-5/
CATEGORIES:All School
END:VEVENT
BEGIN:VEVENT
DTSTART;TZID=America/New_York:20240807T100000
DTEND;TZID=America/New_York:20240807T120000
DTSTAMP:20260420T110559
CREATED:20240709T140646Z
LAST-MODIFIED:20240709T140646Z
UID:24071-1723024800-1723032000@www.7hills.org
SUMMARY:U-Optional Common App Bootcamp for Seniors
DESCRIPTION:
URL:https://www.7hills.org/event/u-optional-common-app-bootcamp-for-seniors-6/
LOCATION:Founders Hall\, The Seven Hills School\, 5400 Red Bank Road\, Cincinnati\, OH\, 45227\, United States
CATEGORIES:All School
END:VEVENT
BEGIN:VEVENT
DTSTART;VALUE=DATE:20240809
DTEND;VALUE=DATE:20240810
DTSTAMP:20260420T110559
CREATED:20240709T140739Z
LAST-MODIFIED:20240709T140739Z
UID:24073-1723161600-1723247999@www.7hills.org
SUMMARY:TSHS-Summer Program Ends
DESCRIPTION:
URL:https://www.7hills.org/event/tshs-summer-program-ends-5/
CATEGORIES:All School
END:VEVENT
BEGIN:VEVENT
DTSTART;TZID=America/New_York:20240810T093000
DTEND;TZID=America/New_York:20240810T093000
DTSTAMP:20260420T110559
CREATED:20240709T140817Z
LAST-MODIFIED:20240726T134459Z
UID:24074-1723282200-1723282200@www.7hills.org
SUMMARY:D-Swing Into School for Grades PreK2-K
DESCRIPTION:
URL:https://www.7hills.org/event/d-swing-into-school-2/
LOCATION:Doherty Courtyard
CATEGORIES:All School
END:VEVENT
BEGIN:VEVENT
DTSTART;TZID=America/New_York:20240810T100000
DTEND;TZID=America/New_York:20240810T100000
DTSTAMP:20260420T110559
CREATED:20240709T140905Z
LAST-MODIFIED:20240726T134442Z
UID:24075-1723284000-1723284000@www.7hills.org
SUMMARY:L-Swing Into School for Grades PreK2-K
DESCRIPTION:
URL:https://www.7hills.org/event/l-swing-into-school-2/
CATEGORIES:All School
END:VEVENT
BEGIN:VEVENT
DTSTART;TZID=America/New_York:20240816T080000
DTEND;TZID=America/New_York:20240816T090000
DTSTAMP:20260420T110559
CREATED:20240709T140952Z
LAST-MODIFIED:20240709T140952Z
UID:24076-1723795200-1723798800@www.7hills.org
SUMMARY:M-6th Grade Parent Meeting (optional)
DESCRIPTION:
URL:https://www.7hills.org/event/m-6th-grade-parent-meeting-optional-4/
LOCATION:6th Grade Commons
CATEGORIES:All School
END:VEVENT
BEGIN:VEVENT
DTSTART;TZID=America/New_York:20240816T160000
DTEND;TZID=America/New_York:20240816T170000
DTSTAMP:20260420T110559
CREATED:20240726T141538Z
LAST-MODIFIED:20240726T141538Z
UID:24476-1723824000-1723827600@www.7hills.org
SUMMARY:L-New Students Grades 1-5 Meet Up
DESCRIPTION:
URL:https://www.7hills.org/event/l-new-students-grades-1-5-meet-up/
LOCATION:Pavilion
CATEGORIES:All School
END:VEVENT
BEGIN:VEVENT
DTSTART;TZID=America/New_York:20240817T100000
DTEND;TZID=America/New_York:20240817T120000
DTSTAMP:20260420T110559
CREATED:20240709T140710Z
LAST-MODIFIED:20240709T140710Z
UID:24072-1723888800-1723896000@www.7hills.org
SUMMARY:U-Optional Common App Bootcamp for Seniors
DESCRIPTION:
URL:https://www.7hills.org/event/u-optional-common-app-bootcamp-for-seniors-7/
LOCATION:Founders Hall\, The Seven Hills School\, 5400 Red Bank Road\, Cincinnati\, OH\, 45227\, United States
CATEGORIES:All School
END:VEVENT
END:VCALENDAR