BEGIN:VCALENDAR
VERSION:2.0
PRODID:-//Seven Hills School - ECPv6.15.20//NONSGML v1.0//EN
CALSCALE:GREGORIAN
METHOD:PUBLISH
X-WR-CALNAME:Seven Hills School
X-ORIGINAL-URL:https://www.7hills.org
X-WR-CALDESC:Events for Seven Hills School
REFRESH-INTERVAL;VALUE=DURATION:PT1H
X-Robots-Tag:noindex
X-PUBLISHED-TTL:PT1H
BEGIN:VTIMEZONE
TZID:America/New_York
BEGIN:DAYLIGHT
TZOFFSETFROM:-0500
TZOFFSETTO:-0400
TZNAME:EDT
DTSTART:20240310T070000
END:DAYLIGHT
BEGIN:STANDARD
TZOFFSETFROM:-0400
TZOFFSETTO:-0500
TZNAME:EST
DTSTART:20241103T060000
END:STANDARD
BEGIN:DAYLIGHT
TZOFFSETFROM:-0500
TZOFFSETTO:-0400
TZNAME:EDT
DTSTART:20250309T070000
END:DAYLIGHT
BEGIN:STANDARD
TZOFFSETFROM:-0400
TZOFFSETTO:-0500
TZNAME:EST
DTSTART:20251102T060000
END:STANDARD
BEGIN:DAYLIGHT
TZOFFSETFROM:-0500
TZOFFSETTO:-0400
TZNAME:EDT
DTSTART:20260308T070000
END:DAYLIGHT
BEGIN:STANDARD
TZOFFSETFROM:-0400
TZOFFSETTO:-0500
TZNAME:EST
DTSTART:20261101T060000
END:STANDARD
END:VTIMEZONE
BEGIN:VEVENT
DTSTART;VALUE=DATE:20250418
DTEND;VALUE=DATE:20250419
DTSTAMP:20260422T050914
CREATED:20240710T152014Z
LAST-MODIFIED:20240710T152014Z
UID:24389-1744934400-1745020799@www.7hills.org
SUMMARY:Good Friday
DESCRIPTION:
URL:https://www.7hills.org/event/good-friday-4/
CATEGORIES:All School
END:VEVENT
BEGIN:VEVENT
DTSTART;TZID=America/New_York:20250419T180000
DTEND;TZID=America/New_York:20250419T210000
DTSTAMP:20260422T050914
CREATED:20240216T145524Z
LAST-MODIFIED:20250227T145750Z
UID:22964-1745085600-1745096400@www.7hills.org
SUMMARY:TSHS-SNAAP Game Night
DESCRIPTION:
URL:https://www.7hills.org/event/tshs-snaap-game-night-2/
LOCATION:Schiff Center Lobby
CATEGORIES:All School
END:VEVENT
BEGIN:VEVENT
DTSTART;VALUE=DATE:20250420
DTEND;VALUE=DATE:20250421
DTSTAMP:20260422T050914
CREATED:20240710T151954Z
LAST-MODIFIED:20240710T151954Z
UID:24388-1745107200-1745193599@www.7hills.org
SUMMARY:Easter
DESCRIPTION:
URL:https://www.7hills.org/event/easter-5/
CATEGORIES:All School
END:VEVENT
BEGIN:VEVENT
DTSTART;VALUE=DATE:20250421
DTEND;VALUE=DATE:20250423
DTSTAMP:20260422T050914
CREATED:20250402T124342Z
LAST-MODIFIED:20250402T124342Z
UID:26314-1745193600-1745366399@www.7hills.org
SUMMARY:Lotspeich-4th Grade at Camp Kern
DESCRIPTION:
URL:https://www.7hills.org/event/lotspeich-4th-grade-at-camp-kern/
CATEGORIES:All School
END:VEVENT
BEGIN:VEVENT
DTSTART;TZID=America/New_York:20250421T120000
DTEND;TZID=America/New_York:20250421T130000
DTSTAMP:20260422T050914
CREATED:20240710T150550Z
LAST-MODIFIED:20250224T145543Z
UID:24360-1745236800-1745240400@www.7hills.org
SUMMARY:TSHS-Past Board Presidents Luncheon
DESCRIPTION:
URL:https://www.7hills.org/event/tshs-past-board-presidents-luncheon-6/
LOCATION:Heffner Alumni Conference Room
CATEGORIES:All School
END:VEVENT
BEGIN:VEVENT
DTSTART;TZID=America/New_York:20250422T183000
DTEND;TZID=America/New_York:20250422T193000
DTSTAMP:20260422T050914
CREATED:20250226T151701Z
LAST-MODIFIED:20250226T151701Z
UID:25621-1745346600-1745350200@www.7hills.org
SUMMARY:U-China Trip Parent Meeting via Zoom
DESCRIPTION:
URL:https://www.7hills.org/event/u-china-trip-parent-meeting-via-zoom/
CATEGORIES:All School
END:VEVENT
BEGIN:VEVENT
DTSTART;TZID=America/New_York:20250423T083000
DTEND;TZID=America/New_York:20250423T213000
DTSTAMP:20260422T050914
CREATED:20250408T172651Z
LAST-MODIFIED:20250408T172702Z
UID:26329-1745397000-1745443800@www.7hills.org
SUMMARY:U-Parent Community Meeting
DESCRIPTION:
URL:https://www.7hills.org/event/u-parent-community-meeting-5/
LOCATION:Hillsdale Campus\, 5400 Red Bank Road\, Cincinnati\, OH\, 45227\, United States
CATEGORIES:All School
END:VEVENT
BEGIN:VEVENT
DTSTART;VALUE=DATE:20250424
DTEND;VALUE=DATE:20250426
DTSTAMP:20260422T050914
CREATED:20240710T152139Z
LAST-MODIFIED:20240710T152139Z
UID:24393-1745452800-1745625599@www.7hills.org
SUMMARY:L-5th Grade Trip to Dearborn
DESCRIPTION:
URL:https://www.7hills.org/event/l-5th-grade-trip-to-dearborn-3/
CATEGORIES:All School
END:VEVENT
BEGIN:VEVENT
DTSTART;TZID=America/New_York:20250424T113000
DTEND;TZID=America/New_York:20250424T113000
DTSTAMP:20260422T050914
CREATED:20250314T120346Z
LAST-MODIFIED:20250314T120346Z
UID:26143-1745494200-1745494200@www.7hills.org
SUMMARY:U-Athletics College Signing Day
DESCRIPTION:
URL:https://www.7hills.org/event/u-athletics-college-signing-day/
LOCATION:Kalnow Gym\, 5400 Red Bank Road\, Cincinnati\, Ohio\, 45227
CATEGORIES:All School,Athletics
END:VEVENT
BEGIN:VEVENT
DTSTART;TZID=America/New_York:20250424T160000
DTEND;TZID=America/New_York:20250424T160000
DTSTAMP:20260422T050914
CREATED:20240710T134151Z
LAST-MODIFIED:20240710T134151Z
UID:24278-1745510400-1745510400@www.7hills.org
SUMMARY:U-Play Invited Preview
DESCRIPTION:
URL:https://www.7hills.org/event/u-play-invited-preview-4/
LOCATION:Schiff Center
CATEGORIES:All School
END:VEVENT
BEGIN:VEVENT
DTSTART;TZID=America/New_York:20250425T080000
DTEND;TZID=America/New_York:20250425T170000
DTSTAMP:20260422T050914
CREATED:20240710T152236Z
LAST-MODIFIED:20240710T152236Z
UID:24394-1745568000-1745600400@www.7hills.org
SUMMARY:U-New Student Reception
DESCRIPTION:
URL:https://www.7hills.org/event/u-new-student-reception-2/
LOCATION:Andress Art Gallery
CATEGORIES:All School
END:VEVENT
BEGIN:VEVENT
DTSTART;TZID=America/New_York:20250425T193000
DTEND;TZID=America/New_York:20250425T193000
DTSTAMP:20260422T050914
CREATED:20240710T140723Z
LAST-MODIFIED:20240710T140723Z
UID:24283-1745609400-1745609400@www.7hills.org
SUMMARY:U-Play
DESCRIPTION:
URL:https://www.7hills.org/event/u-play-22/
LOCATION:Schiff Center
CATEGORIES:All School
END:VEVENT
BEGIN:VEVENT
DTSTART;TZID=America/New_York:20250426T140000
DTEND;TZID=America/New_York:20250426T140000
DTSTAMP:20260422T050914
CREATED:20240710T141118Z
LAST-MODIFIED:20240710T141118Z
UID:24286-1745676000-1745676000@www.7hills.org
SUMMARY:U-Play
DESCRIPTION:
URL:https://www.7hills.org/event/u-play-25/
LOCATION:Schiff Center
CATEGORIES:All School
END:VEVENT
BEGIN:VEVENT
DTSTART;VALUE=DATE:20250428
DTEND;VALUE=DATE:20250429
DTSTAMP:20260422T050914
CREATED:20240709T180553Z
LAST-MODIFIED:20240709T180553Z
UID:24195-1745798400-1745884799@www.7hills.org
SUMMARY:TSHS-Grades 1-8 Fall Sports Registration Begins
DESCRIPTION:
URL:https://www.7hills.org/event/tshs-grades-1-8-fall-sports-registration-begins-2/
CATEGORIES:All School
END:VEVENT
BEGIN:VEVENT
DTSTART;VALUE=DATE:20250428
DTEND;VALUE=DATE:20250430
DTSTAMP:20260422T050914
CREATED:20240710T152255Z
LAST-MODIFIED:20240712T134629Z
UID:24395-1745798400-1745971199@www.7hills.org
SUMMARY:D/L-Author Visit
DESCRIPTION:
URL:https://www.7hills.org/event/d-l-author-visit-2/
CATEGORIES:All School
END:VEVENT
BEGIN:VEVENT
DTSTART;TZID=America/New_York:20250428T115000
DTEND;TZID=America/New_York:20250428T121500
DTSTAMP:20260422T050914
CREATED:20240709T182013Z
LAST-MODIFIED:20240709T182013Z
UID:24206-1745841000-1745842500@www.7hills.org
SUMMARY:U-Alumni Speaker Series
DESCRIPTION:
URL:https://www.7hills.org/event/u-alumni-speaker-series-4/
LOCATION:Schiff Center
CATEGORIES:All School
END:VEVENT
BEGIN:VEVENT
DTSTART;TZID=America/New_York:20250429T111000
DTEND;TZID=America/New_York:20250429T121500
DTSTAMP:20260422T050914
CREATED:20250403T143654Z
LAST-MODIFIED:20250403T143757Z
UID:26321-1745925000-1745928900@www.7hills.org
SUMMARY:U-Latin Honor Society Lunch
DESCRIPTION:
URL:https://www.7hills.org/event/u-latin-honor-society-lunch/
LOCATION:Young Family Library
CATEGORIES:All School
END:VEVENT
BEGIN:VEVENT
DTSTART;TZID=America/New_York:20250429T190000
DTEND;TZID=America/New_York:20250429T200000
DTSTAMP:20260422T050914
CREATED:20250402T141701Z
LAST-MODIFIED:20250402T141701Z
UID:26316-1745953200-1745956800@www.7hills.org
SUMMARY:Upper-Chorus Trip Parent Meeting
DESCRIPTION:
URL:https://www.7hills.org/event/upper-chorus-trip-parent-meeting/
LOCATION:Schiff Center
CATEGORIES:All School
END:VEVENT
BEGIN:VEVENT
DTSTART;TZID=America/New_York:20250430T090000
DTEND;TZID=America/New_York:20250430T100000
DTSTAMP:20260422T050914
CREATED:20250408T132254Z
LAST-MODIFIED:20250408T132254Z
UID:26328-1746003600-1746007200@www.7hills.org
SUMMARY:Admissions-Walk & Talk for Grades 6-12
DESCRIPTION:
URL:https://www.7hills.org/event/admissions-walk-talk-for-grades-6-12-3/
CATEGORIES:Admission,All School
END:VEVENT
BEGIN:VEVENT
DTSTART;TZID=America/New_York:20250501T100000
DTEND;TZID=America/New_York:20250501T113000
DTSTAMP:20260422T050914
CREATED:20240710T125828Z
LAST-MODIFIED:20240710T125828Z
UID:24232-1746093600-1746099000@www.7hills.org
SUMMARY:TSHS-Advisory Council Meeting
DESCRIPTION:
URL:https://www.7hills.org/event/tshs-advisory-council-meeting-11/
LOCATION:Lotspeich Library\, 5400 Red Bank Road\, Cincinnati\, Ohio\, 45227\, United States
CATEGORIES:All School
END:VEVENT
BEGIN:VEVENT
DTSTART;TZID=America/New_York:20250501T183000
DTEND;TZID=America/New_York:20250501T200000
DTSTAMP:20260422T050914
CREATED:20250416T181730Z
LAST-MODIFIED:20250416T181730Z
UID:26342-1746124200-1746129600@www.7hills.org
SUMMARY:M-MS Parent Meeting with Renee Mattson
DESCRIPTION:Join Seven Hills Middle School Parent Community for an engaging session designed to sustain and support your Middle Schooler\, led by Renee Mattson\, Ph.D. Dr. Renee Mattson is a seasoned educator with nearly 30 years of experience in education and parenting support.
URL:https://www.7hills.org/event/m-ms-parent-meeting-with-renee-mattson/
LOCATION:6th Grade Commons
CATEGORIES:All School
END:VEVENT
BEGIN:VEVENT
DTSTART;TZID=America/New_York:20250502T081500
DTEND;TZID=America/New_York:20250502T211500
DTSTAMP:20260422T050914
CREATED:20240710T152614Z
LAST-MODIFIED:20240710T152614Z
UID:24396-1746173700-1746220500@www.7hills.org
SUMMARY:M-Parent Community Meeting
DESCRIPTION:
URL:https://www.7hills.org/event/m-parent-community-meeting-6/
LOCATION:6th Grade Commons
CATEGORIES:All School
END:VEVENT
BEGIN:VEVENT
DTSTART;TZID=America/New_York:20250502T170000
DTEND;TZID=America/New_York:20250502T170000
DTSTAMP:20260422T050914
CREATED:20240710T152639Z
LAST-MODIFIED:20240710T152639Z
UID:24397-1746205200-1746205200@www.7hills.org
SUMMARY:D-Carnival
DESCRIPTION:
URL:https://www.7hills.org/event/d-carnival-4/
CATEGORIES:All School
END:VEVENT
BEGIN:VEVENT
DTSTART;TZID=America/New_York:20250502T173000
DTEND;TZID=America/New_York:20250502T173000
DTSTAMP:20260422T050914
CREATED:20240710T152708Z
LAST-MODIFIED:20240710T152708Z
UID:24398-1746207000-1746207000@www.7hills.org
SUMMARY:L-May Fete
DESCRIPTION:
URL:https://www.7hills.org/event/l-may-fete-4/
LOCATION:Kalnow Gym\, 5400 Red Bank Road\, Cincinnati\, Ohio\, 45227
CATEGORIES:All School
END:VEVENT
BEGIN:VEVENT
DTSTART;VALUE=DATE:20250503
DTEND;VALUE=DATE:20250504
DTSTAMP:20260422T050914
CREATED:20240709T143054Z
LAST-MODIFIED:20240709T143609Z
UID:24100-1746230400-1746316799@www.7hills.org
SUMMARY:U-SATs (off campus)
DESCRIPTION:
URL:https://www.7hills.org/event/u-sats-off-campus-9/
CATEGORIES:All School
END:VEVENT
BEGIN:VEVENT
DTSTART;TZID=America/New_York:20250503T140000
DTEND;TZID=America/New_York:20250503T160000
DTSTAMP:20260422T050914
CREATED:20240710T153806Z
LAST-MODIFIED:20241024T173256Z
UID:24419-1746280800-1746288000@www.7hills.org
SUMMARY:TSHS-SNAAP Year-End Celebration
DESCRIPTION:
URL:https://www.7hills.org/event/tshs-snaap-year-end-celebration-5/
LOCATION:Founders Hall\, The Seven Hills School\, 5400 Red Bank Road\, Cincinnati\, OH\, 45227\, United States
CATEGORIES:All School
END:VEVENT
BEGIN:VEVENT
DTSTART;TZID=America/New_York:20250504T140000
DTEND;TZID=America/New_York:20250504T150000
DTSTAMP:20260422T050914
CREATED:20240710T142333Z
LAST-MODIFIED:20240710T142333Z
UID:24302-1746367200-1746370800@www.7hills.org
SUMMARY:M-Instrumental Concert
DESCRIPTION:
URL:https://www.7hills.org/event/m-instrumental-concert-8/
LOCATION:Schiff Center
CATEGORIES:All School
END:VEVENT
BEGIN:VEVENT
DTSTART;TZID=America/New_York:20250504T163000
DTEND;TZID=America/New_York:20250504T173000
DTSTAMP:20260422T050914
CREATED:20240710T142738Z
LAST-MODIFIED:20250218T131827Z
UID:24304-1746376200-1746379800@www.7hills.org
SUMMARY:U-Instrumental Concert
DESCRIPTION:
URL:https://www.7hills.org/event/u-instrumental-concert-7/
LOCATION:Schiff Center
CATEGORIES:All School
END:VEVENT
BEGIN:VEVENT
DTSTART;VALUE=DATE:20250505
DTEND;VALUE=DATE:20250510
DTSTAMP:20260422T050914
CREATED:20240710T152801Z
LAST-MODIFIED:20240710T152801Z
UID:24399-1746403200-1746835199@www.7hills.org
SUMMARY:U-AP Testing Week
DESCRIPTION:
URL:https://www.7hills.org/event/u-ap-testing-week/
CATEGORIES:All School
END:VEVENT
BEGIN:VEVENT
DTSTART;TZID=America/New_York:20250506T090000
DTEND;TZID=America/New_York:20250506T100000
DTSTAMP:20260422T050914
CREATED:20240709T150925Z
LAST-MODIFIED:20250415T115634Z
UID:24150-1746522000-1746525600@www.7hills.org
SUMMARY:U-Coffee with a College Counselor for 9-12 Grade Parents via Zoom
DESCRIPTION:For 9th-11th grade families- Coffee with a College Counselor: Year in Review\nFor 12th grade families- Leaving the Hive: Tips on Transitioning to College
URL:https://www.7hills.org/event/u-coffee-with-a-college-counselor-for-senior-parents-transition-to-college-via-zoom-2/
CATEGORIES:All School
END:VEVENT
END:VCALENDAR