BEGIN:VCALENDAR
VERSION:2.0
PRODID:-//Seven Hills School - ECPv6.15.20//NONSGML v1.0//EN
CALSCALE:GREGORIAN
METHOD:PUBLISH
X-WR-CALNAME:Seven Hills School
X-ORIGINAL-URL:https://www.7hills.org
X-WR-CALDESC:Events for Seven Hills School
REFRESH-INTERVAL;VALUE=DURATION:PT1H
X-Robots-Tag:noindex
X-PUBLISHED-TTL:PT1H
BEGIN:VTIMEZONE
TZID:America/New_York
BEGIN:DAYLIGHT
TZOFFSETFROM:-0500
TZOFFSETTO:-0400
TZNAME:EDT
DTSTART:20220313T070000
END:DAYLIGHT
BEGIN:STANDARD
TZOFFSETFROM:-0400
TZOFFSETTO:-0500
TZNAME:EST
DTSTART:20221106T060000
END:STANDARD
BEGIN:DAYLIGHT
TZOFFSETFROM:-0500
TZOFFSETTO:-0400
TZNAME:EDT
DTSTART:20230312T070000
END:DAYLIGHT
BEGIN:STANDARD
TZOFFSETFROM:-0400
TZOFFSETTO:-0500
TZNAME:EST
DTSTART:20231105T060000
END:STANDARD
BEGIN:DAYLIGHT
TZOFFSETFROM:-0500
TZOFFSETTO:-0400
TZNAME:EDT
DTSTART:20240310T070000
END:DAYLIGHT
BEGIN:STANDARD
TZOFFSETFROM:-0400
TZOFFSETTO:-0500
TZNAME:EST
DTSTART:20241103T060000
END:STANDARD
END:VTIMEZONE
BEGIN:VEVENT
DTSTART;TZID=America/New_York:20230908T083000
DTEND;TZID=America/New_York:20230908T093000
DTSTAMP:20260425T102052
CREATED:20230615T191147Z
LAST-MODIFIED:20230620T173241Z
UID:20775-1694161800-1694165400@www.7hills.org
SUMMARY:D-Doherty Parent Community Kick-Off
DESCRIPTION:
URL:https://www.7hills.org/event/d-doherty-parent-community-kick-off/
LOCATION:Bean & Barley
CATEGORIES:All School
END:VEVENT
BEGIN:VEVENT
DTSTART;TZID=America/New_York:20230908T183000
DTEND;TZID=America/New_York:20230908T203000
DTSTAMP:20260425T102052
CREATED:20230824T120838Z
LAST-MODIFIED:20230824T120838Z
UID:21636-1694197800-1694205000@www.7hills.org
SUMMARY:U-12th Grade Parent Social
DESCRIPTION:
URL:https://www.7hills.org/event/u-12th-grade-parent-social/
CATEGORIES:All School
END:VEVENT
BEGIN:VEVENT
DTSTART;VALUE=DATE:20230909
DTEND;VALUE=DATE:20230910
DTSTAMP:20260425T102052
CREATED:20230615T191338Z
LAST-MODIFIED:20230615T191338Z
UID:20777-1694217600-1694303999@www.7hills.org
SUMMARY:U-ACTs (off campus)
DESCRIPTION:
URL:https://www.7hills.org/event/u-acts-off-campus-7/
CATEGORIES:All School
END:VEVENT
BEGIN:VEVENT
DTSTART;TZID=America/New_York:20230909T173000
DTEND;TZID=America/New_York:20230909T193000
DTSTAMP:20260425T102052
CREATED:20230824T120808Z
LAST-MODIFIED:20230824T120808Z
UID:21635-1694280600-1694287800@www.7hills.org
SUMMARY:U-11th Grade Parent Social
DESCRIPTION:
URL:https://www.7hills.org/event/u-11th-grade-parent-social/
CATEGORIES:All School
END:VEVENT
BEGIN:VEVENT
DTSTART;VALUE=DATE:20230911
DTEND;VALUE=DATE:20230913
DTSTAMP:20260425T102052
CREATED:20230615T190549Z
LAST-MODIFIED:20230615T190549Z
UID:20766-1694390400-1694563199@www.7hills.org
SUMMARY:U-Picture Day
DESCRIPTION:
URL:https://www.7hills.org/event/u-picture-day-2/
CATEGORIES:All School
END:VEVENT
BEGIN:VEVENT
DTSTART;VALUE=DATE:20230911
DTEND;VALUE=DATE:20230916
DTSTAMP:20260425T102052
CREATED:20230615T191408Z
LAST-MODIFIED:20230615T191420Z
UID:20784-1694390400-1694822399@www.7hills.org
SUMMARY:M-8th Grd NC Trip
DESCRIPTION:
URL:https://www.7hills.org/event/m-8th-grd-leaves-for-nc-trip/
CATEGORIES:All School
END:VEVENT
BEGIN:VEVENT
DTSTART;TZID=America/New_York:20230912T090000
DTEND;TZID=America/New_York:20230912T220000
DTSTAMP:20260425T102052
CREATED:20230615T191557Z
LAST-MODIFIED:20230615T191557Z
UID:20786-1694509200-1694556000@www.7hills.org
SUMMARY:U-Coffee with a College Counselor: Making the Most of Fall via Zoom
DESCRIPTION:
URL:https://www.7hills.org/event/u-coffee-with-a-college-counselor-making-the-most-of-fall-via-zoom-3/
CATEGORIES:All School
END:VEVENT
BEGIN:VEVENT
DTSTART;TZID=America/New_York:20230913T120000
DTEND;TZID=America/New_York:20230913T130000
DTSTAMP:20260425T102052
CREATED:20230615T192040Z
LAST-MODIFIED:20230928T192633Z
UID:20789-1694606400-1694610000@www.7hills.org
SUMMARY:TSHS-Athletic Boosters Meeting
DESCRIPTION:
URL:https://www.7hills.org/event/tshs-athletic-boosters-meeting-4/
CATEGORIES:All School
END:VEVENT
BEGIN:VEVENT
DTSTART;TZID=America/New_York:20230913T180000
DTEND;TZID=America/New_York:20230913T190000
DTSTAMP:20260425T102052
CREATED:20230615T192109Z
LAST-MODIFIED:20230615T192109Z
UID:20799-1694628000-1694631600@www.7hills.org
SUMMARY:TSHS-Alumni Board Meeting
DESCRIPTION:
URL:https://www.7hills.org/event/tshs-alumni-board-meeting-6/
CATEGORIES:All School
END:VEVENT
BEGIN:VEVENT
DTSTART;VALUE=DATE:20230915
DTEND;VALUE=DATE:20230916
DTSTAMP:20260425T102052
CREATED:20230615T192250Z
LAST-MODIFIED:20230615T192250Z
UID:20801-1694736000-1694822399@www.7hills.org
SUMMARY:Rosh Hashana Begins at Sundown
DESCRIPTION:
URL:https://www.7hills.org/event/rosh-hashana-begins-at-sundown-4/
CATEGORIES:All School
END:VEVENT
BEGIN:VEVENT
DTSTART;VALUE=DATE:20230915
DTEND;VALUE=DATE:20230916
DTSTAMP:20260425T102052
CREATED:20230615T185610Z
LAST-MODIFIED:20230620T173204Z
UID:20748-1694736000-1694822399@www.7hills.org
SUMMARY:LatinX Heritage Month (9/15-10/15)
DESCRIPTION:
URL:https://www.7hills.org/event/latinx-heritage-month-9-15-10-15/
CATEGORIES:All School
END:VEVENT
BEGIN:VEVENT
DTSTART;TZID=America/New_York:20230915T080000
DTEND;TZID=America/New_York:20230915T120000
DTSTAMP:20260425T102052
CREATED:20230615T192214Z
LAST-MODIFIED:20230615T192214Z
UID:20800-1694764800-1694779200@www.7hills.org
SUMMARY:U-LatinX Panel & Workshops
DESCRIPTION:
URL:https://www.7hills.org/event/u-latinx-panel-workshops/
CATEGORIES:All School
END:VEVENT
BEGIN:VEVENT
DTSTART;VALUE=DATE:20230916
DTEND;VALUE=DATE:20230917
DTSTAMP:20260425T102052
CREATED:20230615T191514Z
LAST-MODIFIED:20230615T191514Z
UID:20785-1694822400-1694908799@www.7hills.org
SUMMARY:M-No School for 8th Grd
DESCRIPTION:
URL:https://www.7hills.org/event/m-no-school-for-8th-grd/
CATEGORIES:All School
END:VEVENT
BEGIN:VEVENT
DTSTART;VALUE=DATE:20230916
DTEND;VALUE=DATE:20230918
DTSTAMP:20260425T102052
CREATED:20230615T192335Z
LAST-MODIFIED:20230615T192335Z
UID:20802-1694822400-1694995199@www.7hills.org
SUMMARY:Rosh Hashana
DESCRIPTION:
URL:https://www.7hills.org/event/rosh-hashana-4/
CATEGORIES:All School
END:VEVENT
BEGIN:VEVENT
DTSTART;VALUE=DATE:20230918
DTEND;VALUE=DATE:20230919
DTSTAMP:20260425T102052
CREATED:20230616T152416Z
LAST-MODIFIED:20230616T153228Z
UID:20804-1694995200-1695081599@www.7hills.org
SUMMARY:TSHS-Grds 1-8 Winter Sports Registration Begins
DESCRIPTION:
URL:https://www.7hills.org/event/tshs-grds-1-8-winter-sports-registration-begins/
CATEGORIES:All School,Athletics
END:VEVENT
BEGIN:VEVENT
DTSTART;TZID=America/New_York:20230919T074500
DTEND;TZID=America/New_York:20230919T083000
DTSTAMP:20260425T102052
CREATED:20230807T171637Z
LAST-MODIFIED:20230807T171637Z
UID:21529-1695109500-1695112200@www.7hills.org
SUMMARY:U-US Parent Community Coffee with Dr. Bolton
DESCRIPTION:
URL:https://www.7hills.org/event/u-us-parent-community-coffee-with-dr-bolton/
CATEGORIES:All School
END:VEVENT
BEGIN:VEVENT
DTSTART;TZID=America/New_York:20230919T090000
DTEND;TZID=America/New_York:20230919T220000
DTSTAMP:20260425T102052
CREATED:20230616T153314Z
LAST-MODIFIED:20230616T153413Z
UID:20810-1695114000-1695160800@www.7hills.org
SUMMARY:Admissions-Walk & Talk at Lotspeich Lower School
DESCRIPTION:
URL:https://www.7hills.org/event/admissions-walk-talk-at-lotspeich/
CATEGORIES:Admission,All School
END:VEVENT
BEGIN:VEVENT
DTSTART;TZID=America/New_York:20230921T090000
DTEND;TZID=America/New_York:20230921T220000
DTSTAMP:20260425T102052
CREATED:20230616T153356Z
LAST-MODIFIED:20230616T153356Z
UID:20811-1695286800-1695333600@www.7hills.org
SUMMARY:Admissions-Walk & Talk at Doherty Lower School
DESCRIPTION:
URL:https://www.7hills.org/event/admissions-walk-talk-at-doherty-lower-school/
CATEGORIES:Admission,All School
END:VEVENT
BEGIN:VEVENT
DTSTART;VALUE=DATE:20230922
DTEND;VALUE=DATE:20230923
DTSTAMP:20260425T102052
CREATED:20230616T153901Z
LAST-MODIFIED:20230616T153901Z
UID:20818-1695340800-1695427199@www.7hills.org
SUMMARY:TSHS-50th Anniversary Kick-Off!
DESCRIPTION:
URL:https://www.7hills.org/event/tshs-50th-anniversary-kick-off/
CATEGORIES:All School
END:VEVENT
BEGIN:VEVENT
DTSTART;VALUE=DATE:20230922
DTEND;VALUE=DATE:20230924
DTSTAMP:20260425T102052
CREATED:20230616T153938Z
LAST-MODIFIED:20230616T153938Z
UID:20819-1695340800-1695513599@www.7hills.org
SUMMARY:TSHS-Homecoming Weekend
DESCRIPTION:
URL:https://www.7hills.org/event/tshs-homecoming-weekend/
CATEGORIES:All School,Alumni
END:VEVENT
BEGIN:VEVENT
DTSTART;TZID=America/New_York:20230922T170000
DTEND;TZID=America/New_York:20230923T190000
DTSTAMP:20260425T102052
CREATED:20230616T154021Z
LAST-MODIFIED:20230616T154021Z
UID:20820-1695402000-1695495600@www.7hills.org
SUMMARY:TSHS-All School Family Picnic
DESCRIPTION:
URL:https://www.7hills.org/event/tshs-all-school-family-picnic/
CATEGORIES:All School,Alumni
END:VEVENT
BEGIN:VEVENT
DTSTART;TZID=America/New_York:20230923T090000
DTEND;TZID=America/New_York:20230923T130000
DTSTAMP:20260425T102052
CREATED:20230615T184826Z
LAST-MODIFIED:20230615T184826Z
UID:20733-1695459600-1695474000@www.7hills.org
SUMMARY:TSHS-Board of Trustees Meeting
DESCRIPTION:
URL:https://www.7hills.org/event/tshs-board-of-trustees-meeting-4-2023-09-23/
CATEGORIES:All School
END:VEVENT
BEGIN:VEVENT
DTSTART;TZID=America/New_York:20230923T130000
DTEND;TZID=America/New_York:20230923T150000
DTSTAMP:20260425T102052
CREATED:20230616T154103Z
LAST-MODIFIED:20230620T173126Z
UID:20821-1695474000-1695481200@www.7hills.org
SUMMARY:TSHS-50th Anniversary Alumni Event
DESCRIPTION:
URL:https://www.7hills.org/event/tshs-50th-anniversary-alumni-event/
CATEGORIES:All School,Alumni
END:VEVENT
BEGIN:VEVENT
DTSTART;TZID=America/New_York:20230923T200000
DTEND;TZID=America/New_York:20230923T230000
DTSTAMP:20260425T102052
CREATED:20230616T154134Z
LAST-MODIFIED:20230620T173104Z
UID:20822-1695499200-1695510000@www.7hills.org
SUMMARY:U-Homecoming Dance
DESCRIPTION:
URL:https://www.7hills.org/event/u-homecoming-dance-4/
CATEGORIES:All School
END:VEVENT
BEGIN:VEVENT
DTSTART;VALUE=DATE:20230924
DTEND;VALUE=DATE:20230925
DTSTAMP:20260425T102052
CREATED:20230616T154211Z
LAST-MODIFIED:20230616T154257Z
UID:20823-1695513600-1695599999@www.7hills.org
SUMMARY:Yom Kippur Begins at Sundown
DESCRIPTION:
URL:https://www.7hills.org/event/yom-kippur-begins-at-sundown-5/
CATEGORIES:All School
END:VEVENT
BEGIN:VEVENT
DTSTART;VALUE=DATE:20230925
DTEND;VALUE=DATE:20230926
DTSTAMP:20260425T102052
CREATED:20230616T154242Z
LAST-MODIFIED:20230616T154242Z
UID:20824-1695600000-1695686399@www.7hills.org
SUMMARY:Yom Kippur
DESCRIPTION:
URL:https://www.7hills.org/event/yom-kippur-5/
CATEGORIES:All School
END:VEVENT
BEGIN:VEVENT
DTSTART;TZID=America/New_York:20230926T133000
DTEND;TZID=America/New_York:20230926T141500
DTSTAMP:20260425T102052
CREATED:20230616T154340Z
LAST-MODIFIED:20230616T154340Z
UID:20825-1695735000-1695737700@www.7hills.org
SUMMARY:Admissions-Questions & Conversations: Early Childhood via Zoom
DESCRIPTION:
URL:https://www.7hills.org/event/admissions-questions-conversations-early-childhood-via-zoom/
CATEGORIES:All School
END:VEVENT
BEGIN:VEVENT
DTSTART;TZID=America/New_York:20230927T180000
DTEND;TZID=America/New_York:20230927T200000
DTSTAMP:20260425T102052
CREATED:20230927T135859Z
LAST-MODIFIED:20230927T135859Z
UID:21864-1695837600-1695844800@www.7hills.org
SUMMARY:L-PreK Parent Social
DESCRIPTION:
URL:https://www.7hills.org/event/l-prek-parent-social/
LOCATION:50 West Brewing Company\, 7605 Wooster Pike\, Cincinnati\, OH\, 45227\, United States
CATEGORIES:All School
END:VEVENT
BEGIN:VEVENT
DTSTART;TZID=America/New_York:20230928T190000
DTEND;TZID=America/New_York:20230928T200000
DTSTAMP:20260425T102052
CREATED:20230927T135054Z
LAST-MODIFIED:20230927T135054Z
UID:21858-1695927600-1695931200@www.7hills.org
SUMMARY:D/L-Parents Euchre Night
DESCRIPTION:
URL:https://www.7hills.org/event/d-l-parents-euchre-night/
LOCATION:MadTree Brewery
CATEGORIES:All School
END:VEVENT
BEGIN:VEVENT
DTSTART;VALUE=DATE:20230929
DTEND;VALUE=DATE:20230930
DTSTAMP:20260425T102052
CREATED:20230616T152514Z
LAST-MODIFIED:20230616T153211Z
UID:20805-1695945600-1696031999@www.7hills.org
SUMMARY:TSHS-Grds 1-8 Winter Sports Registration Ends
DESCRIPTION:
URL:https://www.7hills.org/event/tshs-grds-1-8-winter-sports-registration-ends/
CATEGORIES:All School,Athletics
END:VEVENT
END:VCALENDAR