BEGIN:VCALENDAR
VERSION:2.0
PRODID:-//Seven Hills School - ECPv6.15.20//NONSGML v1.0//EN
CALSCALE:GREGORIAN
METHOD:PUBLISH
X-WR-CALNAME:Seven Hills School
X-ORIGINAL-URL:https://www.7hills.org
X-WR-CALDESC:Events for Seven Hills School
REFRESH-INTERVAL;VALUE=DURATION:PT1H
X-Robots-Tag:noindex
X-PUBLISHED-TTL:PT1H
BEGIN:VTIMEZONE
TZID:America/New_York
BEGIN:DAYLIGHT
TZOFFSETFROM:-0500
TZOFFSETTO:-0400
TZNAME:EDT
DTSTART:20250309T070000
END:DAYLIGHT
BEGIN:STANDARD
TZOFFSETFROM:-0400
TZOFFSETTO:-0500
TZNAME:EST
DTSTART:20251102T060000
END:STANDARD
BEGIN:DAYLIGHT
TZOFFSETFROM:-0500
TZOFFSETTO:-0400
TZNAME:EDT
DTSTART:20260308T070000
END:DAYLIGHT
BEGIN:STANDARD
TZOFFSETFROM:-0400
TZOFFSETTO:-0500
TZNAME:EST
DTSTART:20261101T060000
END:STANDARD
BEGIN:DAYLIGHT
TZOFFSETFROM:-0500
TZOFFSETTO:-0400
TZNAME:EDT
DTSTART:20270314T070000
END:DAYLIGHT
BEGIN:STANDARD
TZOFFSETFROM:-0400
TZOFFSETTO:-0500
TZNAME:EST
DTSTART:20271107T060000
END:STANDARD
END:VTIMEZONE
BEGIN:VEVENT
DTSTART;VALUE=DATE:20260420
DTEND;VALUE=DATE:20260422
DTSTAMP:20260420T050352
CREATED:20250718T184808Z
LAST-MODIFIED:20250718T184808Z
UID:27257-1776643200-1776815999@www.7hills.org
SUMMARY:D/L-Author Visit
DESCRIPTION:
URL:https://www.7hills.org/event/d-l-author-visit-3/
CATEGORIES:All School
END:VEVENT
BEGIN:VEVENT
DTSTART;TZID=America/New_York:20260421T110000
DTEND;TZID=America/New_York:20260421T122000
DTSTAMP:20260420T050352
CREATED:20250718T183404Z
LAST-MODIFIED:20250718T183404Z
UID:27233-1776769200-1776774000@www.7hills.org
SUMMARY:U-Challenge Sharing
DESCRIPTION:
URL:https://www.7hills.org/event/u-challenge-sharing-2/
CATEGORIES:All School
END:VEVENT
BEGIN:VEVENT
DTSTART;TZID=America/New_York:20260422T173000
DTEND;TZID=America/New_York:20260422T193000
DTSTAMP:20260420T050352
CREATED:20251210T130653Z
LAST-MODIFIED:20251210T130653Z
UID:28784-1776879000-1776886200@www.7hills.org
SUMMARY:TSHS-LEAD Together Series
DESCRIPTION:All parents are invited to the ISACS PARENT SERIES: “Happier Parenting with cognitive scientist and author Laurie Santos.” \nDinner and child care provided\, free of charge.
URL:https://www.7hills.org/event/tshs-lead-together-series-6/
LOCATION:Lotspeich Library\, 5400 Red Bank Road\, Cincinnati\, Ohio\, 45227\, United States
CATEGORIES:All School
END:VEVENT
BEGIN:VEVENT
DTSTART;VALUE=DATE:20260423
DTEND;VALUE=DATE:20260425
DTSTAMP:20260420T050352
CREATED:20250718T184839Z
LAST-MODIFIED:20250718T184839Z
UID:27258-1776902400-1777075199@www.7hills.org
SUMMARY:L-5th Grade Trip to Dearborn\, MI
DESCRIPTION:
URL:https://www.7hills.org/event/l-5th-grade-trip-to-dearborn-mi/
CATEGORIES:All School
END:VEVENT
BEGIN:VEVENT
DTSTART;TZID=America/New_York:20260423T160000
DTEND;TZID=America/New_York:20260423T160000
DTSTAMP:20260420T050352
CREATED:20250718T180410Z
LAST-MODIFIED:20250718T180410Z
UID:27189-1776960000-1776960000@www.7hills.org
SUMMARY:U-Play Invited Preview
DESCRIPTION:
URL:https://www.7hills.org/event/u-play-invited-preview-7/
CATEGORIES:All School
END:VEVENT
BEGIN:VEVENT
DTSTART;TZID=America/New_York:20260424T081500
DTEND;TZID=America/New_York:20260424T091500
DTSTAMP:20260420T050352
CREATED:20250718T184913Z
LAST-MODIFIED:20250718T184913Z
UID:27259-1777018500-1777022100@www.7hills.org
SUMMARY:M-Parent Community Meeting
DESCRIPTION:
URL:https://www.7hills.org/event/m-parent-community-meeting-10/
LOCATION:6th Grade Commons
CATEGORIES:All School
END:VEVENT
BEGIN:VEVENT
DTSTART;TZID=America/New_York:20260424T184500
DTEND;TZID=America/New_York:20260424T193000
DTSTAMP:20260420T050352
CREATED:20250718T184942Z
LAST-MODIFIED:20250718T184942Z
UID:27260-1777056300-1777059000@www.7hills.org
SUMMARY:U-New Student Reception
DESCRIPTION:
URL:https://www.7hills.org/event/u-new-student-reception-3/
CATEGORIES:All School
END:VEVENT
BEGIN:VEVENT
DTSTART;TZID=America/New_York:20260424T193000
DTEND;TZID=America/New_York:20260424T193000
DTSTAMP:20260420T050352
CREATED:20250718T180338Z
LAST-MODIFIED:20250718T180338Z
UID:27188-1777059000-1777059000@www.7hills.org
SUMMARY:U-Play
DESCRIPTION:
URL:https://www.7hills.org/event/u-play-32/
CATEGORIES:All School
END:VEVENT
BEGIN:VEVENT
DTSTART;TZID=America/New_York:20260425T140000
DTEND;TZID=America/New_York:20260425T140000
DTSTAMP:20260420T050352
CREATED:20250718T180318Z
LAST-MODIFIED:20250718T180318Z
UID:27187-1777125600-1777125600@www.7hills.org
SUMMARY:U-Play
DESCRIPTION:
URL:https://www.7hills.org/event/u-play-31/
CATEGORIES:All School
END:VEVENT
BEGIN:VEVENT
DTSTART;TZID=America/New_York:20260428T180000
DTEND;TZID=America/New_York:20260428T190000
DTSTAMP:20260420T050352
CREATED:20260220T185140Z
LAST-MODIFIED:20260407T181945Z
UID:29177-1777399200-1777402800@www.7hills.org
SUMMARY:U-Spanish Trip Parent Meeting
DESCRIPTION:
URL:https://www.7hills.org/event/u-spain-trip-parent-meeting/
LOCATION:Founders Hall\, The Seven Hills School\, 5400 Red Bank Road\, Cincinnati\, OH\, 45227\, United States
CATEGORIES:All School
END:VEVENT
BEGIN:VEVENT
DTSTART;VALUE=DATE:20260429
DTEND;VALUE=DATE:20260430
DTSTAMP:20260420T050352
CREATED:20250718T171210Z
LAST-MODIFIED:20260306T190207Z
UID:27096-1777420800-1777507199@www.7hills.org
SUMMARY:D/L/M-Grades 1-8 Fall Sports Registration Ends
DESCRIPTION:
URL:https://www.7hills.org/event/d-l-m-grades-1-8-fall-sports-registration-ends-2/
CATEGORIES:All School,Athletics
END:VEVENT
BEGIN:VEVENT
DTSTART;TZID=America/New_York:20260430T090000
DTEND;TZID=America/New_York:20260430T100000
DTSTAMP:20260420T050352
CREATED:20251210T130958Z
LAST-MODIFIED:20251210T130958Z
UID:28785-1777539600-1777543200@www.7hills.org
SUMMARY:TSHS-LEAD Together Series
DESCRIPTION:“Cincinnati Renewed Wellness: Transitions and Change” for Lower School parents
URL:https://www.7hills.org/event/tshs-lead-together-series-7/
LOCATION:Doherty Library
CATEGORIES:All School
END:VEVENT
BEGIN:VEVENT
DTSTART;TZID=America/New_York:20260430T100000
DTEND;TZID=America/New_York:20260430T113000
DTSTAMP:20260420T050352
CREATED:20250718T174014Z
LAST-MODIFIED:20250718T174014Z
UID:27143-1777543200-1777548600@www.7hills.org
SUMMARY:TSHS-Advisory Council Meeting
DESCRIPTION:
URL:https://www.7hills.org/event/tshs-advisory-council-meeting-13/
LOCATION:Lotspeich Library\, 5400 Red Bank Road\, Cincinnati\, Ohio\, 45227\, United States
CATEGORIES:All School
END:VEVENT
BEGIN:VEVENT
DTSTART;VALUE=DATE:20260501
DTEND;VALUE=DATE:20260502
DTSTAMP:20260420T050352
CREATED:20250718T185111Z
LAST-MODIFIED:20250718T185111Z
UID:27263-1777593600-1777679999@www.7hills.org
SUMMARY:U-Senior Circle
DESCRIPTION:
URL:https://www.7hills.org/event/u-senior-circle/
CATEGORIES:All School
END:VEVENT
BEGIN:VEVENT
DTSTART;VALUE=DATE:20260501
DTEND;VALUE=DATE:20260502
DTSTAMP:20260420T050352
CREATED:20250718T185132Z
LAST-MODIFIED:20250718T185132Z
UID:27264-1777593600-1777679999@www.7hills.org
SUMMARY:U-Campus Cookout
DESCRIPTION:
URL:https://www.7hills.org/event/u-campus-cookout/
CATEGORIES:All School
END:VEVENT
BEGIN:VEVENT
DTSTART;TZID=America/New_York:20260501T081500
DTEND;TZID=America/New_York:20260501T091500
DTSTAMP:20260420T050352
CREATED:20250718T164156Z
LAST-MODIFIED:20250718T164156Z
UID:27051-1777623300-1777626900@www.7hills.org
SUMMARY:M-Parent Community Meeting
DESCRIPTION:
URL:https://www.7hills.org/event/m-parent-community-meeting-9/
LOCATION:6th Grade Commons
CATEGORIES:All School
END:VEVENT
BEGIN:VEVENT
DTSTART;TZID=America/New_York:20260501T170000
DTEND;TZID=America/New_York:20260501T170000
DTSTAMP:20260420T050352
CREATED:20250718T185026Z
LAST-MODIFIED:20250718T185026Z
UID:27261-1777654800-1777654800@www.7hills.org
SUMMARY:D-Carnival
DESCRIPTION:
URL:https://www.7hills.org/event/d-carnival-5/
CATEGORIES:All School
END:VEVENT
BEGIN:VEVENT
DTSTART;TZID=America/New_York:20260501T173000
DTEND;TZID=America/New_York:20260501T173000
DTSTAMP:20260420T050352
CREATED:20250718T185045Z
LAST-MODIFIED:20250718T185045Z
UID:27262-1777656600-1777656600@www.7hills.org
SUMMARY:L-May Fete
DESCRIPTION:
URL:https://www.7hills.org/event/l-may-fete-5/
CATEGORIES:All School
END:VEVENT
BEGIN:VEVENT
DTSTART;VALUE=DATE:20260502
DTEND;VALUE=DATE:20260503
DTSTAMP:20260420T050352
CREATED:20250718T143855Z
LAST-MODIFIED:20250718T143855Z
UID:27000-1777680000-1777766399@www.7hills.org
SUMMARY:U-SATs (off campus)
DESCRIPTION:
URL:https://www.7hills.org/event/u-sats-off-campus-16/
CATEGORIES:All School
END:VEVENT
BEGIN:VEVENT
DTSTART;TZID=America/New_York:20260502T140000
DTEND;TZID=America/New_York:20260502T160000
DTSTAMP:20260420T050352
CREATED:20250718T185206Z
LAST-MODIFIED:20250718T185206Z
UID:27265-1777730400-1777737600@www.7hills.org
SUMMARY:TSHS-SNAAP Year-End Celebration
DESCRIPTION:
URL:https://www.7hills.org/event/tshs-snaap-year-end-celebration-6/
CATEGORIES:All School
END:VEVENT
BEGIN:VEVENT
DTSTART;TZID=America/New_York:20260503T140000
DTEND;TZID=America/New_York:20260503T150000
DTSTAMP:20260420T050352
CREATED:20250718T172408Z
LAST-MODIFIED:20250718T172408Z
UID:27114-1777816800-1777820400@www.7hills.org
SUMMARY:M-Intsrumental Concert
DESCRIPTION:
URL:https://www.7hills.org/event/m-intsrumental-concert/
CATEGORIES:All School
END:VEVENT
BEGIN:VEVENT
DTSTART;TZID=America/New_York:20260503T160000
DTEND;TZID=America/New_York:20260503T170000
DTSTAMP:20260420T050352
CREATED:20250718T172348Z
LAST-MODIFIED:20250718T172348Z
UID:27113-1777824000-1777827600@www.7hills.org
SUMMARY:U-Intsrumental Concert
DESCRIPTION:
URL:https://www.7hills.org/event/u-intsrumental-concert/
CATEGORIES:All School
END:VEVENT
BEGIN:VEVENT
DTSTART;VALUE=DATE:20260504
DTEND;VALUE=DATE:20260509
DTSTAMP:20260420T050352
CREATED:20250718T185237Z
LAST-MODIFIED:20250718T185237Z
UID:27266-1777852800-1778284799@www.7hills.org
SUMMARY:U-AP Testing Week
DESCRIPTION:
URL:https://www.7hills.org/event/u-ap-testing-week-3/
CATEGORIES:All School
END:VEVENT
BEGIN:VEVENT
DTSTART;TZID=America/New_York:20260505T090000
DTEND;TZID=America/New_York:20260505T100000
DTSTAMP:20260420T050352
CREATED:20250718T165416Z
LAST-MODIFIED:20250718T165416Z
UID:27069-1777971600-1777975200@www.7hills.org
SUMMARY:U-Coffee with a College Counselor for Senior Families via Zoom
DESCRIPTION:
URL:https://www.7hills.org/event/u-coffee-with-a-college-counselor-for-senior-families-via-zoom/
CATEGORIES:All School
END:VEVENT
BEGIN:VEVENT
DTSTART;TZID=America/New_York:20260506T083000
DTEND;TZID=America/New_York:20260506T093000
DTSTAMP:20260420T050352
CREATED:20250718T163918Z
LAST-MODIFIED:20250718T163918Z
UID:27047-1778056200-1778059800@www.7hills.org
SUMMARY:TSHS-Parent Community Board Meeting
DESCRIPTION:
URL:https://www.7hills.org/event/tshs-parent-community-board-meeting-18/
LOCATION:Heffner Alumni Conference Room
CATEGORIES:All School
END:VEVENT
BEGIN:VEVENT
DTSTART;TZID=America/New_York:20260506T180000
DTEND;TZID=America/New_York:20260506T190000
DTSTAMP:20260420T050352
CREATED:20250718T165808Z
LAST-MODIFIED:20250718T165808Z
UID:27073-1778090400-1778094000@www.7hills.org
SUMMARY:TSHS-Alumni Board Meeting
DESCRIPTION:
URL:https://www.7hills.org/event/tshs-alumni-board-meeting-15/
LOCATION:Briggs Conference Room\, 5400 Red Bank Road\, Cincinnati\, OH\, 45227\, United States
CATEGORIES:All School,Alumni
END:VEVENT
BEGIN:VEVENT
DTSTART;TZID=America/New_York:20260507T083000
DTEND;TZID=America/New_York:20260507T093000
DTSTAMP:20260420T050352
CREATED:20260416T140017Z
LAST-MODIFIED:20260416T140017Z
UID:29853-1778142600-1778146200@www.7hills.org
SUMMARY:TSHS-Technology Workshop for Parents
DESCRIPTION:
URL:https://www.7hills.org/event/tshs-technology-workshop-for-parents/
LOCATION:Lotspeich Library\, 5400 Red Bank Road\, Cincinnati\, Ohio\, 45227\, United States
CATEGORIES:All School
END:VEVENT
BEGIN:VEVENT
DTSTART;TZID=America/New_York:20260507T173000
DTEND;TZID=America/New_York:20260507T183000
DTSTAMP:20260420T050352
CREATED:20260416T140059Z
LAST-MODIFIED:20260416T140059Z
UID:29854-1778175000-1778178600@www.7hills.org
SUMMARY:TSHS-Technology Workshop for Parents
DESCRIPTION:
URL:https://www.7hills.org/event/tshs-technology-workshop-for-parents-2/
LOCATION:Young Family Library
CATEGORIES:All School
END:VEVENT
BEGIN:VEVENT
DTSTART;VALUE=DATE:20260511
DTEND;VALUE=DATE:20260516
DTSTAMP:20260420T050352
CREATED:20250718T185253Z
LAST-MODIFIED:20250718T185253Z
UID:27267-1778457600-1778889599@www.7hills.org
SUMMARY:U-AP Testing Week
DESCRIPTION:
URL:https://www.7hills.org/event/u-ap-testing-week-4/
CATEGORIES:All School
END:VEVENT
BEGIN:VEVENT
DTSTART;TZID=America/New_York:20260512T154500
DTEND;TZID=America/New_York:20260512T163000
DTSTAMP:20260420T050352
CREATED:20250718T185325Z
LAST-MODIFIED:20250718T185325Z
UID:27268-1778600700-1778603400@www.7hills.org
SUMMARY:M-New & Rising 6th Grade Ice Cream Social
DESCRIPTION:
URL:https://www.7hills.org/event/m-new-rising-6th-grade-ice-cream-social-2/
CATEGORIES:All School
END:VEVENT
END:VCALENDAR